BEGIN:VCALENDAR
VERSION:2.0
PRODID:-//Gold Ranch Casino &amp; RV Resort - ECPv6.15.13//NONSGML v1.0//EN
CALSCALE:GREGORIAN
METHOD:PUBLISH
X-WR-CALNAME:Gold Ranch Casino &amp; RV Resort
X-ORIGINAL-URL:https://goldranchrvcasino.com
X-WR-CALDESC:Events for Gold Ranch Casino &amp; RV Resort
REFRESH-INTERVAL;VALUE=DURATION:PT1H
X-Robots-Tag:noindex
X-PUBLISHED-TTL:PT1H
BEGIN:VTIMEZONE
TZID:America/Los_Angeles
BEGIN:DAYLIGHT
TZOFFSETFROM:-0800
TZOFFSETTO:-0700
TZNAME:PDT
DTSTART:20240310T100000
END:DAYLIGHT
BEGIN:STANDARD
TZOFFSETFROM:-0700
TZOFFSETTO:-0800
TZNAME:PST
DTSTART:20241103T090000
END:STANDARD
BEGIN:DAYLIGHT
TZOFFSETFROM:-0800
TZOFFSETTO:-0700
TZNAME:PDT
DTSTART:20250309T100000
END:DAYLIGHT
BEGIN:STANDARD
TZOFFSETFROM:-0700
TZOFFSETTO:-0800
TZNAME:PST
DTSTART:20251102T090000
END:STANDARD
BEGIN:DAYLIGHT
TZOFFSETFROM:-0800
TZOFFSETTO:-0700
TZNAME:PDT
DTSTART:20260308T100000
END:DAYLIGHT
BEGIN:STANDARD
TZOFFSETFROM:-0700
TZOFFSETTO:-0800
TZNAME:PST
DTSTART:20261101T090000
END:STANDARD
END:VTIMEZONE
BEGIN:VEVENT
DTSTART;TZID=America/Los_Angeles:20250601T000000
DTEND;TZID=America/Los_Angeles:20250601T235900
DTSTAMP:20260425T212417
CREATED:20231130T182426Z
LAST-MODIFIED:20251210T170231Z
UID:10021415-1748736000-1748822340@goldranchrvcasino.com
SUMMARY:Daily Swipe and Win
DESCRIPTION:Monday through Thursdays\, NOW ALL DAY! Swipe your card and win prizes such as FreePlay\, Comps\, points\, food\, discounts and more. Earn 300 points the previous day and get a bonus swipe for guaranteed.
URL:https://goldranchrvcasino.com/event/weekly-swipe-and-win-2/2025-06-01/
CATEGORIES:Featured,Promotions
ATTACH;FMTTYPE=image/jpeg:https://goldranchrvcasino.com/wp-content/uploads/2020/09/2020-AUG-GRV-DAILY-SAW-WEB-600X402.jpg
END:VEVENT
BEGIN:VEVENT
DTSTART;TZID=America/Los_Angeles:20250601T000000
DTEND;TZID=America/Los_Angeles:20250601T235900
DTSTAMP:20260425T212417
CREATED:20240930T193112Z
LAST-MODIFIED:20260102T220041Z
UID:10022124-1748736000-1748822340@goldranchrvcasino.com
SUMMARY:VIP Swipe
DESCRIPTION:Sundays\, all day!\nDiamond and Gold members enjoy an exclusive extra game each week\, with guaranteed FreePlay!
URL:https://goldranchrvcasino.com/event/vip-swipe/2025-06-01/
CATEGORIES:Featured,Promotions
ATTACH;FMTTYPE=image/jpeg:https://goldranchrvcasino.com/wp-content/uploads/2024/09/2024-10-rtr-vip-swipe-600x402-1.jpg
END:VEVENT
BEGIN:VEVENT
DTSTART;TZID=America/Los_Angeles:20250602T000000
DTEND;TZID=America/Los_Angeles:20250602T235900
DTSTAMP:20260425T212417
CREATED:20231130T182426Z
LAST-MODIFIED:20251210T170231Z
UID:10021416-1748822400-1748908740@goldranchrvcasino.com
SUMMARY:Daily Swipe and Win
DESCRIPTION:Monday through Thursdays\, NOW ALL DAY! Swipe your card and win prizes such as FreePlay\, Comps\, points\, food\, discounts and more. Earn 300 points the previous day and get a bonus swipe for guaranteed.
URL:https://goldranchrvcasino.com/event/weekly-swipe-and-win-2/2025-06-02/
CATEGORIES:Featured,Promotions
ATTACH;FMTTYPE=image/jpeg:https://goldranchrvcasino.com/wp-content/uploads/2020/09/2020-AUG-GRV-DAILY-SAW-WEB-600X402.jpg
END:VEVENT
BEGIN:VEVENT
DTSTART;TZID=America/Los_Angeles:20250603T000000
DTEND;TZID=America/Los_Angeles:20250603T235900
DTSTAMP:20260425T212417
CREATED:20231130T182426Z
LAST-MODIFIED:20251210T170231Z
UID:10021417-1748908800-1748995140@goldranchrvcasino.com
SUMMARY:Daily Swipe and Win
DESCRIPTION:Monday through Thursdays\, NOW ALL DAY! Swipe your card and win prizes such as FreePlay\, Comps\, points\, food\, discounts and more. Earn 300 points the previous day and get a bonus swipe for guaranteed.
URL:https://goldranchrvcasino.com/event/weekly-swipe-and-win-2/2025-06-03/
CATEGORIES:Featured,Promotions
ATTACH;FMTTYPE=image/jpeg:https://goldranchrvcasino.com/wp-content/uploads/2020/09/2020-AUG-GRV-DAILY-SAW-WEB-600X402.jpg
END:VEVENT
BEGIN:VEVENT
DTSTART;TZID=America/Los_Angeles:20250603T000000
DTEND;TZID=America/Los_Angeles:20250603T235900
DTSTAMP:20260425T212417
CREATED:20241029T222902Z
LAST-MODIFIED:20260302T230506Z
UID:10022450-1748908800-1748995140@goldranchrvcasino.com
SUMMARY:5X Point Multiplier
DESCRIPTION:Every Tuesday!\nAll day\, all machines! \nSwipe at the kiosk to activate.
URL:https://goldranchrvcasino.com/event/5x-point-multiplier/2025-06-03/
CATEGORIES:Featured,Promotions
ATTACH;FMTTYPE=image/jpeg:https://goldranchrvcasino.com/wp-content/uploads/2024/10/2024-11-GRV-5X-PTS-MULTI-600x402-1.jpg
END:VEVENT
BEGIN:VEVENT
DTSTART;TZID=America/Los_Angeles:20250604T000000
DTEND;TZID=America/Los_Angeles:20250604T235900
DTSTAMP:20260425T212417
CREATED:20231130T182426Z
LAST-MODIFIED:20251210T170231Z
UID:10021418-1748995200-1749081540@goldranchrvcasino.com
SUMMARY:Daily Swipe and Win
DESCRIPTION:Monday through Thursdays\, NOW ALL DAY! Swipe your card and win prizes such as FreePlay\, Comps\, points\, food\, discounts and more. Earn 300 points the previous day and get a bonus swipe for guaranteed.
URL:https://goldranchrvcasino.com/event/weekly-swipe-and-win-2/2025-06-04/
CATEGORIES:Featured,Promotions
ATTACH;FMTTYPE=image/jpeg:https://goldranchrvcasino.com/wp-content/uploads/2020/09/2020-AUG-GRV-DAILY-SAW-WEB-600X402.jpg
END:VEVENT
BEGIN:VEVENT
DTSTART;TZID=America/Los_Angeles:20250604T060000
DTEND;TZID=America/Los_Angeles:20250604T235900
DTSTAMP:20260425T212417
CREATED:20230801T210804Z
LAST-MODIFIED:20250603T173742Z
UID:10022541-1749016800-1749081540@goldranchrvcasino.com
SUMMARY:FAST TRACK TO FREEPLAY
DESCRIPTION:300 points = $10 in FreePlay. NOW ON WEDNESDAYS!!!!!!!!!! Redeem up to two times! All guests will receive 5X points all day on all  machines\, up to 5\,000 points! Must swipe at the  kiosk to activate. \n 
URL:https://goldranchrvcasino.com/event/fast-track-to-freeplay-2-2/2025-06-04/
CATEGORIES:Featured,Promotions
ATTACH;FMTTYPE=image/jpeg:https://goldranchrvcasino.com/wp-content/uploads/2022/01/2022-JAN-GRV-FAST-TRACK-2-FP-600x402-1.jpg
END:VEVENT
BEGIN:VEVENT
DTSTART;TZID=America/Los_Angeles:20250605T000000
DTEND;TZID=America/Los_Angeles:20250605T235900
DTSTAMP:20260425T212417
CREATED:20231130T182426Z
LAST-MODIFIED:20251210T170231Z
UID:10021419-1749081600-1749167940@goldranchrvcasino.com
SUMMARY:Daily Swipe and Win
DESCRIPTION:Monday through Thursdays\, NOW ALL DAY! Swipe your card and win prizes such as FreePlay\, Comps\, points\, food\, discounts and more. Earn 300 points the previous day and get a bonus swipe for guaranteed.
URL:https://goldranchrvcasino.com/event/weekly-swipe-and-win-2/2025-06-05/
CATEGORIES:Featured,Promotions
ATTACH;FMTTYPE=image/jpeg:https://goldranchrvcasino.com/wp-content/uploads/2020/09/2020-AUG-GRV-DAILY-SAW-WEB-600X402.jpg
END:VEVENT
BEGIN:VEVENT
DTSTART;TZID=America/Los_Angeles:20250605T000000
DTEND;TZID=America/Los_Angeles:20250605T235900
DTSTAMP:20260425T212417
CREATED:20240701T165604Z
LAST-MODIFIED:20260102T220254Z
UID:10019853-1749081600-1749167940@goldranchrvcasino.com
SUMMARY:Up to 10X Point Multiplier
DESCRIPTION:Every Thursday\, swipe your card at the kiosk to get your mystery multiplier for up to 10x points!
URL:https://goldranchrvcasino.com/event/up-to-10x-point-multiplier-2-2/2025-06-05/
CATEGORIES:Featured,Promotions
ATTACH;FMTTYPE=image/jpeg:https://goldranchrvcasino.com/wp-content/uploads/2024/02/10X-Point-Multiplier-WEB-600x402-1.jpg
END:VEVENT
BEGIN:VEVENT
DTSTART;TZID=America/Los_Angeles:20250606T140000
DTEND;TZID=America/Los_Angeles:20250606T210000
DTSTAMP:20260425T212417
CREATED:20250603T173244Z
LAST-MODIFIED:20250728T203934Z
UID:10009662-1749218400-1749243600@goldranchrvcasino.com
SUMMARY:Friday Night Fling
DESCRIPTION:IT’S BACK!!!  Slot Tournament each and every Friday evenings!  2pm-9pm.  Earn 25 points to play your first round.  Earn 250 points for a second round of play.  Paying the top 10 scores.  Highest score gets to choose $200 Cash or $250 FreePlay!  Prizes will vary.  See the Guest Service Center to see the prize display
URL:https://goldranchrvcasino.com/event/friday-night-fling-2-2-2-2/2025-06-06/
CATEGORIES:Featured,Promotions
ATTACH;FMTTYPE=image/jpeg:https://goldranchrvcasino.com/wp-content/uploads/2022/03/2022-APR-GRV-FRI-NIGHT-FLING-600x402-1.jpg
END:VEVENT
BEGIN:VEVENT
DTSTART;TZID=America/Los_Angeles:20250606T140000
DTEND;TZID=America/Los_Angeles:20250606T210000
DTSTAMP:20260425T212417
CREATED:20250603T173441Z
LAST-MODIFIED:20250603T173457Z
UID:10009680-1749218400-1749243600@goldranchrvcasino.com
SUMMARY:Locals Only No Lose Slot Tournament
DESCRIPTION:Earn 250 Points to participate. All locals with Silver tier and higher are guaranteed to win FreePlay! Claim your FreePlay from the promotional kiosk before midnight.\nFridays – 2:00pm – 9:00pm.
URL:https://goldranchrvcasino.com/event/locals-only-no-lose-slot-tournament-2/2025-06-06/
CATEGORIES:Featured,Promotions
ATTACH;FMTTYPE=image/jpeg:https://goldranchrvcasino.com/wp-content/uploads/2023/10/2023-NOV-GRV-No-Lose-Slot-Tourney-600x402-1.jpg
END:VEVENT
BEGIN:VEVENT
DTSTART;TZID=America/Los_Angeles:20250607T170000
DTEND;TZID=America/Los_Angeles:20250607T200000
DTSTAMP:20260425T212417
CREATED:20241230T222746Z
LAST-MODIFIED:20260102T220836Z
UID:10023463-1749315600-1749326400@goldranchrvcasino.com
SUMMARY:The Great Scratch Off
DESCRIPTION:15 winners each week! \nPick a game piece to reveal a prize or a lotto scratcher! If the prize is a scratcher\, yo ucan keep it or exchange for FreePlay. Last winner of the night wins $250 cash!
URL:https://goldranchrvcasino.com/event/the-great-scratch-off-grand-prize-drawing/2025-06-07/
CATEGORIES:Featured,Promotions
ATTACH;FMTTYPE=image/jpeg:https://goldranchrvcasino.com/wp-content/uploads/2024/12/2026-01-GRV-The-Great-Scratch-Off-600x402-1.jpg
END:VEVENT
BEGIN:VEVENT
DTSTART;TZID=America/Los_Angeles:20250608T000000
DTEND;TZID=America/Los_Angeles:20250608T235900
DTSTAMP:20260425T212417
CREATED:20231130T182426Z
LAST-MODIFIED:20251210T170231Z
UID:10021420-1749340800-1749427140@goldranchrvcasino.com
SUMMARY:Daily Swipe and Win
DESCRIPTION:Monday through Thursdays\, NOW ALL DAY! Swipe your card and win prizes such as FreePlay\, Comps\, points\, food\, discounts and more. Earn 300 points the previous day and get a bonus swipe for guaranteed.
URL:https://goldranchrvcasino.com/event/weekly-swipe-and-win-2/2025-06-08/
CATEGORIES:Featured,Promotions
ATTACH;FMTTYPE=image/jpeg:https://goldranchrvcasino.com/wp-content/uploads/2020/09/2020-AUG-GRV-DAILY-SAW-WEB-600X402.jpg
END:VEVENT
BEGIN:VEVENT
DTSTART;TZID=America/Los_Angeles:20250608T000000
DTEND;TZID=America/Los_Angeles:20250608T235900
DTSTAMP:20260425T212417
CREATED:20240930T193112Z
LAST-MODIFIED:20260102T220041Z
UID:10022125-1749340800-1749427140@goldranchrvcasino.com
SUMMARY:VIP Swipe
DESCRIPTION:Sundays\, all day!\nDiamond and Gold members enjoy an exclusive extra game each week\, with guaranteed FreePlay!
URL:https://goldranchrvcasino.com/event/vip-swipe/2025-06-08/
CATEGORIES:Featured,Promotions
ATTACH;FMTTYPE=image/jpeg:https://goldranchrvcasino.com/wp-content/uploads/2024/09/2024-10-rtr-vip-swipe-600x402-1.jpg
END:VEVENT
BEGIN:VEVENT
DTSTART;TZID=America/Los_Angeles:20250609T000000
DTEND;TZID=America/Los_Angeles:20250609T235900
DTSTAMP:20260425T212417
CREATED:20231130T182426Z
LAST-MODIFIED:20251210T170231Z
UID:10021421-1749427200-1749513540@goldranchrvcasino.com
SUMMARY:Daily Swipe and Win
DESCRIPTION:Monday through Thursdays\, NOW ALL DAY! Swipe your card and win prizes such as FreePlay\, Comps\, points\, food\, discounts and more. Earn 300 points the previous day and get a bonus swipe for guaranteed.
URL:https://goldranchrvcasino.com/event/weekly-swipe-and-win-2/2025-06-09/
CATEGORIES:Featured,Promotions
ATTACH;FMTTYPE=image/jpeg:https://goldranchrvcasino.com/wp-content/uploads/2020/09/2020-AUG-GRV-DAILY-SAW-WEB-600X402.jpg
END:VEVENT
BEGIN:VEVENT
DTSTART;TZID=America/Los_Angeles:20250610T000000
DTEND;TZID=America/Los_Angeles:20250610T235900
DTSTAMP:20260425T212417
CREATED:20231130T182426Z
LAST-MODIFIED:20251210T170231Z
UID:10021422-1749513600-1749599940@goldranchrvcasino.com
SUMMARY:Daily Swipe and Win
DESCRIPTION:Monday through Thursdays\, NOW ALL DAY! Swipe your card and win prizes such as FreePlay\, Comps\, points\, food\, discounts and more. Earn 300 points the previous day and get a bonus swipe for guaranteed.
URL:https://goldranchrvcasino.com/event/weekly-swipe-and-win-2/2025-06-10/
CATEGORIES:Featured,Promotions
ATTACH;FMTTYPE=image/jpeg:https://goldranchrvcasino.com/wp-content/uploads/2020/09/2020-AUG-GRV-DAILY-SAW-WEB-600X402.jpg
END:VEVENT
BEGIN:VEVENT
DTSTART;TZID=America/Los_Angeles:20250610T000000
DTEND;TZID=America/Los_Angeles:20250610T235900
DTSTAMP:20260425T212417
CREATED:20241029T222902Z
LAST-MODIFIED:20260302T230506Z
UID:10022451-1749513600-1749599940@goldranchrvcasino.com
SUMMARY:5X Point Multiplier
DESCRIPTION:Every Tuesday!\nAll day\, all machines! \nSwipe at the kiosk to activate.
URL:https://goldranchrvcasino.com/event/5x-point-multiplier/2025-06-10/
CATEGORIES:Featured,Promotions
ATTACH;FMTTYPE=image/jpeg:https://goldranchrvcasino.com/wp-content/uploads/2024/10/2024-11-GRV-5X-PTS-MULTI-600x402-1.jpg
END:VEVENT
BEGIN:VEVENT
DTSTART;TZID=America/Los_Angeles:20250611T000000
DTEND;TZID=America/Los_Angeles:20250611T235900
DTSTAMP:20260425T212417
CREATED:20231130T182426Z
LAST-MODIFIED:20251210T170231Z
UID:10021423-1749600000-1749686340@goldranchrvcasino.com
SUMMARY:Daily Swipe and Win
DESCRIPTION:Monday through Thursdays\, NOW ALL DAY! Swipe your card and win prizes such as FreePlay\, Comps\, points\, food\, discounts and more. Earn 300 points the previous day and get a bonus swipe for guaranteed.
URL:https://goldranchrvcasino.com/event/weekly-swipe-and-win-2/2025-06-11/
CATEGORIES:Featured,Promotions
ATTACH;FMTTYPE=image/jpeg:https://goldranchrvcasino.com/wp-content/uploads/2020/09/2020-AUG-GRV-DAILY-SAW-WEB-600X402.jpg
END:VEVENT
BEGIN:VEVENT
DTSTART;TZID=America/Los_Angeles:20250611T060000
DTEND;TZID=America/Los_Angeles:20250611T235900
DTSTAMP:20260425T212417
CREATED:20230801T210804Z
LAST-MODIFIED:20250603T173742Z
UID:10022542-1749621600-1749686340@goldranchrvcasino.com
SUMMARY:FAST TRACK TO FREEPLAY
DESCRIPTION:300 points = $10 in FreePlay. NOW ON WEDNESDAYS!!!!!!!!!! Redeem up to two times! All guests will receive 5X points all day on all  machines\, up to 5\,000 points! Must swipe at the  kiosk to activate. \n 
URL:https://goldranchrvcasino.com/event/fast-track-to-freeplay-2-2/2025-06-11/
CATEGORIES:Featured,Promotions
ATTACH;FMTTYPE=image/jpeg:https://goldranchrvcasino.com/wp-content/uploads/2022/01/2022-JAN-GRV-FAST-TRACK-2-FP-600x402-1.jpg
END:VEVENT
BEGIN:VEVENT
DTSTART;TZID=America/Los_Angeles:20250612T000000
DTEND;TZID=America/Los_Angeles:20250612T235900
DTSTAMP:20260425T212417
CREATED:20231130T182426Z
LAST-MODIFIED:20251210T170231Z
UID:10021424-1749686400-1749772740@goldranchrvcasino.com
SUMMARY:Daily Swipe and Win
DESCRIPTION:Monday through Thursdays\, NOW ALL DAY! Swipe your card and win prizes such as FreePlay\, Comps\, points\, food\, discounts and more. Earn 300 points the previous day and get a bonus swipe for guaranteed.
URL:https://goldranchrvcasino.com/event/weekly-swipe-and-win-2/2025-06-12/
CATEGORIES:Featured,Promotions
ATTACH;FMTTYPE=image/jpeg:https://goldranchrvcasino.com/wp-content/uploads/2020/09/2020-AUG-GRV-DAILY-SAW-WEB-600X402.jpg
END:VEVENT
BEGIN:VEVENT
DTSTART;TZID=America/Los_Angeles:20250612T000000
DTEND;TZID=America/Los_Angeles:20250612T235900
DTSTAMP:20260425T212417
CREATED:20240701T165604Z
LAST-MODIFIED:20260102T220254Z
UID:10019854-1749686400-1749772740@goldranchrvcasino.com
SUMMARY:Up to 10X Point Multiplier
DESCRIPTION:Every Thursday\, swipe your card at the kiosk to get your mystery multiplier for up to 10x points!
URL:https://goldranchrvcasino.com/event/up-to-10x-point-multiplier-2-2/2025-06-12/
CATEGORIES:Featured,Promotions
ATTACH;FMTTYPE=image/jpeg:https://goldranchrvcasino.com/wp-content/uploads/2024/02/10X-Point-Multiplier-WEB-600x402-1.jpg
END:VEVENT
BEGIN:VEVENT
DTSTART;TZID=America/Los_Angeles:20250613T140000
DTEND;TZID=America/Los_Angeles:20250613T210000
DTSTAMP:20260425T212417
CREATED:20250603T173244Z
LAST-MODIFIED:20250728T203934Z
UID:10022518-1749823200-1749848400@goldranchrvcasino.com
SUMMARY:Friday Night Fling
DESCRIPTION:IT’S BACK!!!  Slot Tournament each and every Friday evenings!  2pm-9pm.  Earn 25 points to play your first round.  Earn 250 points for a second round of play.  Paying the top 10 scores.  Highest score gets to choose $200 Cash or $250 FreePlay!  Prizes will vary.  See the Guest Service Center to see the prize display
URL:https://goldranchrvcasino.com/event/friday-night-fling-2-2-2-2/2025-06-13/
CATEGORIES:Featured,Promotions
ATTACH;FMTTYPE=image/jpeg:https://goldranchrvcasino.com/wp-content/uploads/2022/03/2022-APR-GRV-FRI-NIGHT-FLING-600x402-1.jpg
END:VEVENT
BEGIN:VEVENT
DTSTART;TZID=America/Los_Angeles:20250613T140000
DTEND;TZID=America/Los_Angeles:20250613T210000
DTSTAMP:20260425T212417
CREATED:20250603T173441Z
LAST-MODIFIED:20250603T173457Z
UID:10022525-1749823200-1749848400@goldranchrvcasino.com
SUMMARY:Locals Only No Lose Slot Tournament
DESCRIPTION:Earn 250 Points to participate. All locals with Silver tier and higher are guaranteed to win FreePlay! Claim your FreePlay from the promotional kiosk before midnight.\nFridays – 2:00pm – 9:00pm.
URL:https://goldranchrvcasino.com/event/locals-only-no-lose-slot-tournament-2/2025-06-13/
CATEGORIES:Featured,Promotions
ATTACH;FMTTYPE=image/jpeg:https://goldranchrvcasino.com/wp-content/uploads/2023/10/2023-NOV-GRV-No-Lose-Slot-Tourney-600x402-1.jpg
END:VEVENT
BEGIN:VEVENT
DTSTART;TZID=America/Los_Angeles:20250614T170000
DTEND;TZID=America/Los_Angeles:20250614T200000
DTSTAMP:20260425T212417
CREATED:20241230T222746Z
LAST-MODIFIED:20260102T220836Z
UID:10023464-1749920400-1749931200@goldranchrvcasino.com
SUMMARY:The Great Scratch Off
DESCRIPTION:15 winners each week! \nPick a game piece to reveal a prize or a lotto scratcher! If the prize is a scratcher\, yo ucan keep it or exchange for FreePlay. Last winner of the night wins $250 cash!
URL:https://goldranchrvcasino.com/event/the-great-scratch-off-grand-prize-drawing/2025-06-14/
CATEGORIES:Featured,Promotions
ATTACH;FMTTYPE=image/jpeg:https://goldranchrvcasino.com/wp-content/uploads/2024/12/2026-01-GRV-The-Great-Scratch-Off-600x402-1.jpg
END:VEVENT
BEGIN:VEVENT
DTSTART;TZID=America/Los_Angeles:20250615T000000
DTEND;TZID=America/Los_Angeles:20250615T235900
DTSTAMP:20260425T212417
CREATED:20231130T182426Z
LAST-MODIFIED:20251210T170231Z
UID:10021425-1749945600-1750031940@goldranchrvcasino.com
SUMMARY:Daily Swipe and Win
DESCRIPTION:Monday through Thursdays\, NOW ALL DAY! Swipe your card and win prizes such as FreePlay\, Comps\, points\, food\, discounts and more. Earn 300 points the previous day and get a bonus swipe for guaranteed.
URL:https://goldranchrvcasino.com/event/weekly-swipe-and-win-2/2025-06-15/
CATEGORIES:Featured,Promotions
ATTACH;FMTTYPE=image/jpeg:https://goldranchrvcasino.com/wp-content/uploads/2020/09/2020-AUG-GRV-DAILY-SAW-WEB-600X402.jpg
END:VEVENT
BEGIN:VEVENT
DTSTART;TZID=America/Los_Angeles:20250615T000000
DTEND;TZID=America/Los_Angeles:20250615T235900
DTSTAMP:20260425T212417
CREATED:20240930T193112Z
LAST-MODIFIED:20260102T220041Z
UID:10022126-1749945600-1750031940@goldranchrvcasino.com
SUMMARY:VIP Swipe
DESCRIPTION:Sundays\, all day!\nDiamond and Gold members enjoy an exclusive extra game each week\, with guaranteed FreePlay!
URL:https://goldranchrvcasino.com/event/vip-swipe/2025-06-15/
CATEGORIES:Featured,Promotions
ATTACH;FMTTYPE=image/jpeg:https://goldranchrvcasino.com/wp-content/uploads/2024/09/2024-10-rtr-vip-swipe-600x402-1.jpg
END:VEVENT
BEGIN:VEVENT
DTSTART;TZID=America/Los_Angeles:20250616T000000
DTEND;TZID=America/Los_Angeles:20250616T235900
DTSTAMP:20260425T212417
CREATED:20231130T182426Z
LAST-MODIFIED:20251210T170231Z
UID:10021426-1750032000-1750118340@goldranchrvcasino.com
SUMMARY:Daily Swipe and Win
DESCRIPTION:Monday through Thursdays\, NOW ALL DAY! Swipe your card and win prizes such as FreePlay\, Comps\, points\, food\, discounts and more. Earn 300 points the previous day and get a bonus swipe for guaranteed.
URL:https://goldranchrvcasino.com/event/weekly-swipe-and-win-2/2025-06-16/
CATEGORIES:Featured,Promotions
ATTACH;FMTTYPE=image/jpeg:https://goldranchrvcasino.com/wp-content/uploads/2020/09/2020-AUG-GRV-DAILY-SAW-WEB-600X402.jpg
END:VEVENT
BEGIN:VEVENT
DTSTART;TZID=America/Los_Angeles:20250617T000000
DTEND;TZID=America/Los_Angeles:20250617T235900
DTSTAMP:20260425T212417
CREATED:20231130T182426Z
LAST-MODIFIED:20251210T170231Z
UID:10021427-1750118400-1750204740@goldranchrvcasino.com
SUMMARY:Daily Swipe and Win
DESCRIPTION:Monday through Thursdays\, NOW ALL DAY! Swipe your card and win prizes such as FreePlay\, Comps\, points\, food\, discounts and more. Earn 300 points the previous day and get a bonus swipe for guaranteed.
URL:https://goldranchrvcasino.com/event/weekly-swipe-and-win-2/2025-06-17/
CATEGORIES:Featured,Promotions
ATTACH;FMTTYPE=image/jpeg:https://goldranchrvcasino.com/wp-content/uploads/2020/09/2020-AUG-GRV-DAILY-SAW-WEB-600X402.jpg
END:VEVENT
BEGIN:VEVENT
DTSTART;TZID=America/Los_Angeles:20250617T000000
DTEND;TZID=America/Los_Angeles:20250617T235900
DTSTAMP:20260425T212417
CREATED:20241029T222902Z
LAST-MODIFIED:20260302T230506Z
UID:10022452-1750118400-1750204740@goldranchrvcasino.com
SUMMARY:5X Point Multiplier
DESCRIPTION:Every Tuesday!\nAll day\, all machines! \nSwipe at the kiosk to activate.
URL:https://goldranchrvcasino.com/event/5x-point-multiplier/2025-06-17/
CATEGORIES:Featured,Promotions
ATTACH;FMTTYPE=image/jpeg:https://goldranchrvcasino.com/wp-content/uploads/2024/10/2024-11-GRV-5X-PTS-MULTI-600x402-1.jpg
END:VEVENT
BEGIN:VEVENT
DTSTART;TZID=America/Los_Angeles:20250618T000000
DTEND;TZID=America/Los_Angeles:20250618T235900
DTSTAMP:20260425T212417
CREATED:20231130T182426Z
LAST-MODIFIED:20251210T170231Z
UID:10021428-1750204800-1750291140@goldranchrvcasino.com
SUMMARY:Daily Swipe and Win
DESCRIPTION:Monday through Thursdays\, NOW ALL DAY! Swipe your card and win prizes such as FreePlay\, Comps\, points\, food\, discounts and more. Earn 300 points the previous day and get a bonus swipe for guaranteed.
URL:https://goldranchrvcasino.com/event/weekly-swipe-and-win-2/2025-06-18/
CATEGORIES:Featured,Promotions
ATTACH;FMTTYPE=image/jpeg:https://goldranchrvcasino.com/wp-content/uploads/2020/09/2020-AUG-GRV-DAILY-SAW-WEB-600X402.jpg
END:VEVENT
END:VCALENDAR