BEGIN:VCALENDAR
VERSION:2.0
PRODID:-//Gold Ranch Casino &amp; RV Resort - ECPv6.15.13//NONSGML v1.0//EN
CALSCALE:GREGORIAN
METHOD:PUBLISH
X-WR-CALNAME:Gold Ranch Casino &amp; RV Resort
X-ORIGINAL-URL:https://goldranchrvcasino.com
X-WR-CALDESC:Events for Gold Ranch Casino &amp; RV Resort
REFRESH-INTERVAL;VALUE=DURATION:PT1H
X-Robots-Tag:noindex
X-PUBLISHED-TTL:PT1H
BEGIN:VTIMEZONE
TZID:America/Los_Angeles
BEGIN:DAYLIGHT
TZOFFSETFROM:-0800
TZOFFSETTO:-0700
TZNAME:PDT
DTSTART:20240310T100000
END:DAYLIGHT
BEGIN:STANDARD
TZOFFSETFROM:-0700
TZOFFSETTO:-0800
TZNAME:PST
DTSTART:20241103T090000
END:STANDARD
BEGIN:DAYLIGHT
TZOFFSETFROM:-0800
TZOFFSETTO:-0700
TZNAME:PDT
DTSTART:20250309T100000
END:DAYLIGHT
BEGIN:STANDARD
TZOFFSETFROM:-0700
TZOFFSETTO:-0800
TZNAME:PST
DTSTART:20251102T090000
END:STANDARD
BEGIN:DAYLIGHT
TZOFFSETFROM:-0800
TZOFFSETTO:-0700
TZNAME:PDT
DTSTART:20260308T100000
END:DAYLIGHT
BEGIN:STANDARD
TZOFFSETFROM:-0700
TZOFFSETTO:-0800
TZNAME:PST
DTSTART:20261101T090000
END:STANDARD
END:VTIMEZONE
BEGIN:VEVENT
DTSTART;TZID=America/Los_Angeles:20251001T000000
DTEND;TZID=America/Los_Angeles:20251001T235900
DTSTAMP:20260425T135907
CREATED:20231130T182426Z
LAST-MODIFIED:20251210T170231Z
UID:10022727-1759276800-1759363140@goldranchrvcasino.com
SUMMARY:Daily Swipe and Win
DESCRIPTION:Monday through Thursdays\, NOW ALL DAY! Swipe your card and win prizes such as FreePlay\, Comps\, points\, food\, discounts and more. Earn 300 points the previous day and get a bonus swipe for guaranteed.
URL:https://goldranchrvcasino.com/event/weekly-swipe-and-win-2/2025-10-01/
CATEGORIES:Featured,Promotions
ATTACH;FMTTYPE=image/jpeg:https://goldranchrvcasino.com/wp-content/uploads/2020/09/2020-AUG-GRV-DAILY-SAW-WEB-600X402.jpg
END:VEVENT
BEGIN:VEVENT
DTSTART;TZID=America/Los_Angeles:20251001T060000
DTEND;TZID=America/Los_Angeles:20251001T235900
DTSTAMP:20260425T135907
CREATED:20250901T171530Z
LAST-MODIFIED:20260102T220201Z
UID:10022664-1759298400-1759363140@goldranchrvcasino.com
SUMMARY:FAST TRACK TO FREEPLAY
DESCRIPTION:300 points = $10 in FreePlay. NOW ON WEDNESDAYS!!!!!!!!!! Redeem up to two times! All guests will receive 5X points all day on all  machines\, up to 5\,000 points! Must swipe at the  kiosk to activate. \n 
URL:https://goldranchrvcasino.com/event/fast-track-to-freeplay-2-2-2/2025-10-01/
CATEGORIES:Featured,Promotions
ATTACH;FMTTYPE=image/jpeg:https://goldranchrvcasino.com/wp-content/uploads/2022/01/2022-JAN-GRV-FAST-TRACK-2-FP-600x402-1.jpg
END:VEVENT
BEGIN:VEVENT
DTSTART;TZID=America/Los_Angeles:20251002T000000
DTEND;TZID=America/Los_Angeles:20251002T235900
DTSTAMP:20260425T135907
CREATED:20231130T182426Z
LAST-MODIFIED:20251210T170231Z
UID:10022728-1759363200-1759449540@goldranchrvcasino.com
SUMMARY:Daily Swipe and Win
DESCRIPTION:Monday through Thursdays\, NOW ALL DAY! Swipe your card and win prizes such as FreePlay\, Comps\, points\, food\, discounts and more. Earn 300 points the previous day and get a bonus swipe for guaranteed.
URL:https://goldranchrvcasino.com/event/weekly-swipe-and-win-2/2025-10-02/
CATEGORIES:Featured,Promotions
ATTACH;FMTTYPE=image/jpeg:https://goldranchrvcasino.com/wp-content/uploads/2020/09/2020-AUG-GRV-DAILY-SAW-WEB-600X402.jpg
END:VEVENT
BEGIN:VEVENT
DTSTART;TZID=America/Los_Angeles:20251002T000000
DTEND;TZID=America/Los_Angeles:20251002T235900
DTSTAMP:20260425T135907
CREATED:20240701T165604Z
LAST-MODIFIED:20260102T220254Z
UID:10022692-1759363200-1759449540@goldranchrvcasino.com
SUMMARY:Up to 10X Point Multiplier
DESCRIPTION:Every Thursday\, swipe your card at the kiosk to get your mystery multiplier for up to 10x points!
URL:https://goldranchrvcasino.com/event/up-to-10x-point-multiplier-2-2/2025-10-02/
CATEGORIES:Featured,Promotions
ATTACH;FMTTYPE=image/jpeg:https://goldranchrvcasino.com/wp-content/uploads/2024/02/10X-Point-Multiplier-WEB-600x402-1.jpg
END:VEVENT
BEGIN:VEVENT
DTSTART;TZID=America/Los_Angeles:20251002T000000
DTEND;TZID=America/Los_Angeles:20251002T235900
DTSTAMP:20260425T135907
CREATED:20250929T185627Z
LAST-MODIFIED:20250929T185627Z
UID:10022640-1759363200-1759449540@goldranchrvcasino.com
SUMMARY:Earn & Get: Get a 4 Pack!
DESCRIPTION:Earn up to two four packs every Thursday in October!\nEarn 200 points for one 4-pack.\nEarn another 200 points for a 2nd 4-pack.
URL:https://goldranchrvcasino.com/event/earn-get-get-a-4-pack/2025-10-02/
CATEGORIES:Featured,Promotions
ATTACH;FMTTYPE=image/jpeg:https://goldranchrvcasino.com/wp-content/uploads/2025/09/2025-10-GRV-Lago-Dorado-EAG-600x402-1.jpg
END:VEVENT
BEGIN:VEVENT
DTSTART;TZID=America/Los_Angeles:20251004T170000
DTEND;TZID=America/Los_Angeles:20251004T200000
DTSTAMP:20260425T135907
CREATED:20241230T222746Z
LAST-MODIFIED:20260102T220836Z
UID:10023480-1759597200-1759608000@goldranchrvcasino.com
SUMMARY:The Great Scratch Off
DESCRIPTION:15 winners each week! \nPick a game piece to reveal a prize or a lotto scratcher! If the prize is a scratcher\, yo ucan keep it or exchange for FreePlay. Last winner of the night wins $250 cash!
URL:https://goldranchrvcasino.com/event/the-great-scratch-off-grand-prize-drawing/2025-10-04/
CATEGORIES:Featured,Promotions
ATTACH;FMTTYPE=image/jpeg:https://goldranchrvcasino.com/wp-content/uploads/2024/12/2026-01-GRV-The-Great-Scratch-Off-600x402-1.jpg
END:VEVENT
BEGIN:VEVENT
DTSTART;TZID=America/Los_Angeles:20251004T170000
DTEND;TZID=America/Los_Angeles:20251004T200000
DTSTAMP:20260425T135907
CREATED:20250929T185921Z
LAST-MODIFIED:20250929T185921Z
UID:10022645-1759597200-1759608000@goldranchrvcasino.com
SUMMARY:$1\,300 Wicked Wheel
DESCRIPTION:Last winner of the night will collect all of the remaining wicked winnings!\nSaturdays 5pm-8pm\n10 Winners every Saturday!
URL:https://goldranchrvcasino.com/event/1300-wicked-wheel/2025-10-04/
CATEGORIES:Featured,Promotions
ATTACH;FMTTYPE=image/jpeg:https://goldranchrvcasino.com/wp-content/uploads/2025/09/WICKED-WHEEL-600x402-1.jpg
END:VEVENT
BEGIN:VEVENT
DTSTART;TZID=America/Los_Angeles:20251005T000000
DTEND;TZID=America/Los_Angeles:20251005T235900
DTSTAMP:20260425T135907
CREATED:20231130T182426Z
LAST-MODIFIED:20251210T170231Z
UID:10022729-1759622400-1759708740@goldranchrvcasino.com
SUMMARY:Daily Swipe and Win
DESCRIPTION:Monday through Thursdays\, NOW ALL DAY! Swipe your card and win prizes such as FreePlay\, Comps\, points\, food\, discounts and more. Earn 300 points the previous day and get a bonus swipe for guaranteed.
URL:https://goldranchrvcasino.com/event/weekly-swipe-and-win-2/2025-10-05/
CATEGORIES:Featured,Promotions
ATTACH;FMTTYPE=image/jpeg:https://goldranchrvcasino.com/wp-content/uploads/2020/09/2020-AUG-GRV-DAILY-SAW-WEB-600X402.jpg
END:VEVENT
BEGIN:VEVENT
DTSTART;TZID=America/Los_Angeles:20251005T000000
DTEND;TZID=America/Los_Angeles:20251005T235900
DTSTAMP:20260425T135907
CREATED:20240930T193112Z
LAST-MODIFIED:20260102T220041Z
UID:10022142-1759622400-1759708740@goldranchrvcasino.com
SUMMARY:VIP Swipe
DESCRIPTION:Sundays\, all day!\nDiamond and Gold members enjoy an exclusive extra game each week\, with guaranteed FreePlay!
URL:https://goldranchrvcasino.com/event/vip-swipe/2025-10-05/
CATEGORIES:Featured,Promotions
ATTACH;FMTTYPE=image/jpeg:https://goldranchrvcasino.com/wp-content/uploads/2024/09/2024-10-rtr-vip-swipe-600x402-1.jpg
END:VEVENT
BEGIN:VEVENT
DTSTART;TZID=America/Los_Angeles:20251006T000000
DTEND;TZID=America/Los_Angeles:20251006T235900
DTSTAMP:20260425T135907
CREATED:20231130T182426Z
LAST-MODIFIED:20251210T170231Z
UID:10022730-1759708800-1759795140@goldranchrvcasino.com
SUMMARY:Daily Swipe and Win
DESCRIPTION:Monday through Thursdays\, NOW ALL DAY! Swipe your card and win prizes such as FreePlay\, Comps\, points\, food\, discounts and more. Earn 300 points the previous day and get a bonus swipe for guaranteed.
URL:https://goldranchrvcasino.com/event/weekly-swipe-and-win-2/2025-10-06/
CATEGORIES:Featured,Promotions
ATTACH;FMTTYPE=image/jpeg:https://goldranchrvcasino.com/wp-content/uploads/2020/09/2020-AUG-GRV-DAILY-SAW-WEB-600X402.jpg
END:VEVENT
BEGIN:VEVENT
DTSTART;TZID=America/Los_Angeles:20251007T000000
DTEND;TZID=America/Los_Angeles:20251007T235900
DTSTAMP:20260425T135907
CREATED:20231130T182426Z
LAST-MODIFIED:20251210T170231Z
UID:10022731-1759795200-1759881540@goldranchrvcasino.com
SUMMARY:Daily Swipe and Win
DESCRIPTION:Monday through Thursdays\, NOW ALL DAY! Swipe your card and win prizes such as FreePlay\, Comps\, points\, food\, discounts and more. Earn 300 points the previous day and get a bonus swipe for guaranteed.
URL:https://goldranchrvcasino.com/event/weekly-swipe-and-win-2/2025-10-07/
CATEGORIES:Featured,Promotions
ATTACH;FMTTYPE=image/jpeg:https://goldranchrvcasino.com/wp-content/uploads/2020/09/2020-AUG-GRV-DAILY-SAW-WEB-600X402.jpg
END:VEVENT
BEGIN:VEVENT
DTSTART;TZID=America/Los_Angeles:20251007T000000
DTEND;TZID=America/Los_Angeles:20251007T235900
DTSTAMP:20260425T135907
CREATED:20241029T222902Z
LAST-MODIFIED:20260302T230506Z
UID:10022673-1759795200-1759881540@goldranchrvcasino.com
SUMMARY:5X Point Multiplier
DESCRIPTION:Every Tuesday!\nAll day\, all machines! \nSwipe at the kiosk to activate.
URL:https://goldranchrvcasino.com/event/5x-point-multiplier/2025-10-07/
CATEGORIES:Featured,Promotions
ATTACH;FMTTYPE=image/jpeg:https://goldranchrvcasino.com/wp-content/uploads/2024/10/2024-11-GRV-5X-PTS-MULTI-600x402-1.jpg
END:VEVENT
BEGIN:VEVENT
DTSTART;TZID=America/Los_Angeles:20251008T000000
DTEND;TZID=America/Los_Angeles:20251008T235900
DTSTAMP:20260425T135907
CREATED:20231130T182426Z
LAST-MODIFIED:20251210T170231Z
UID:10022732-1759881600-1759967940@goldranchrvcasino.com
SUMMARY:Daily Swipe and Win
DESCRIPTION:Monday through Thursdays\, NOW ALL DAY! Swipe your card and win prizes such as FreePlay\, Comps\, points\, food\, discounts and more. Earn 300 points the previous day and get a bonus swipe for guaranteed.
URL:https://goldranchrvcasino.com/event/weekly-swipe-and-win-2/2025-10-08/
CATEGORIES:Featured,Promotions
ATTACH;FMTTYPE=image/jpeg:https://goldranchrvcasino.com/wp-content/uploads/2020/09/2020-AUG-GRV-DAILY-SAW-WEB-600X402.jpg
END:VEVENT
BEGIN:VEVENT
DTSTART;TZID=America/Los_Angeles:20251008T060000
DTEND;TZID=America/Los_Angeles:20251008T235900
DTSTAMP:20260425T135907
CREATED:20250901T171530Z
LAST-MODIFIED:20260102T220201Z
UID:10022665-1759903200-1759967940@goldranchrvcasino.com
SUMMARY:FAST TRACK TO FREEPLAY
DESCRIPTION:300 points = $10 in FreePlay. NOW ON WEDNESDAYS!!!!!!!!!! Redeem up to two times! All guests will receive 5X points all day on all  machines\, up to 5\,000 points! Must swipe at the  kiosk to activate. \n 
URL:https://goldranchrvcasino.com/event/fast-track-to-freeplay-2-2-2/2025-10-08/
CATEGORIES:Featured,Promotions
ATTACH;FMTTYPE=image/jpeg:https://goldranchrvcasino.com/wp-content/uploads/2022/01/2022-JAN-GRV-FAST-TRACK-2-FP-600x402-1.jpg
END:VEVENT
BEGIN:VEVENT
DTSTART;TZID=America/Los_Angeles:20251009T000000
DTEND;TZID=America/Los_Angeles:20251009T235900
DTSTAMP:20260425T135907
CREATED:20231130T182426Z
LAST-MODIFIED:20251210T170231Z
UID:10022733-1759968000-1760054340@goldranchrvcasino.com
SUMMARY:Daily Swipe and Win
DESCRIPTION:Monday through Thursdays\, NOW ALL DAY! Swipe your card and win prizes such as FreePlay\, Comps\, points\, food\, discounts and more. Earn 300 points the previous day and get a bonus swipe for guaranteed.
URL:https://goldranchrvcasino.com/event/weekly-swipe-and-win-2/2025-10-09/
CATEGORIES:Featured,Promotions
ATTACH;FMTTYPE=image/jpeg:https://goldranchrvcasino.com/wp-content/uploads/2020/09/2020-AUG-GRV-DAILY-SAW-WEB-600X402.jpg
END:VEVENT
BEGIN:VEVENT
DTSTART;TZID=America/Los_Angeles:20251009T000000
DTEND;TZID=America/Los_Angeles:20251009T235900
DTSTAMP:20260425T135907
CREATED:20240701T165604Z
LAST-MODIFIED:20260102T220254Z
UID:10022693-1759968000-1760054340@goldranchrvcasino.com
SUMMARY:Up to 10X Point Multiplier
DESCRIPTION:Every Thursday\, swipe your card at the kiosk to get your mystery multiplier for up to 10x points!
URL:https://goldranchrvcasino.com/event/up-to-10x-point-multiplier-2-2/2025-10-09/
CATEGORIES:Featured,Promotions
ATTACH;FMTTYPE=image/jpeg:https://goldranchrvcasino.com/wp-content/uploads/2024/02/10X-Point-Multiplier-WEB-600x402-1.jpg
END:VEVENT
BEGIN:VEVENT
DTSTART;TZID=America/Los_Angeles:20251009T000000
DTEND;TZID=America/Los_Angeles:20251009T235900
DTSTAMP:20260425T135907
CREATED:20250929T185627Z
LAST-MODIFIED:20250929T185627Z
UID:10022641-1759968000-1760054340@goldranchrvcasino.com
SUMMARY:Earn & Get: Get a 4 Pack!
DESCRIPTION:Earn up to two four packs every Thursday in October!\nEarn 200 points for one 4-pack.\nEarn another 200 points for a 2nd 4-pack.
URL:https://goldranchrvcasino.com/event/earn-get-get-a-4-pack/2025-10-09/
CATEGORIES:Featured,Promotions
ATTACH;FMTTYPE=image/jpeg:https://goldranchrvcasino.com/wp-content/uploads/2025/09/2025-10-GRV-Lago-Dorado-EAG-600x402-1.jpg
END:VEVENT
BEGIN:VEVENT
DTSTART;TZID=America/Los_Angeles:20251011T170000
DTEND;TZID=America/Los_Angeles:20251011T200000
DTSTAMP:20260425T135907
CREATED:20241230T222746Z
LAST-MODIFIED:20260102T220836Z
UID:10023481-1760202000-1760212800@goldranchrvcasino.com
SUMMARY:The Great Scratch Off
DESCRIPTION:15 winners each week! \nPick a game piece to reveal a prize or a lotto scratcher! If the prize is a scratcher\, yo ucan keep it or exchange for FreePlay. Last winner of the night wins $250 cash!
URL:https://goldranchrvcasino.com/event/the-great-scratch-off-grand-prize-drawing/2025-10-11/
CATEGORIES:Featured,Promotions
ATTACH;FMTTYPE=image/jpeg:https://goldranchrvcasino.com/wp-content/uploads/2024/12/2026-01-GRV-The-Great-Scratch-Off-600x402-1.jpg
END:VEVENT
BEGIN:VEVENT
DTSTART;TZID=America/Los_Angeles:20251011T170000
DTEND;TZID=America/Los_Angeles:20251011T200000
DTSTAMP:20260425T135907
CREATED:20250929T185921Z
LAST-MODIFIED:20250929T185921Z
UID:10022646-1760202000-1760212800@goldranchrvcasino.com
SUMMARY:$1\,300 Wicked Wheel
DESCRIPTION:Last winner of the night will collect all of the remaining wicked winnings!\nSaturdays 5pm-8pm\n10 Winners every Saturday!
URL:https://goldranchrvcasino.com/event/1300-wicked-wheel/2025-10-11/
CATEGORIES:Featured,Promotions
ATTACH;FMTTYPE=image/jpeg:https://goldranchrvcasino.com/wp-content/uploads/2025/09/WICKED-WHEEL-600x402-1.jpg
END:VEVENT
BEGIN:VEVENT
DTSTART;TZID=America/Los_Angeles:20251012T000000
DTEND;TZID=America/Los_Angeles:20251012T235900
DTSTAMP:20260425T135907
CREATED:20231130T182426Z
LAST-MODIFIED:20251210T170231Z
UID:10022734-1760227200-1760313540@goldranchrvcasino.com
SUMMARY:Daily Swipe and Win
DESCRIPTION:Monday through Thursdays\, NOW ALL DAY! Swipe your card and win prizes such as FreePlay\, Comps\, points\, food\, discounts and more. Earn 300 points the previous day and get a bonus swipe for guaranteed.
URL:https://goldranchrvcasino.com/event/weekly-swipe-and-win-2/2025-10-12/
CATEGORIES:Featured,Promotions
ATTACH;FMTTYPE=image/jpeg:https://goldranchrvcasino.com/wp-content/uploads/2020/09/2020-AUG-GRV-DAILY-SAW-WEB-600X402.jpg
END:VEVENT
BEGIN:VEVENT
DTSTART;TZID=America/Los_Angeles:20251012T000000
DTEND;TZID=America/Los_Angeles:20251012T235900
DTSTAMP:20260425T135907
CREATED:20240930T193112Z
LAST-MODIFIED:20260102T220041Z
UID:10022143-1760227200-1760313540@goldranchrvcasino.com
SUMMARY:VIP Swipe
DESCRIPTION:Sundays\, all day!\nDiamond and Gold members enjoy an exclusive extra game each week\, with guaranteed FreePlay!
URL:https://goldranchrvcasino.com/event/vip-swipe/2025-10-12/
CATEGORIES:Featured,Promotions
ATTACH;FMTTYPE=image/jpeg:https://goldranchrvcasino.com/wp-content/uploads/2024/09/2024-10-rtr-vip-swipe-600x402-1.jpg
END:VEVENT
BEGIN:VEVENT
DTSTART;TZID=America/Los_Angeles:20251013T000000
DTEND;TZID=America/Los_Angeles:20251013T235900
DTSTAMP:20260425T135907
CREATED:20231130T182426Z
LAST-MODIFIED:20251210T170231Z
UID:10022735-1760313600-1760399940@goldranchrvcasino.com
SUMMARY:Daily Swipe and Win
DESCRIPTION:Monday through Thursdays\, NOW ALL DAY! Swipe your card and win prizes such as FreePlay\, Comps\, points\, food\, discounts and more. Earn 300 points the previous day and get a bonus swipe for guaranteed.
URL:https://goldranchrvcasino.com/event/weekly-swipe-and-win-2/2025-10-13/
CATEGORIES:Featured,Promotions
ATTACH;FMTTYPE=image/jpeg:https://goldranchrvcasino.com/wp-content/uploads/2020/09/2020-AUG-GRV-DAILY-SAW-WEB-600X402.jpg
END:VEVENT
BEGIN:VEVENT
DTSTART;TZID=America/Los_Angeles:20251014T000000
DTEND;TZID=America/Los_Angeles:20251014T235900
DTSTAMP:20260425T135907
CREATED:20231130T182426Z
LAST-MODIFIED:20251210T170231Z
UID:10022736-1760400000-1760486340@goldranchrvcasino.com
SUMMARY:Daily Swipe and Win
DESCRIPTION:Monday through Thursdays\, NOW ALL DAY! Swipe your card and win prizes such as FreePlay\, Comps\, points\, food\, discounts and more. Earn 300 points the previous day and get a bonus swipe for guaranteed.
URL:https://goldranchrvcasino.com/event/weekly-swipe-and-win-2/2025-10-14/
CATEGORIES:Featured,Promotions
ATTACH;FMTTYPE=image/jpeg:https://goldranchrvcasino.com/wp-content/uploads/2020/09/2020-AUG-GRV-DAILY-SAW-WEB-600X402.jpg
END:VEVENT
BEGIN:VEVENT
DTSTART;TZID=America/Los_Angeles:20251014T000000
DTEND;TZID=America/Los_Angeles:20251014T235900
DTSTAMP:20260425T135907
CREATED:20241029T222902Z
LAST-MODIFIED:20260302T230506Z
UID:10022674-1760400000-1760486340@goldranchrvcasino.com
SUMMARY:5X Point Multiplier
DESCRIPTION:Every Tuesday!\nAll day\, all machines! \nSwipe at the kiosk to activate.
URL:https://goldranchrvcasino.com/event/5x-point-multiplier/2025-10-14/
CATEGORIES:Featured,Promotions
ATTACH;FMTTYPE=image/jpeg:https://goldranchrvcasino.com/wp-content/uploads/2024/10/2024-11-GRV-5X-PTS-MULTI-600x402-1.jpg
END:VEVENT
BEGIN:VEVENT
DTSTART;TZID=America/Los_Angeles:20251015T000000
DTEND;TZID=America/Los_Angeles:20251015T235900
DTSTAMP:20260425T135907
CREATED:20231130T182426Z
LAST-MODIFIED:20251210T170231Z
UID:10022737-1760486400-1760572740@goldranchrvcasino.com
SUMMARY:Daily Swipe and Win
DESCRIPTION:Monday through Thursdays\, NOW ALL DAY! Swipe your card and win prizes such as FreePlay\, Comps\, points\, food\, discounts and more. Earn 300 points the previous day and get a bonus swipe for guaranteed.
URL:https://goldranchrvcasino.com/event/weekly-swipe-and-win-2/2025-10-15/
CATEGORIES:Featured,Promotions
ATTACH;FMTTYPE=image/jpeg:https://goldranchrvcasino.com/wp-content/uploads/2020/09/2020-AUG-GRV-DAILY-SAW-WEB-600X402.jpg
END:VEVENT
BEGIN:VEVENT
DTSTART;TZID=America/Los_Angeles:20251015T060000
DTEND;TZID=America/Los_Angeles:20251015T235900
DTSTAMP:20260425T135907
CREATED:20250901T171530Z
LAST-MODIFIED:20260102T220201Z
UID:10022666-1760508000-1760572740@goldranchrvcasino.com
SUMMARY:FAST TRACK TO FREEPLAY
DESCRIPTION:300 points = $10 in FreePlay. NOW ON WEDNESDAYS!!!!!!!!!! Redeem up to two times! All guests will receive 5X points all day on all  machines\, up to 5\,000 points! Must swipe at the  kiosk to activate. \n 
URL:https://goldranchrvcasino.com/event/fast-track-to-freeplay-2-2-2/2025-10-15/
CATEGORIES:Featured,Promotions
ATTACH;FMTTYPE=image/jpeg:https://goldranchrvcasino.com/wp-content/uploads/2022/01/2022-JAN-GRV-FAST-TRACK-2-FP-600x402-1.jpg
END:VEVENT
BEGIN:VEVENT
DTSTART;TZID=America/Los_Angeles:20251016T000000
DTEND;TZID=America/Los_Angeles:20251016T235900
DTSTAMP:20260425T135907
CREATED:20231130T182426Z
LAST-MODIFIED:20251210T170231Z
UID:10022738-1760572800-1760659140@goldranchrvcasino.com
SUMMARY:Daily Swipe and Win
DESCRIPTION:Monday through Thursdays\, NOW ALL DAY! Swipe your card and win prizes such as FreePlay\, Comps\, points\, food\, discounts and more. Earn 300 points the previous day and get a bonus swipe for guaranteed.
URL:https://goldranchrvcasino.com/event/weekly-swipe-and-win-2/2025-10-16/
CATEGORIES:Featured,Promotions
ATTACH;FMTTYPE=image/jpeg:https://goldranchrvcasino.com/wp-content/uploads/2020/09/2020-AUG-GRV-DAILY-SAW-WEB-600X402.jpg
END:VEVENT
BEGIN:VEVENT
DTSTART;TZID=America/Los_Angeles:20251016T000000
DTEND;TZID=America/Los_Angeles:20251016T235900
DTSTAMP:20260425T135907
CREATED:20240701T165604Z
LAST-MODIFIED:20260102T220254Z
UID:10022694-1760572800-1760659140@goldranchrvcasino.com
SUMMARY:Up to 10X Point Multiplier
DESCRIPTION:Every Thursday\, swipe your card at the kiosk to get your mystery multiplier for up to 10x points!
URL:https://goldranchrvcasino.com/event/up-to-10x-point-multiplier-2-2/2025-10-16/
CATEGORIES:Featured,Promotions
ATTACH;FMTTYPE=image/jpeg:https://goldranchrvcasino.com/wp-content/uploads/2024/02/10X-Point-Multiplier-WEB-600x402-1.jpg
END:VEVENT
BEGIN:VEVENT
DTSTART;TZID=America/Los_Angeles:20251016T000000
DTEND;TZID=America/Los_Angeles:20251016T235900
DTSTAMP:20260425T135907
CREATED:20250929T185627Z
LAST-MODIFIED:20250929T185627Z
UID:10022642-1760572800-1760659140@goldranchrvcasino.com
SUMMARY:Earn & Get: Get a 4 Pack!
DESCRIPTION:Earn up to two four packs every Thursday in October!\nEarn 200 points for one 4-pack.\nEarn another 200 points for a 2nd 4-pack.
URL:https://goldranchrvcasino.com/event/earn-get-get-a-4-pack/2025-10-16/
CATEGORIES:Featured,Promotions
ATTACH;FMTTYPE=image/jpeg:https://goldranchrvcasino.com/wp-content/uploads/2025/09/2025-10-GRV-Lago-Dorado-EAG-600x402-1.jpg
END:VEVENT
BEGIN:VEVENT
DTSTART;TZID=America/Los_Angeles:20251018T120000
DTEND;TZID=America/Los_Angeles:20251018T160000
DTSTAMP:20260425T135907
CREATED:20251006T193453Z
LAST-MODIFIED:20251006T193453Z
UID:10022681-1760788800-1760803200@goldranchrvcasino.com
SUMMARY:Oktoberfest: Beer & Brats!
DESCRIPTION:Rock your lederhosen! Back patio party awaits!\n– Free Brats\, Chips\, & Drinks!\n– Free Apply Cider & Hot Cocoa\n– Free Port of Subs 2 Feet of Treats Drawings\n– 55″ TV Raffle Giveaway\n– Free Seasonal Beer Tasting\n– Spin the Wheel for prizes\n– Cornhole Toss & Axe Throwing\n– 28″ Blackstone Grill Drawing!
URL:https://goldranchrvcasino.com/event/oktoberfest-beer-brats/
CATEGORIES:Featured,Promotions
ATTACH;FMTTYPE=image/jpeg:https://goldranchrvcasino.com/wp-content/uploads/2025/10/2025-10-GRV-Oktoberfest-600x402-1.jpg
END:VEVENT
END:VCALENDAR