BEGIN:VCALENDAR
VERSION:2.0
PRODID:-//Gold Ranch Casino &amp; RV Resort - ECPv6.15.13//NONSGML v1.0//EN
CALSCALE:GREGORIAN
METHOD:PUBLISH
X-ORIGINAL-URL:https://goldranchrvcasino.com
X-WR-CALDESC:Events for Gold Ranch Casino &amp; RV Resort
REFRESH-INTERVAL;VALUE=DURATION:PT1H
X-Robots-Tag:noindex
X-PUBLISHED-TTL:PT1H
BEGIN:VTIMEZONE
TZID:America/Los_Angeles
BEGIN:DAYLIGHT
TZOFFSETFROM:-0800
TZOFFSETTO:-0700
TZNAME:PDT
DTSTART:20240310T100000
END:DAYLIGHT
BEGIN:STANDARD
TZOFFSETFROM:-0700
TZOFFSETTO:-0800
TZNAME:PST
DTSTART:20241103T090000
END:STANDARD
BEGIN:DAYLIGHT
TZOFFSETFROM:-0800
TZOFFSETTO:-0700
TZNAME:PDT
DTSTART:20250309T100000
END:DAYLIGHT
BEGIN:STANDARD
TZOFFSETFROM:-0700
TZOFFSETTO:-0800
TZNAME:PST
DTSTART:20251102T090000
END:STANDARD
BEGIN:DAYLIGHT
TZOFFSETFROM:-0800
TZOFFSETTO:-0700
TZNAME:PDT
DTSTART:20260308T100000
END:DAYLIGHT
BEGIN:STANDARD
TZOFFSETFROM:-0700
TZOFFSETTO:-0800
TZNAME:PST
DTSTART:20261101T090000
END:STANDARD
END:VTIMEZONE
BEGIN:VEVENT
DTSTART;TZID=America/Los_Angeles:20251031T140000
DTEND;TZID=America/Los_Angeles:20251101T010000
DTSTAMP:20260425T121314
CREATED:20250929T184501Z
LAST-MODIFIED:20250929T185145Z
UID:10022638-1761919200-1761958800@goldranchrvcasino.com
SUMMARY:Creepy Cash
DESCRIPTION:Friday\, October 31st – 11am-2pm & 6pm-9pm\nWin $31 cash every 20 minutes! That’s over $600 cash!
URL:https://goldranchrvcasino.com/event/creepy-cash/2025-10-31/3/
CATEGORIES:Featured,Promotions
ATTACH;FMTTYPE=image/jpeg:https://goldranchrvcasino.com/wp-content/uploads/2025/09/2025-10-GRV-Creepy-Cash-Hot-Seats-600x402-1.jpg
END:VEVENT
BEGIN:VEVENT
DTSTART;TZID=America/Los_Angeles:20251101T170000
DTEND;TZID=America/Los_Angeles:20251101T200000
DTSTAMP:20260425T121314
CREATED:20241230T222746Z
LAST-MODIFIED:20260102T220836Z
UID:10023484-1762016400-1762027200@goldranchrvcasino.com
SUMMARY:The Great Scratch Off
DESCRIPTION:15 winners each week! \nPick a game piece to reveal a prize or a lotto scratcher! If the prize is a scratcher\, yo ucan keep it or exchange for FreePlay. Last winner of the night wins $250 cash!
URL:https://goldranchrvcasino.com/event/the-great-scratch-off-grand-prize-drawing/2025-11-01/
CATEGORIES:Featured,Promotions
ATTACH;FMTTYPE=image/jpeg:https://goldranchrvcasino.com/wp-content/uploads/2024/12/2026-01-GRV-The-Great-Scratch-Off-600x402-1.jpg
END:VEVENT
BEGIN:VEVENT
DTSTART;TZID=America/Los_Angeles:20251102T000000
DTEND;TZID=America/Los_Angeles:20251102T225900
DTSTAMP:20260425T121314
CREATED:20231130T182426Z
LAST-MODIFIED:20251210T170231Z
UID:10022749-1762041600-1762124340@goldranchrvcasino.com
SUMMARY:Daily Swipe and Win
DESCRIPTION:Monday through Thursdays\, NOW ALL DAY! Swipe your card and win prizes such as FreePlay\, Comps\, points\, food\, discounts and more. Earn 300 points the previous day and get a bonus swipe for guaranteed.
URL:https://goldranchrvcasino.com/event/weekly-swipe-and-win-2/2025-11-02/
CATEGORIES:Featured,Promotions
ATTACH;FMTTYPE=image/jpeg:https://goldranchrvcasino.com/wp-content/uploads/2020/09/2020-AUG-GRV-DAILY-SAW-WEB-600X402.jpg
END:VEVENT
BEGIN:VEVENT
DTSTART;TZID=America/Los_Angeles:20251102T000000
DTEND;TZID=America/Los_Angeles:20251102T225900
DTSTAMP:20260425T121314
CREATED:20240930T193112Z
LAST-MODIFIED:20260102T220041Z
UID:10022146-1762041600-1762124340@goldranchrvcasino.com
SUMMARY:VIP Swipe
DESCRIPTION:Sundays\, all day!\nDiamond and Gold members enjoy an exclusive extra game each week\, with guaranteed FreePlay!
URL:https://goldranchrvcasino.com/event/vip-swipe/2025-11-02/
CATEGORIES:Featured,Promotions
ATTACH;FMTTYPE=image/jpeg:https://goldranchrvcasino.com/wp-content/uploads/2024/09/2024-10-rtr-vip-swipe-600x402-1.jpg
END:VEVENT
BEGIN:VEVENT
DTSTART;TZID=America/Los_Angeles:20251103T000000
DTEND;TZID=America/Los_Angeles:20251103T235900
DTSTAMP:20260425T121314
CREATED:20231130T182426Z
LAST-MODIFIED:20251210T170231Z
UID:10022750-1762128000-1762214340@goldranchrvcasino.com
SUMMARY:Daily Swipe and Win
DESCRIPTION:Monday through Thursdays\, NOW ALL DAY! Swipe your card and win prizes such as FreePlay\, Comps\, points\, food\, discounts and more. Earn 300 points the previous day and get a bonus swipe for guaranteed.
URL:https://goldranchrvcasino.com/event/weekly-swipe-and-win-2/2025-11-03/
CATEGORIES:Featured,Promotions
ATTACH;FMTTYPE=image/jpeg:https://goldranchrvcasino.com/wp-content/uploads/2020/09/2020-AUG-GRV-DAILY-SAW-WEB-600X402.jpg
END:VEVENT
BEGIN:VEVENT
DTSTART;TZID=America/Los_Angeles:20251104T000000
DTEND;TZID=America/Los_Angeles:20251104T235900
DTSTAMP:20260425T121314
CREATED:20231130T182426Z
LAST-MODIFIED:20251210T170231Z
UID:10022751-1762214400-1762300740@goldranchrvcasino.com
SUMMARY:Daily Swipe and Win
DESCRIPTION:Monday through Thursdays\, NOW ALL DAY! Swipe your card and win prizes such as FreePlay\, Comps\, points\, food\, discounts and more. Earn 300 points the previous day and get a bonus swipe for guaranteed.
URL:https://goldranchrvcasino.com/event/weekly-swipe-and-win-2/2025-11-04/
CATEGORIES:Featured,Promotions
ATTACH;FMTTYPE=image/jpeg:https://goldranchrvcasino.com/wp-content/uploads/2020/09/2020-AUG-GRV-DAILY-SAW-WEB-600X402.jpg
END:VEVENT
BEGIN:VEVENT
DTSTART;TZID=America/Los_Angeles:20251104T000000
DTEND;TZID=America/Los_Angeles:20251104T235900
DTSTAMP:20260425T121314
CREATED:20241029T222902Z
LAST-MODIFIED:20260302T230506Z
UID:10022677-1762214400-1762300740@goldranchrvcasino.com
SUMMARY:5X Point Multiplier
DESCRIPTION:Every Tuesday!\nAll day\, all machines! \nSwipe at the kiosk to activate.
URL:https://goldranchrvcasino.com/event/5x-point-multiplier/2025-11-04/
CATEGORIES:Featured,Promotions
ATTACH;FMTTYPE=image/jpeg:https://goldranchrvcasino.com/wp-content/uploads/2024/10/2024-11-GRV-5X-PTS-MULTI-600x402-1.jpg
END:VEVENT
BEGIN:VEVENT
DTSTART;TZID=America/Los_Angeles:20251105T000000
DTEND;TZID=America/Los_Angeles:20251105T235900
DTSTAMP:20260425T121314
CREATED:20231130T182426Z
LAST-MODIFIED:20251210T170231Z
UID:10022752-1762300800-1762387140@goldranchrvcasino.com
SUMMARY:Daily Swipe and Win
DESCRIPTION:Monday through Thursdays\, NOW ALL DAY! Swipe your card and win prizes such as FreePlay\, Comps\, points\, food\, discounts and more. Earn 300 points the previous day and get a bonus swipe for guaranteed.
URL:https://goldranchrvcasino.com/event/weekly-swipe-and-win-2/2025-11-05/
CATEGORIES:Featured,Promotions
ATTACH;FMTTYPE=image/jpeg:https://goldranchrvcasino.com/wp-content/uploads/2020/09/2020-AUG-GRV-DAILY-SAW-WEB-600X402.jpg
END:VEVENT
BEGIN:VEVENT
DTSTART;TZID=America/Los_Angeles:20251105T060000
DTEND;TZID=America/Los_Angeles:20251105T235900
DTSTAMP:20260425T121314
CREATED:20250901T171530Z
LAST-MODIFIED:20260102T220201Z
UID:10022669-1762322400-1762387140@goldranchrvcasino.com
SUMMARY:FAST TRACK TO FREEPLAY
DESCRIPTION:300 points = $10 in FreePlay. NOW ON WEDNESDAYS!!!!!!!!!! Redeem up to two times! All guests will receive 5X points all day on all  machines\, up to 5\,000 points! Must swipe at the  kiosk to activate. \n 
URL:https://goldranchrvcasino.com/event/fast-track-to-freeplay-2-2-2/2025-11-05/
CATEGORIES:Featured,Promotions
ATTACH;FMTTYPE=image/jpeg:https://goldranchrvcasino.com/wp-content/uploads/2022/01/2022-JAN-GRV-FAST-TRACK-2-FP-600x402-1.jpg
END:VEVENT
BEGIN:VEVENT
DTSTART;TZID=America/Los_Angeles:20251106T000000
DTEND;TZID=America/Los_Angeles:20251106T235900
DTSTAMP:20260425T121314
CREATED:20231130T182426Z
LAST-MODIFIED:20251210T170231Z
UID:10022753-1762387200-1762473540@goldranchrvcasino.com
SUMMARY:Daily Swipe and Win
DESCRIPTION:Monday through Thursdays\, NOW ALL DAY! Swipe your card and win prizes such as FreePlay\, Comps\, points\, food\, discounts and more. Earn 300 points the previous day and get a bonus swipe for guaranteed.
URL:https://goldranchrvcasino.com/event/weekly-swipe-and-win-2/2025-11-06/
CATEGORIES:Featured,Promotions
ATTACH;FMTTYPE=image/jpeg:https://goldranchrvcasino.com/wp-content/uploads/2020/09/2020-AUG-GRV-DAILY-SAW-WEB-600X402.jpg
END:VEVENT
BEGIN:VEVENT
DTSTART;TZID=America/Los_Angeles:20251106T000000
DTEND;TZID=America/Los_Angeles:20251106T235900
DTSTAMP:20260425T121314
CREATED:20240701T165604Z
LAST-MODIFIED:20260102T220254Z
UID:10022697-1762387200-1762473540@goldranchrvcasino.com
SUMMARY:Up to 10X Point Multiplier
DESCRIPTION:Every Thursday\, swipe your card at the kiosk to get your mystery multiplier for up to 10x points!
URL:https://goldranchrvcasino.com/event/up-to-10x-point-multiplier-2-2/2025-11-06/
CATEGORIES:Featured,Promotions
ATTACH;FMTTYPE=image/jpeg:https://goldranchrvcasino.com/wp-content/uploads/2024/02/10X-Point-Multiplier-WEB-600x402-1.jpg
END:VEVENT
BEGIN:VEVENT
DTSTART;TZID=America/Los_Angeles:20251107T130000
DTEND;TZID=America/Los_Angeles:20251107T210000
DTSTAMP:20260425T121314
CREATED:20251103T181527Z
LAST-MODIFIED:20251103T181527Z
UID:10022688-1762520400-1762549200@goldranchrvcasino.com
SUMMARY:Turkey Toss
DESCRIPTION:Every Friday 1:00pm – 9:00pm\nWin up to $50 in FreePlay by tossing turkeys!\nDouble your prize up to $100 in FreePlay when you earn 500 points!\nA winner every 30 minutes.
URL:https://goldranchrvcasino.com/event/turkey-toss-2/2025-11-07/
CATEGORIES:Featured,Promotions
ATTACH;FMTTYPE=image/jpeg:https://goldranchrvcasino.com/wp-content/uploads/2025/11/2025-11-GRV-Turkey-Toss-600x402-1.jpg
END:VEVENT
BEGIN:VEVENT
DTSTART;TZID=America/Los_Angeles:20251108T170000
DTEND;TZID=America/Los_Angeles:20251108T200000
DTSTAMP:20260425T121314
CREATED:20241230T222746Z
LAST-MODIFIED:20260102T220836Z
UID:10023485-1762621200-1762632000@goldranchrvcasino.com
SUMMARY:The Great Scratch Off
DESCRIPTION:15 winners each week! \nPick a game piece to reveal a prize or a lotto scratcher! If the prize is a scratcher\, yo ucan keep it or exchange for FreePlay. Last winner of the night wins $250 cash!
URL:https://goldranchrvcasino.com/event/the-great-scratch-off-grand-prize-drawing/2025-11-08/
CATEGORIES:Featured,Promotions
ATTACH;FMTTYPE=image/jpeg:https://goldranchrvcasino.com/wp-content/uploads/2024/12/2026-01-GRV-The-Great-Scratch-Off-600x402-1.jpg
END:VEVENT
BEGIN:VEVENT
DTSTART;TZID=America/Los_Angeles:20251108T170000
DTEND;TZID=America/Los_Angeles:20251108T200000
DTSTAMP:20260425T121314
CREATED:20251103T181218Z
LAST-MODIFIED:20251103T181218Z
UID:10022683-1762621200-1762632000@goldranchrvcasino.com
SUMMARY:Fall Haul
DESCRIPTION:Haul Off Your Share of $2\,000! \n20 Winners Each Week!\n1 Winner every 10 Minutes!
URL:https://goldranchrvcasino.com/event/fall-haul-3/2025-11-08/
CATEGORIES:Featured,Promotions
ATTACH;FMTTYPE=image/jpeg:https://goldranchrvcasino.com/wp-content/uploads/2025/11/2025-11-GRV-FALL-HAUL600x402.jpg
END:VEVENT
BEGIN:VEVENT
DTSTART;TZID=America/Los_Angeles:20251109T000000
DTEND;TZID=America/Los_Angeles:20251109T235900
DTSTAMP:20260425T121314
CREATED:20231130T182426Z
LAST-MODIFIED:20251210T170231Z
UID:10022754-1762646400-1762732740@goldranchrvcasino.com
SUMMARY:Daily Swipe and Win
DESCRIPTION:Monday through Thursdays\, NOW ALL DAY! Swipe your card and win prizes such as FreePlay\, Comps\, points\, food\, discounts and more. Earn 300 points the previous day and get a bonus swipe for guaranteed.
URL:https://goldranchrvcasino.com/event/weekly-swipe-and-win-2/2025-11-09/
CATEGORIES:Featured,Promotions
ATTACH;FMTTYPE=image/jpeg:https://goldranchrvcasino.com/wp-content/uploads/2020/09/2020-AUG-GRV-DAILY-SAW-WEB-600X402.jpg
END:VEVENT
BEGIN:VEVENT
DTSTART;TZID=America/Los_Angeles:20251109T000000
DTEND;TZID=America/Los_Angeles:20251109T235900
DTSTAMP:20260425T121314
CREATED:20240930T193112Z
LAST-MODIFIED:20260102T220041Z
UID:10022147-1762646400-1762732740@goldranchrvcasino.com
SUMMARY:VIP Swipe
DESCRIPTION:Sundays\, all day!\nDiamond and Gold members enjoy an exclusive extra game each week\, with guaranteed FreePlay!
URL:https://goldranchrvcasino.com/event/vip-swipe/2025-11-09/
CATEGORIES:Featured,Promotions
ATTACH;FMTTYPE=image/jpeg:https://goldranchrvcasino.com/wp-content/uploads/2024/09/2024-10-rtr-vip-swipe-600x402-1.jpg
END:VEVENT
BEGIN:VEVENT
DTSTART;TZID=America/Los_Angeles:20251110T000000
DTEND;TZID=America/Los_Angeles:20251110T235900
DTSTAMP:20260425T121314
CREATED:20231130T182426Z
LAST-MODIFIED:20251210T170231Z
UID:10022755-1762732800-1762819140@goldranchrvcasino.com
SUMMARY:Daily Swipe and Win
DESCRIPTION:Monday through Thursdays\, NOW ALL DAY! Swipe your card and win prizes such as FreePlay\, Comps\, points\, food\, discounts and more. Earn 300 points the previous day and get a bonus swipe for guaranteed.
URL:https://goldranchrvcasino.com/event/weekly-swipe-and-win-2/2025-11-10/
CATEGORIES:Featured,Promotions
ATTACH;FMTTYPE=image/jpeg:https://goldranchrvcasino.com/wp-content/uploads/2020/09/2020-AUG-GRV-DAILY-SAW-WEB-600X402.jpg
END:VEVENT
BEGIN:VEVENT
DTSTART;TZID=America/Los_Angeles:20251111T000000
DTEND;TZID=America/Los_Angeles:20251111T235900
DTSTAMP:20260425T121314
CREATED:20231130T182426Z
LAST-MODIFIED:20251210T170231Z
UID:10022756-1762819200-1762905540@goldranchrvcasino.com
SUMMARY:Daily Swipe and Win
DESCRIPTION:Monday through Thursdays\, NOW ALL DAY! Swipe your card and win prizes such as FreePlay\, Comps\, points\, food\, discounts and more. Earn 300 points the previous day and get a bonus swipe for guaranteed.
URL:https://goldranchrvcasino.com/event/weekly-swipe-and-win-2/2025-11-11/
CATEGORIES:Featured,Promotions
ATTACH;FMTTYPE=image/jpeg:https://goldranchrvcasino.com/wp-content/uploads/2020/09/2020-AUG-GRV-DAILY-SAW-WEB-600X402.jpg
END:VEVENT
BEGIN:VEVENT
DTSTART;TZID=America/Los_Angeles:20251111T000000
DTEND;TZID=America/Los_Angeles:20251111T235900
DTSTAMP:20260425T121315
CREATED:20241029T222902Z
LAST-MODIFIED:20260302T230506Z
UID:10022678-1762819200-1762905540@goldranchrvcasino.com
SUMMARY:5X Point Multiplier
DESCRIPTION:Every Tuesday!\nAll day\, all machines! \nSwipe at the kiosk to activate.
URL:https://goldranchrvcasino.com/event/5x-point-multiplier/2025-11-11/
CATEGORIES:Featured,Promotions
ATTACH;FMTTYPE=image/jpeg:https://goldranchrvcasino.com/wp-content/uploads/2024/10/2024-11-GRV-5X-PTS-MULTI-600x402-1.jpg
END:VEVENT
BEGIN:VEVENT
DTSTART;TZID=America/Los_Angeles:20251111T090000
DTEND;TZID=America/Los_Angeles:20251111T180000
DTSTAMP:20260425T121315
CREATED:20251103T181404Z
LAST-MODIFIED:20251103T181404Z
UID:10022687-1762851600-1762884000@goldranchrvcasino.com
SUMMARY:Veteran's Day Slot Tournament
DESCRIPTION:Top Prize is $200 Cash! \nEveryone will receive one free entry. earn an additional entry with 25 base points. Veteran’s get a second entry FREE and entry into a Veteran’s only BONUS DRAWING!\nTuesday\, November 11th\, 9am – 6pm
URL:https://goldranchrvcasino.com/event/veterans-day-slot-tournament/
CATEGORIES:Featured,Promotions
ATTACH;FMTTYPE=image/jpeg:https://goldranchrvcasino.com/wp-content/uploads/2025/11/2025-11-GRV-Veterans-Day-Slot-Tournament-600x402-1.jpg
END:VEVENT
BEGIN:VEVENT
DTSTART;TZID=America/Los_Angeles:20251112T000000
DTEND;TZID=America/Los_Angeles:20251112T235900
DTSTAMP:20260425T121315
CREATED:20231130T182426Z
LAST-MODIFIED:20251210T170231Z
UID:10022757-1762905600-1762991940@goldranchrvcasino.com
SUMMARY:Daily Swipe and Win
DESCRIPTION:Monday through Thursdays\, NOW ALL DAY! Swipe your card and win prizes such as FreePlay\, Comps\, points\, food\, discounts and more. Earn 300 points the previous day and get a bonus swipe for guaranteed.
URL:https://goldranchrvcasino.com/event/weekly-swipe-and-win-2/2025-11-12/
CATEGORIES:Featured,Promotions
ATTACH;FMTTYPE=image/jpeg:https://goldranchrvcasino.com/wp-content/uploads/2020/09/2020-AUG-GRV-DAILY-SAW-WEB-600X402.jpg
END:VEVENT
BEGIN:VEVENT
DTSTART;TZID=America/Los_Angeles:20251112T060000
DTEND;TZID=America/Los_Angeles:20251112T235900
DTSTAMP:20260425T121315
CREATED:20250901T171530Z
LAST-MODIFIED:20260102T220201Z
UID:10022670-1762927200-1762991940@goldranchrvcasino.com
SUMMARY:FAST TRACK TO FREEPLAY
DESCRIPTION:300 points = $10 in FreePlay. NOW ON WEDNESDAYS!!!!!!!!!! Redeem up to two times! All guests will receive 5X points all day on all  machines\, up to 5\,000 points! Must swipe at the  kiosk to activate. \n 
URL:https://goldranchrvcasino.com/event/fast-track-to-freeplay-2-2-2/2025-11-12/
CATEGORIES:Featured,Promotions
ATTACH;FMTTYPE=image/jpeg:https://goldranchrvcasino.com/wp-content/uploads/2022/01/2022-JAN-GRV-FAST-TRACK-2-FP-600x402-1.jpg
END:VEVENT
BEGIN:VEVENT
DTSTART;TZID=America/Los_Angeles:20251113T000000
DTEND;TZID=America/Los_Angeles:20251113T235900
DTSTAMP:20260425T121315
CREATED:20231130T182426Z
LAST-MODIFIED:20251210T170231Z
UID:10022758-1762992000-1763078340@goldranchrvcasino.com
SUMMARY:Daily Swipe and Win
DESCRIPTION:Monday through Thursdays\, NOW ALL DAY! Swipe your card and win prizes such as FreePlay\, Comps\, points\, food\, discounts and more. Earn 300 points the previous day and get a bonus swipe for guaranteed.
URL:https://goldranchrvcasino.com/event/weekly-swipe-and-win-2/2025-11-13/
CATEGORIES:Featured,Promotions
ATTACH;FMTTYPE=image/jpeg:https://goldranchrvcasino.com/wp-content/uploads/2020/09/2020-AUG-GRV-DAILY-SAW-WEB-600X402.jpg
END:VEVENT
BEGIN:VEVENT
DTSTART;TZID=America/Los_Angeles:20251113T000000
DTEND;TZID=America/Los_Angeles:20251113T235900
DTSTAMP:20260425T121315
CREATED:20240701T165604Z
LAST-MODIFIED:20260102T220254Z
UID:10022698-1762992000-1763078340@goldranchrvcasino.com
SUMMARY:Up to 10X Point Multiplier
DESCRIPTION:Every Thursday\, swipe your card at the kiosk to get your mystery multiplier for up to 10x points!
URL:https://goldranchrvcasino.com/event/up-to-10x-point-multiplier-2-2/2025-11-13/
CATEGORIES:Featured,Promotions
ATTACH;FMTTYPE=image/jpeg:https://goldranchrvcasino.com/wp-content/uploads/2024/02/10X-Point-Multiplier-WEB-600x402-1.jpg
END:VEVENT
BEGIN:VEVENT
DTSTART;TZID=America/Los_Angeles:20251114T130000
DTEND;TZID=America/Los_Angeles:20251114T210000
DTSTAMP:20260425T121315
CREATED:20251103T181527Z
LAST-MODIFIED:20251103T181527Z
UID:10022689-1763125200-1763154000@goldranchrvcasino.com
SUMMARY:Turkey Toss
DESCRIPTION:Every Friday 1:00pm – 9:00pm\nWin up to $50 in FreePlay by tossing turkeys!\nDouble your prize up to $100 in FreePlay when you earn 500 points!\nA winner every 30 minutes.
URL:https://goldranchrvcasino.com/event/turkey-toss-2/2025-11-14/
CATEGORIES:Featured,Promotions
ATTACH;FMTTYPE=image/jpeg:https://goldranchrvcasino.com/wp-content/uploads/2025/11/2025-11-GRV-Turkey-Toss-600x402-1.jpg
END:VEVENT
BEGIN:VEVENT
DTSTART;TZID=America/Los_Angeles:20251115T170000
DTEND;TZID=America/Los_Angeles:20251115T200000
DTSTAMP:20260425T121315
CREATED:20241230T222746Z
LAST-MODIFIED:20260102T220836Z
UID:10023486-1763226000-1763236800@goldranchrvcasino.com
SUMMARY:The Great Scratch Off
DESCRIPTION:15 winners each week! \nPick a game piece to reveal a prize or a lotto scratcher! If the prize is a scratcher\, yo ucan keep it or exchange for FreePlay. Last winner of the night wins $250 cash!
URL:https://goldranchrvcasino.com/event/the-great-scratch-off-grand-prize-drawing/2025-11-15/
CATEGORIES:Featured,Promotions
ATTACH;FMTTYPE=image/jpeg:https://goldranchrvcasino.com/wp-content/uploads/2024/12/2026-01-GRV-The-Great-Scratch-Off-600x402-1.jpg
END:VEVENT
BEGIN:VEVENT
DTSTART;TZID=America/Los_Angeles:20251115T170000
DTEND;TZID=America/Los_Angeles:20251115T200000
DTSTAMP:20260425T121315
CREATED:20251103T181218Z
LAST-MODIFIED:20251103T181218Z
UID:10022684-1763226000-1763236800@goldranchrvcasino.com
SUMMARY:Fall Haul
DESCRIPTION:Haul Off Your Share of $2\,000! \n20 Winners Each Week!\n1 Winner every 10 Minutes!
URL:https://goldranchrvcasino.com/event/fall-haul-3/2025-11-15/
CATEGORIES:Featured,Promotions
ATTACH;FMTTYPE=image/jpeg:https://goldranchrvcasino.com/wp-content/uploads/2025/11/2025-11-GRV-FALL-HAUL600x402.jpg
END:VEVENT
BEGIN:VEVENT
DTSTART;TZID=America/Los_Angeles:20251116T000000
DTEND;TZID=America/Los_Angeles:20251116T235900
DTSTAMP:20260425T121315
CREATED:20231130T182426Z
LAST-MODIFIED:20251210T170231Z
UID:10022759-1763251200-1763337540@goldranchrvcasino.com
SUMMARY:Daily Swipe and Win
DESCRIPTION:Monday through Thursdays\, NOW ALL DAY! Swipe your card and win prizes such as FreePlay\, Comps\, points\, food\, discounts and more. Earn 300 points the previous day and get a bonus swipe for guaranteed.
URL:https://goldranchrvcasino.com/event/weekly-swipe-and-win-2/2025-11-16/
CATEGORIES:Featured,Promotions
ATTACH;FMTTYPE=image/jpeg:https://goldranchrvcasino.com/wp-content/uploads/2020/09/2020-AUG-GRV-DAILY-SAW-WEB-600X402.jpg
END:VEVENT
BEGIN:VEVENT
DTSTART;TZID=America/Los_Angeles:20251116T000000
DTEND;TZID=America/Los_Angeles:20251116T235900
DTSTAMP:20260425T121315
CREATED:20240930T193112Z
LAST-MODIFIED:20260102T220041Z
UID:10022148-1763251200-1763337540@goldranchrvcasino.com
SUMMARY:VIP Swipe
DESCRIPTION:Sundays\, all day!\nDiamond and Gold members enjoy an exclusive extra game each week\, with guaranteed FreePlay!
URL:https://goldranchrvcasino.com/event/vip-swipe/2025-11-16/
CATEGORIES:Featured,Promotions
ATTACH;FMTTYPE=image/jpeg:https://goldranchrvcasino.com/wp-content/uploads/2024/09/2024-10-rtr-vip-swipe-600x402-1.jpg
END:VEVENT
BEGIN:VEVENT
DTSTART;TZID=America/Los_Angeles:20251117T000000
DTEND;TZID=America/Los_Angeles:20251117T235900
DTSTAMP:20260425T121315
CREATED:20231130T182426Z
LAST-MODIFIED:20251210T170231Z
UID:10022760-1763337600-1763423940@goldranchrvcasino.com
SUMMARY:Daily Swipe and Win
DESCRIPTION:Monday through Thursdays\, NOW ALL DAY! Swipe your card and win prizes such as FreePlay\, Comps\, points\, food\, discounts and more. Earn 300 points the previous day and get a bonus swipe for guaranteed.
URL:https://goldranchrvcasino.com/event/weekly-swipe-and-win-2/2025-11-17/
CATEGORIES:Featured,Promotions
ATTACH;FMTTYPE=image/jpeg:https://goldranchrvcasino.com/wp-content/uploads/2020/09/2020-AUG-GRV-DAILY-SAW-WEB-600X402.jpg
END:VEVENT
END:VCALENDAR