BEGIN:VCALENDAR
VERSION:2.0
PRODID:-//Gold Ranch Casino &amp; RV Resort - ECPv6.15.13//NONSGML v1.0//EN
CALSCALE:GREGORIAN
METHOD:PUBLISH
X-WR-CALNAME:Gold Ranch Casino &amp; RV Resort
X-ORIGINAL-URL:https://goldranchrvcasino.com
X-WR-CALDESC:Events for Gold Ranch Casino &amp; RV Resort
REFRESH-INTERVAL;VALUE=DURATION:PT1H
X-Robots-Tag:noindex
X-PUBLISHED-TTL:PT1H
BEGIN:VTIMEZONE
TZID:America/Los_Angeles
BEGIN:DAYLIGHT
TZOFFSETFROM:-0800
TZOFFSETTO:-0700
TZNAME:PDT
DTSTART:20250309T100000
END:DAYLIGHT
BEGIN:STANDARD
TZOFFSETFROM:-0700
TZOFFSETTO:-0800
TZNAME:PST
DTSTART:20251102T090000
END:STANDARD
BEGIN:DAYLIGHT
TZOFFSETFROM:-0800
TZOFFSETTO:-0700
TZNAME:PDT
DTSTART:20260308T100000
END:DAYLIGHT
BEGIN:STANDARD
TZOFFSETFROM:-0700
TZOFFSETTO:-0800
TZNAME:PST
DTSTART:20261101T090000
END:STANDARD
BEGIN:DAYLIGHT
TZOFFSETFROM:-0800
TZOFFSETTO:-0700
TZNAME:PDT
DTSTART:20270314T100000
END:DAYLIGHT
BEGIN:STANDARD
TZOFFSETFROM:-0700
TZOFFSETTO:-0800
TZNAME:PST
DTSTART:20271107T090000
END:STANDARD
END:VTIMEZONE
BEGIN:VEVENT
DTSTART;VALUE=DATE:20260801
DTEND;VALUE=DATE:20260802
DTSTAMP:20260425T100228
CREATED:20260302T230412Z
LAST-MODIFIED:20260302T230412Z
UID:10024193-1785542400-1785628799@goldranchrvcasino.com
SUMMARY:Slam Dunk Special Earn & Get!
DESCRIPTION:Earn 500 points beginning Tuesday March 24th to get a Gold ranch stress relief basketball. Be one of the first 250 players to claim your prize. Print your voucher at the kiosk and present at Guest Services.
URL:https://goldranchrvcasino.com/event/slam-dunk-special-earn-get/2026-08-01/
CATEGORIES:Featured,Promotions
ATTACH;FMTTYPE=image/jpeg:https://goldranchrvcasino.com/wp-content/uploads/2026/03/2026-03-GRV-Slam-Dunk-Special-EAG-600x402-1.jpg
END:VEVENT
BEGIN:VEVENT
DTSTART;TZID=America/Los_Angeles:20260801T180000
DTEND;TZID=America/Los_Angeles:20260801T200000
DTSTAMP:20260425T100228
CREATED:20260302T212849Z
LAST-MODIFIED:20260302T212849Z
UID:10023562-1785607200-1785614400@goldranchrvcasino.com
SUMMARY:March Mania
DESCRIPTION:Shoot some mad hoops to win up to $400!\nThe last winner of the night will win everything left on the court. Now that’s a slam dunk!\nColelct tickets all week long.\nCheck in at any promotional kiosk.\nSaturdays: 6:00pm – 8:00pm
URL:https://goldranchrvcasino.com/event/march-mania-2/2026-08-01/
CATEGORIES:Featured,Promotions
ATTACH;FMTTYPE=image/jpeg:https://goldranchrvcasino.com/wp-content/uploads/2026/03/2026-03-GRV-March-Mania-600x402-1.jpg
END:VEVENT
BEGIN:VEVENT
DTSTART;TZID=America/Los_Angeles:20260802T000000
DTEND;TZID=America/Los_Angeles:20260802T235900
DTSTAMP:20260425T100228
CREATED:20231130T182426Z
LAST-MODIFIED:20251210T170231Z
UID:10022944-1785628800-1785715140@goldranchrvcasino.com
SUMMARY:Daily Swipe and Win
DESCRIPTION:Monday through Thursdays\, NOW ALL DAY! Swipe your card and win prizes such as FreePlay\, Comps\, points\, food\, discounts and more. Earn 300 points the previous day and get a bonus swipe for guaranteed.
URL:https://goldranchrvcasino.com/event/weekly-swipe-and-win-2/2026-08-02/
CATEGORIES:Featured,Promotions
ATTACH;FMTTYPE=image/jpeg:https://goldranchrvcasino.com/wp-content/uploads/2020/09/2020-AUG-GRV-DAILY-SAW-WEB-600X402.jpg
END:VEVENT
BEGIN:VEVENT
DTSTART;TZID=America/Los_Angeles:20260802T000000
DTEND;TZID=America/Los_Angeles:20260802T235900
DTSTAMP:20260425T100228
CREATED:20240930T193112Z
LAST-MODIFIED:20260102T220041Z
UID:10023270-1785628800-1785715140@goldranchrvcasino.com
SUMMARY:VIP Swipe
DESCRIPTION:Sundays\, all day!\nDiamond and Gold members enjoy an exclusive extra game each week\, with guaranteed FreePlay!
URL:https://goldranchrvcasino.com/event/vip-swipe/2026-08-02/
CATEGORIES:Featured,Promotions
ATTACH;FMTTYPE=image/jpeg:https://goldranchrvcasino.com/wp-content/uploads/2024/09/2024-10-rtr-vip-swipe-600x402-1.jpg
END:VEVENT
BEGIN:VEVENT
DTSTART;TZID=America/Los_Angeles:20260803T000000
DTEND;TZID=America/Los_Angeles:20260803T235900
DTSTAMP:20260425T100228
CREATED:20231130T182426Z
LAST-MODIFIED:20251210T170231Z
UID:10022945-1785715200-1785801540@goldranchrvcasino.com
SUMMARY:Daily Swipe and Win
DESCRIPTION:Monday through Thursdays\, NOW ALL DAY! Swipe your card and win prizes such as FreePlay\, Comps\, points\, food\, discounts and more. Earn 300 points the previous day and get a bonus swipe for guaranteed.
URL:https://goldranchrvcasino.com/event/weekly-swipe-and-win-2/2026-08-03/
CATEGORIES:Featured,Promotions
ATTACH;FMTTYPE=image/jpeg:https://goldranchrvcasino.com/wp-content/uploads/2020/09/2020-AUG-GRV-DAILY-SAW-WEB-600X402.jpg
END:VEVENT
BEGIN:VEVENT
DTSTART;TZID=America/Los_Angeles:20260804T000000
DTEND;TZID=America/Los_Angeles:20260804T235900
DTSTAMP:20260425T100228
CREATED:20231130T182426Z
LAST-MODIFIED:20251210T170231Z
UID:10022946-1785801600-1785887940@goldranchrvcasino.com
SUMMARY:Daily Swipe and Win
DESCRIPTION:Monday through Thursdays\, NOW ALL DAY! Swipe your card and win prizes such as FreePlay\, Comps\, points\, food\, discounts and more. Earn 300 points the previous day and get a bonus swipe for guaranteed.
URL:https://goldranchrvcasino.com/event/weekly-swipe-and-win-2/2026-08-04/
CATEGORIES:Featured,Promotions
ATTACH;FMTTYPE=image/jpeg:https://goldranchrvcasino.com/wp-content/uploads/2020/09/2020-AUG-GRV-DAILY-SAW-WEB-600X402.jpg
END:VEVENT
BEGIN:VEVENT
DTSTART;VALUE=DATE:20260804
DTEND;VALUE=DATE:20260805
DTSTAMP:20260425T100228
CREATED:20260302T230412Z
LAST-MODIFIED:20260302T230412Z
UID:10024194-1785801600-1785887999@goldranchrvcasino.com
SUMMARY:Slam Dunk Special Earn & Get!
DESCRIPTION:Earn 500 points beginning Tuesday March 24th to get a Gold ranch stress relief basketball. Be one of the first 250 players to claim your prize. Print your voucher at the kiosk and present at Guest Services.
URL:https://goldranchrvcasino.com/event/slam-dunk-special-earn-get/2026-08-04/
CATEGORIES:Featured,Promotions
ATTACH;FMTTYPE=image/jpeg:https://goldranchrvcasino.com/wp-content/uploads/2026/03/2026-03-GRV-Slam-Dunk-Special-EAG-600x402-1.jpg
END:VEVENT
BEGIN:VEVENT
DTSTART;TZID=America/Los_Angeles:20260805T000000
DTEND;TZID=America/Los_Angeles:20260805T235900
DTSTAMP:20260425T100228
CREATED:20231130T182426Z
LAST-MODIFIED:20251210T170231Z
UID:10022947-1785888000-1785974340@goldranchrvcasino.com
SUMMARY:Daily Swipe and Win
DESCRIPTION:Monday through Thursdays\, NOW ALL DAY! Swipe your card and win prizes such as FreePlay\, Comps\, points\, food\, discounts and more. Earn 300 points the previous day and get a bonus swipe for guaranteed.
URL:https://goldranchrvcasino.com/event/weekly-swipe-and-win-2/2026-08-05/
CATEGORIES:Featured,Promotions
ATTACH;FMTTYPE=image/jpeg:https://goldranchrvcasino.com/wp-content/uploads/2020/09/2020-AUG-GRV-DAILY-SAW-WEB-600X402.jpg
END:VEVENT
BEGIN:VEVENT
DTSTART;VALUE=DATE:20260805
DTEND;VALUE=DATE:20260806
DTSTAMP:20260425T100228
CREATED:20260302T230412Z
LAST-MODIFIED:20260302T230412Z
UID:10024195-1785888000-1785974399@goldranchrvcasino.com
SUMMARY:Slam Dunk Special Earn & Get!
DESCRIPTION:Earn 500 points beginning Tuesday March 24th to get a Gold ranch stress relief basketball. Be one of the first 250 players to claim your prize. Print your voucher at the kiosk and present at Guest Services.
URL:https://goldranchrvcasino.com/event/slam-dunk-special-earn-get/2026-08-05/
CATEGORIES:Featured,Promotions
ATTACH;FMTTYPE=image/jpeg:https://goldranchrvcasino.com/wp-content/uploads/2026/03/2026-03-GRV-Slam-Dunk-Special-EAG-600x402-1.jpg
END:VEVENT
BEGIN:VEVENT
DTSTART;TZID=America/Los_Angeles:20260805T060000
DTEND;TZID=America/Los_Angeles:20260805T190000
DTSTAMP:20260425T100228
CREATED:20260302T223353Z
LAST-MODIFIED:20260302T223353Z
UID:10024063-1785909600-1785956400@goldranchrvcasino.com
SUMMARY:Wild Wednesdays
DESCRIPTION:Wild Wednesdays\, where points meet plates!\nEarn 500 points to receive a $20 Food Comp at the Sierra Cafe and Coffee Bar
URL:https://goldranchrvcasino.com/event/wild-wednesdays/2026-08-05/
CATEGORIES:Featured,Promotions
ATTACH;FMTTYPE=image/jpeg:https://goldranchrvcasino.com/wp-content/uploads/2026/03/2026-03-GRV-Wild-Weds-EAG-600x402-1.jpg
END:VEVENT
BEGIN:VEVENT
DTSTART;TZID=America/Los_Angeles:20260806T000000
DTEND;TZID=America/Los_Angeles:20260806T235900
DTSTAMP:20260425T100228
CREATED:20231130T182426Z
LAST-MODIFIED:20251210T170231Z
UID:10022948-1785974400-1786060740@goldranchrvcasino.com
SUMMARY:Daily Swipe and Win
DESCRIPTION:Monday through Thursdays\, NOW ALL DAY! Swipe your card and win prizes such as FreePlay\, Comps\, points\, food\, discounts and more. Earn 300 points the previous day and get a bonus swipe for guaranteed.
URL:https://goldranchrvcasino.com/event/weekly-swipe-and-win-2/2026-08-06/
CATEGORIES:Featured,Promotions
ATTACH;FMTTYPE=image/jpeg:https://goldranchrvcasino.com/wp-content/uploads/2020/09/2020-AUG-GRV-DAILY-SAW-WEB-600X402.jpg
END:VEVENT
BEGIN:VEVENT
DTSTART;VALUE=DATE:20260806
DTEND;VALUE=DATE:20260807
DTSTAMP:20260425T100228
CREATED:20260302T230412Z
LAST-MODIFIED:20260302T230412Z
UID:10024196-1785974400-1786060799@goldranchrvcasino.com
SUMMARY:Slam Dunk Special Earn & Get!
DESCRIPTION:Earn 500 points beginning Tuesday March 24th to get a Gold ranch stress relief basketball. Be one of the first 250 players to claim your prize. Print your voucher at the kiosk and present at Guest Services.
URL:https://goldranchrvcasino.com/event/slam-dunk-special-earn-get/2026-08-06/
CATEGORIES:Featured,Promotions
ATTACH;FMTTYPE=image/jpeg:https://goldranchrvcasino.com/wp-content/uploads/2026/03/2026-03-GRV-Slam-Dunk-Special-EAG-600x402-1.jpg
END:VEVENT
BEGIN:VEVENT
DTSTART;VALUE=DATE:20260807
DTEND;VALUE=DATE:20260808
DTSTAMP:20260425T100228
CREATED:20260302T230412Z
LAST-MODIFIED:20260302T230412Z
UID:10024197-1786060800-1786147199@goldranchrvcasino.com
SUMMARY:Slam Dunk Special Earn & Get!
DESCRIPTION:Earn 500 points beginning Tuesday March 24th to get a Gold ranch stress relief basketball. Be one of the first 250 players to claim your prize. Print your voucher at the kiosk and present at Guest Services.
URL:https://goldranchrvcasino.com/event/slam-dunk-special-earn-get/2026-08-07/
CATEGORIES:Featured,Promotions
ATTACH;FMTTYPE=image/jpeg:https://goldranchrvcasino.com/wp-content/uploads/2026/03/2026-03-GRV-Slam-Dunk-Special-EAG-600x402-1.jpg
END:VEVENT
BEGIN:VEVENT
DTSTART;TZID=America/Los_Angeles:20260807T180000
DTEND;TZID=America/Los_Angeles:20260807T200000
DTSTAMP:20260425T100228
CREATED:20260302T212849Z
LAST-MODIFIED:20260302T212849Z
UID:10023563-1786125600-1786132800@goldranchrvcasino.com
SUMMARY:March Mania
DESCRIPTION:Shoot some mad hoops to win up to $400!\nThe last winner of the night will win everything left on the court. Now that’s a slam dunk!\nColelct tickets all week long.\nCheck in at any promotional kiosk.\nSaturdays: 6:00pm – 8:00pm
URL:https://goldranchrvcasino.com/event/march-mania-2/2026-08-07/
CATEGORIES:Featured,Promotions
ATTACH;FMTTYPE=image/jpeg:https://goldranchrvcasino.com/wp-content/uploads/2026/03/2026-03-GRV-March-Mania-600x402-1.jpg
END:VEVENT
BEGIN:VEVENT
DTSTART;VALUE=DATE:20260808
DTEND;VALUE=DATE:20260809
DTSTAMP:20260425T100228
CREATED:20260302T230412Z
LAST-MODIFIED:20260302T230412Z
UID:10024198-1786147200-1786233599@goldranchrvcasino.com
SUMMARY:Slam Dunk Special Earn & Get!
DESCRIPTION:Earn 500 points beginning Tuesday March 24th to get a Gold ranch stress relief basketball. Be one of the first 250 players to claim your prize. Print your voucher at the kiosk and present at Guest Services.
URL:https://goldranchrvcasino.com/event/slam-dunk-special-earn-get/2026-08-08/
CATEGORIES:Featured,Promotions
ATTACH;FMTTYPE=image/jpeg:https://goldranchrvcasino.com/wp-content/uploads/2026/03/2026-03-GRV-Slam-Dunk-Special-EAG-600x402-1.jpg
END:VEVENT
BEGIN:VEVENT
DTSTART;TZID=America/Los_Angeles:20260808T180000
DTEND;TZID=America/Los_Angeles:20260808T200000
DTSTAMP:20260425T100228
CREATED:20260302T212849Z
LAST-MODIFIED:20260302T212849Z
UID:10023564-1786212000-1786219200@goldranchrvcasino.com
SUMMARY:March Mania
DESCRIPTION:Shoot some mad hoops to win up to $400!\nThe last winner of the night will win everything left on the court. Now that’s a slam dunk!\nColelct tickets all week long.\nCheck in at any promotional kiosk.\nSaturdays: 6:00pm – 8:00pm
URL:https://goldranchrvcasino.com/event/march-mania-2/2026-08-08/
CATEGORIES:Featured,Promotions
ATTACH;FMTTYPE=image/jpeg:https://goldranchrvcasino.com/wp-content/uploads/2026/03/2026-03-GRV-March-Mania-600x402-1.jpg
END:VEVENT
BEGIN:VEVENT
DTSTART;TZID=America/Los_Angeles:20260809T000000
DTEND;TZID=America/Los_Angeles:20260809T235900
DTSTAMP:20260425T100228
CREATED:20231130T182426Z
LAST-MODIFIED:20251210T170231Z
UID:10022949-1786233600-1786319940@goldranchrvcasino.com
SUMMARY:Daily Swipe and Win
DESCRIPTION:Monday through Thursdays\, NOW ALL DAY! Swipe your card and win prizes such as FreePlay\, Comps\, points\, food\, discounts and more. Earn 300 points the previous day and get a bonus swipe for guaranteed.
URL:https://goldranchrvcasino.com/event/weekly-swipe-and-win-2/2026-08-09/
CATEGORIES:Featured,Promotions
ATTACH;FMTTYPE=image/jpeg:https://goldranchrvcasino.com/wp-content/uploads/2020/09/2020-AUG-GRV-DAILY-SAW-WEB-600X402.jpg
END:VEVENT
BEGIN:VEVENT
DTSTART;TZID=America/Los_Angeles:20260809T000000
DTEND;TZID=America/Los_Angeles:20260809T235900
DTSTAMP:20260425T100228
CREATED:20240930T193112Z
LAST-MODIFIED:20260102T220041Z
UID:10023271-1786233600-1786319940@goldranchrvcasino.com
SUMMARY:VIP Swipe
DESCRIPTION:Sundays\, all day!\nDiamond and Gold members enjoy an exclusive extra game each week\, with guaranteed FreePlay!
URL:https://goldranchrvcasino.com/event/vip-swipe/2026-08-09/
CATEGORIES:Featured,Promotions
ATTACH;FMTTYPE=image/jpeg:https://goldranchrvcasino.com/wp-content/uploads/2024/09/2024-10-rtr-vip-swipe-600x402-1.jpg
END:VEVENT
BEGIN:VEVENT
DTSTART;TZID=America/Los_Angeles:20260810T000000
DTEND;TZID=America/Los_Angeles:20260810T235900
DTSTAMP:20260425T100228
CREATED:20231130T182426Z
LAST-MODIFIED:20251210T170231Z
UID:10022950-1786320000-1786406340@goldranchrvcasino.com
SUMMARY:Daily Swipe and Win
DESCRIPTION:Monday through Thursdays\, NOW ALL DAY! Swipe your card and win prizes such as FreePlay\, Comps\, points\, food\, discounts and more. Earn 300 points the previous day and get a bonus swipe for guaranteed.
URL:https://goldranchrvcasino.com/event/weekly-swipe-and-win-2/2026-08-10/
CATEGORIES:Featured,Promotions
ATTACH;FMTTYPE=image/jpeg:https://goldranchrvcasino.com/wp-content/uploads/2020/09/2020-AUG-GRV-DAILY-SAW-WEB-600X402.jpg
END:VEVENT
BEGIN:VEVENT
DTSTART;TZID=America/Los_Angeles:20260811T000000
DTEND;TZID=America/Los_Angeles:20260811T235900
DTSTAMP:20260425T100228
CREATED:20231130T182426Z
LAST-MODIFIED:20251210T170231Z
UID:10022951-1786406400-1786492740@goldranchrvcasino.com
SUMMARY:Daily Swipe and Win
DESCRIPTION:Monday through Thursdays\, NOW ALL DAY! Swipe your card and win prizes such as FreePlay\, Comps\, points\, food\, discounts and more. Earn 300 points the previous day and get a bonus swipe for guaranteed.
URL:https://goldranchrvcasino.com/event/weekly-swipe-and-win-2/2026-08-11/
CATEGORIES:Featured,Promotions
ATTACH;FMTTYPE=image/jpeg:https://goldranchrvcasino.com/wp-content/uploads/2020/09/2020-AUG-GRV-DAILY-SAW-WEB-600X402.jpg
END:VEVENT
BEGIN:VEVENT
DTSTART;VALUE=DATE:20260811
DTEND;VALUE=DATE:20260812
DTSTAMP:20260425T100228
CREATED:20260302T230412Z
LAST-MODIFIED:20260302T230412Z
UID:10024199-1786406400-1786492799@goldranchrvcasino.com
SUMMARY:Slam Dunk Special Earn & Get!
DESCRIPTION:Earn 500 points beginning Tuesday March 24th to get a Gold ranch stress relief basketball. Be one of the first 250 players to claim your prize. Print your voucher at the kiosk and present at Guest Services.
URL:https://goldranchrvcasino.com/event/slam-dunk-special-earn-get/2026-08-11/
CATEGORIES:Featured,Promotions
ATTACH;FMTTYPE=image/jpeg:https://goldranchrvcasino.com/wp-content/uploads/2026/03/2026-03-GRV-Slam-Dunk-Special-EAG-600x402-1.jpg
END:VEVENT
BEGIN:VEVENT
DTSTART;TZID=America/Los_Angeles:20260812T000000
DTEND;TZID=America/Los_Angeles:20260812T235900
DTSTAMP:20260425T100228
CREATED:20231130T182426Z
LAST-MODIFIED:20251210T170231Z
UID:10022952-1786492800-1786579140@goldranchrvcasino.com
SUMMARY:Daily Swipe and Win
DESCRIPTION:Monday through Thursdays\, NOW ALL DAY! Swipe your card and win prizes such as FreePlay\, Comps\, points\, food\, discounts and more. Earn 300 points the previous day and get a bonus swipe for guaranteed.
URL:https://goldranchrvcasino.com/event/weekly-swipe-and-win-2/2026-08-12/
CATEGORIES:Featured,Promotions
ATTACH;FMTTYPE=image/jpeg:https://goldranchrvcasino.com/wp-content/uploads/2020/09/2020-AUG-GRV-DAILY-SAW-WEB-600X402.jpg
END:VEVENT
BEGIN:VEVENT
DTSTART;VALUE=DATE:20260812
DTEND;VALUE=DATE:20260813
DTSTAMP:20260425T100228
CREATED:20260302T230412Z
LAST-MODIFIED:20260302T230412Z
UID:10024200-1786492800-1786579199@goldranchrvcasino.com
SUMMARY:Slam Dunk Special Earn & Get!
DESCRIPTION:Earn 500 points beginning Tuesday March 24th to get a Gold ranch stress relief basketball. Be one of the first 250 players to claim your prize. Print your voucher at the kiosk and present at Guest Services.
URL:https://goldranchrvcasino.com/event/slam-dunk-special-earn-get/2026-08-12/
CATEGORIES:Featured,Promotions
ATTACH;FMTTYPE=image/jpeg:https://goldranchrvcasino.com/wp-content/uploads/2026/03/2026-03-GRV-Slam-Dunk-Special-EAG-600x402-1.jpg
END:VEVENT
BEGIN:VEVENT
DTSTART;TZID=America/Los_Angeles:20260812T060000
DTEND;TZID=America/Los_Angeles:20260812T190000
DTSTAMP:20260425T100228
CREATED:20260302T223353Z
LAST-MODIFIED:20260302T223353Z
UID:10024064-1786514400-1786561200@goldranchrvcasino.com
SUMMARY:Wild Wednesdays
DESCRIPTION:Wild Wednesdays\, where points meet plates!\nEarn 500 points to receive a $20 Food Comp at the Sierra Cafe and Coffee Bar
URL:https://goldranchrvcasino.com/event/wild-wednesdays/2026-08-12/
CATEGORIES:Featured,Promotions
ATTACH;FMTTYPE=image/jpeg:https://goldranchrvcasino.com/wp-content/uploads/2026/03/2026-03-GRV-Wild-Weds-EAG-600x402-1.jpg
END:VEVENT
BEGIN:VEVENT
DTSTART;TZID=America/Los_Angeles:20260813T000000
DTEND;TZID=America/Los_Angeles:20260813T235900
DTSTAMP:20260425T100228
CREATED:20231130T182426Z
LAST-MODIFIED:20251210T170231Z
UID:10022953-1786579200-1786665540@goldranchrvcasino.com
SUMMARY:Daily Swipe and Win
DESCRIPTION:Monday through Thursdays\, NOW ALL DAY! Swipe your card and win prizes such as FreePlay\, Comps\, points\, food\, discounts and more. Earn 300 points the previous day and get a bonus swipe for guaranteed.
URL:https://goldranchrvcasino.com/event/weekly-swipe-and-win-2/2026-08-13/
CATEGORIES:Featured,Promotions
ATTACH;FMTTYPE=image/jpeg:https://goldranchrvcasino.com/wp-content/uploads/2020/09/2020-AUG-GRV-DAILY-SAW-WEB-600X402.jpg
END:VEVENT
BEGIN:VEVENT
DTSTART;VALUE=DATE:20260813
DTEND;VALUE=DATE:20260814
DTSTAMP:20260425T100228
CREATED:20260302T230412Z
LAST-MODIFIED:20260302T230412Z
UID:10024201-1786579200-1786665599@goldranchrvcasino.com
SUMMARY:Slam Dunk Special Earn & Get!
DESCRIPTION:Earn 500 points beginning Tuesday March 24th to get a Gold ranch stress relief basketball. Be one of the first 250 players to claim your prize. Print your voucher at the kiosk and present at Guest Services.
URL:https://goldranchrvcasino.com/event/slam-dunk-special-earn-get/2026-08-13/
CATEGORIES:Featured,Promotions
ATTACH;FMTTYPE=image/jpeg:https://goldranchrvcasino.com/wp-content/uploads/2026/03/2026-03-GRV-Slam-Dunk-Special-EAG-600x402-1.jpg
END:VEVENT
BEGIN:VEVENT
DTSTART;VALUE=DATE:20260814
DTEND;VALUE=DATE:20260815
DTSTAMP:20260425T100228
CREATED:20260302T230412Z
LAST-MODIFIED:20260302T230412Z
UID:10024202-1786665600-1786751999@goldranchrvcasino.com
SUMMARY:Slam Dunk Special Earn & Get!
DESCRIPTION:Earn 500 points beginning Tuesday March 24th to get a Gold ranch stress relief basketball. Be one of the first 250 players to claim your prize. Print your voucher at the kiosk and present at Guest Services.
URL:https://goldranchrvcasino.com/event/slam-dunk-special-earn-get/2026-08-14/
CATEGORIES:Featured,Promotions
ATTACH;FMTTYPE=image/jpeg:https://goldranchrvcasino.com/wp-content/uploads/2026/03/2026-03-GRV-Slam-Dunk-Special-EAG-600x402-1.jpg
END:VEVENT
BEGIN:VEVENT
DTSTART;TZID=America/Los_Angeles:20260814T180000
DTEND;TZID=America/Los_Angeles:20260814T200000
DTSTAMP:20260425T100228
CREATED:20260302T212849Z
LAST-MODIFIED:20260302T212849Z
UID:10023565-1786730400-1786737600@goldranchrvcasino.com
SUMMARY:March Mania
DESCRIPTION:Shoot some mad hoops to win up to $400!\nThe last winner of the night will win everything left on the court. Now that’s a slam dunk!\nColelct tickets all week long.\nCheck in at any promotional kiosk.\nSaturdays: 6:00pm – 8:00pm
URL:https://goldranchrvcasino.com/event/march-mania-2/2026-08-14/
CATEGORIES:Featured,Promotions
ATTACH;FMTTYPE=image/jpeg:https://goldranchrvcasino.com/wp-content/uploads/2026/03/2026-03-GRV-March-Mania-600x402-1.jpg
END:VEVENT
BEGIN:VEVENT
DTSTART;VALUE=DATE:20260815
DTEND;VALUE=DATE:20260816
DTSTAMP:20260425T100228
CREATED:20260302T230412Z
LAST-MODIFIED:20260302T230412Z
UID:10024203-1786752000-1786838399@goldranchrvcasino.com
SUMMARY:Slam Dunk Special Earn & Get!
DESCRIPTION:Earn 500 points beginning Tuesday March 24th to get a Gold ranch stress relief basketball. Be one of the first 250 players to claim your prize. Print your voucher at the kiosk and present at Guest Services.
URL:https://goldranchrvcasino.com/event/slam-dunk-special-earn-get/2026-08-15/
CATEGORIES:Featured,Promotions
ATTACH;FMTTYPE=image/jpeg:https://goldranchrvcasino.com/wp-content/uploads/2026/03/2026-03-GRV-Slam-Dunk-Special-EAG-600x402-1.jpg
END:VEVENT
BEGIN:VEVENT
DTSTART;TZID=America/Los_Angeles:20260815T180000
DTEND;TZID=America/Los_Angeles:20260815T200000
DTSTAMP:20260425T100228
CREATED:20260302T212849Z
LAST-MODIFIED:20260302T212849Z
UID:10023566-1786816800-1786824000@goldranchrvcasino.com
SUMMARY:March Mania
DESCRIPTION:Shoot some mad hoops to win up to $400!\nThe last winner of the night will win everything left on the court. Now that’s a slam dunk!\nColelct tickets all week long.\nCheck in at any promotional kiosk.\nSaturdays: 6:00pm – 8:00pm
URL:https://goldranchrvcasino.com/event/march-mania-2/2026-08-15/
CATEGORIES:Featured,Promotions
ATTACH;FMTTYPE=image/jpeg:https://goldranchrvcasino.com/wp-content/uploads/2026/03/2026-03-GRV-March-Mania-600x402-1.jpg
END:VEVENT
END:VCALENDAR