BEGIN:VCALENDAR
VERSION:2.0
PRODID:-//Gold Ranch Casino &amp; RV Resort - ECPv6.15.13//NONSGML v1.0//EN
CALSCALE:GREGORIAN
METHOD:PUBLISH
X-WR-CALNAME:Gold Ranch Casino &amp; RV Resort
X-ORIGINAL-URL:https://goldranchrvcasino.com
X-WR-CALDESC:Events for Gold Ranch Casino &amp; RV Resort
REFRESH-INTERVAL;VALUE=DURATION:PT1H
X-Robots-Tag:noindex
X-PUBLISHED-TTL:PT1H
BEGIN:VTIMEZONE
TZID:America/Los_Angeles
BEGIN:DAYLIGHT
TZOFFSETFROM:-0800
TZOFFSETTO:-0700
TZNAME:PDT
DTSTART:20250309T100000
END:DAYLIGHT
BEGIN:STANDARD
TZOFFSETFROM:-0700
TZOFFSETTO:-0800
TZNAME:PST
DTSTART:20251102T090000
END:STANDARD
BEGIN:DAYLIGHT
TZOFFSETFROM:-0800
TZOFFSETTO:-0700
TZNAME:PDT
DTSTART:20260308T100000
END:DAYLIGHT
BEGIN:STANDARD
TZOFFSETFROM:-0700
TZOFFSETTO:-0800
TZNAME:PST
DTSTART:20261101T090000
END:STANDARD
BEGIN:DAYLIGHT
TZOFFSETFROM:-0800
TZOFFSETTO:-0700
TZNAME:PDT
DTSTART:20270314T100000
END:DAYLIGHT
BEGIN:STANDARD
TZOFFSETFROM:-0700
TZOFFSETTO:-0800
TZNAME:PST
DTSTART:20271107T090000
END:STANDARD
END:VTIMEZONE
BEGIN:VEVENT
DTSTART;TZID=America/Los_Angeles:20261101T000000
DTEND;TZID=America/Los_Angeles:20261101T225900
DTSTAMP:20260425T154054
CREATED:20231130T182426Z
LAST-MODIFIED:20251210T170231Z
UID:10023009-1793491200-1793573940@goldranchrvcasino.com
SUMMARY:Daily Swipe and Win
DESCRIPTION:Monday through Thursdays\, NOW ALL DAY! Swipe your card and win prizes such as FreePlay\, Comps\, points\, food\, discounts and more. Earn 300 points the previous day and get a bonus swipe for guaranteed.
URL:https://goldranchrvcasino.com/event/weekly-swipe-and-win-2/2026-11-01/
CATEGORIES:Featured,Promotions
ATTACH;FMTTYPE=image/jpeg:https://goldranchrvcasino.com/wp-content/uploads/2020/09/2020-AUG-GRV-DAILY-SAW-WEB-600X402.jpg
END:VEVENT
BEGIN:VEVENT
DTSTART;TZID=America/Los_Angeles:20261101T000000
DTEND;TZID=America/Los_Angeles:20261101T225900
DTSTAMP:20260425T154054
CREATED:20240930T193112Z
LAST-MODIFIED:20260102T220041Z
UID:10023283-1793491200-1793573940@goldranchrvcasino.com
SUMMARY:VIP Swipe
DESCRIPTION:Sundays\, all day!\nDiamond and Gold members enjoy an exclusive extra game each week\, with guaranteed FreePlay!
URL:https://goldranchrvcasino.com/event/vip-swipe/2026-11-01/
CATEGORIES:Featured,Promotions
ATTACH;FMTTYPE=image/jpeg:https://goldranchrvcasino.com/wp-content/uploads/2024/09/2024-10-rtr-vip-swipe-600x402-1.jpg
END:VEVENT
BEGIN:VEVENT
DTSTART;TZID=America/Los_Angeles:20261102T000000
DTEND;TZID=America/Los_Angeles:20261102T235900
DTSTAMP:20260425T154054
CREATED:20231130T182426Z
LAST-MODIFIED:20251210T170231Z
UID:10023010-1793577600-1793663940@goldranchrvcasino.com
SUMMARY:Daily Swipe and Win
DESCRIPTION:Monday through Thursdays\, NOW ALL DAY! Swipe your card and win prizes such as FreePlay\, Comps\, points\, food\, discounts and more. Earn 300 points the previous day and get a bonus swipe for guaranteed.
URL:https://goldranchrvcasino.com/event/weekly-swipe-and-win-2/2026-11-02/
CATEGORIES:Featured,Promotions
ATTACH;FMTTYPE=image/jpeg:https://goldranchrvcasino.com/wp-content/uploads/2020/09/2020-AUG-GRV-DAILY-SAW-WEB-600X402.jpg
END:VEVENT
BEGIN:VEVENT
DTSTART;TZID=America/Los_Angeles:20261103T000000
DTEND;TZID=America/Los_Angeles:20261103T235900
DTSTAMP:20260425T154054
CREATED:20231130T182426Z
LAST-MODIFIED:20251210T170231Z
UID:10023011-1793664000-1793750340@goldranchrvcasino.com
SUMMARY:Daily Swipe and Win
DESCRIPTION:Monday through Thursdays\, NOW ALL DAY! Swipe your card and win prizes such as FreePlay\, Comps\, points\, food\, discounts and more. Earn 300 points the previous day and get a bonus swipe for guaranteed.
URL:https://goldranchrvcasino.com/event/weekly-swipe-and-win-2/2026-11-03/
CATEGORIES:Featured,Promotions
ATTACH;FMTTYPE=image/jpeg:https://goldranchrvcasino.com/wp-content/uploads/2020/09/2020-AUG-GRV-DAILY-SAW-WEB-600X402.jpg
END:VEVENT
BEGIN:VEVENT
DTSTART;VALUE=DATE:20261103
DTEND;VALUE=DATE:20261104
DTSTAMP:20260425T154054
CREATED:20260302T230412Z
LAST-MODIFIED:20260302T230412Z
UID:10024259-1793664000-1793750399@goldranchrvcasino.com
SUMMARY:Slam Dunk Special Earn & Get!
DESCRIPTION:Earn 500 points beginning Tuesday March 24th to get a Gold ranch stress relief basketball. Be one of the first 250 players to claim your prize. Print your voucher at the kiosk and present at Guest Services.
URL:https://goldranchrvcasino.com/event/slam-dunk-special-earn-get/2026-11-03/
CATEGORIES:Featured,Promotions
ATTACH;FMTTYPE=image/jpeg:https://goldranchrvcasino.com/wp-content/uploads/2026/03/2026-03-GRV-Slam-Dunk-Special-EAG-600x402-1.jpg
END:VEVENT
BEGIN:VEVENT
DTSTART;TZID=America/Los_Angeles:20261104T000000
DTEND;TZID=America/Los_Angeles:20261104T235900
DTSTAMP:20260425T154054
CREATED:20231130T182426Z
LAST-MODIFIED:20251210T170231Z
UID:10023012-1793750400-1793836740@goldranchrvcasino.com
SUMMARY:Daily Swipe and Win
DESCRIPTION:Monday through Thursdays\, NOW ALL DAY! Swipe your card and win prizes such as FreePlay\, Comps\, points\, food\, discounts and more. Earn 300 points the previous day and get a bonus swipe for guaranteed.
URL:https://goldranchrvcasino.com/event/weekly-swipe-and-win-2/2026-11-04/
CATEGORIES:Featured,Promotions
ATTACH;FMTTYPE=image/jpeg:https://goldranchrvcasino.com/wp-content/uploads/2020/09/2020-AUG-GRV-DAILY-SAW-WEB-600X402.jpg
END:VEVENT
BEGIN:VEVENT
DTSTART;VALUE=DATE:20261104
DTEND;VALUE=DATE:20261105
DTSTAMP:20260425T154054
CREATED:20260302T230412Z
LAST-MODIFIED:20260302T230412Z
UID:10024260-1793750400-1793836799@goldranchrvcasino.com
SUMMARY:Slam Dunk Special Earn & Get!
DESCRIPTION:Earn 500 points beginning Tuesday March 24th to get a Gold ranch stress relief basketball. Be one of the first 250 players to claim your prize. Print your voucher at the kiosk and present at Guest Services.
URL:https://goldranchrvcasino.com/event/slam-dunk-special-earn-get/2026-11-04/
CATEGORIES:Featured,Promotions
ATTACH;FMTTYPE=image/jpeg:https://goldranchrvcasino.com/wp-content/uploads/2026/03/2026-03-GRV-Slam-Dunk-Special-EAG-600x402-1.jpg
END:VEVENT
BEGIN:VEVENT
DTSTART;TZID=America/Los_Angeles:20261104T060000
DTEND;TZID=America/Los_Angeles:20261104T190000
DTSTAMP:20260425T154054
CREATED:20260302T223353Z
LAST-MODIFIED:20260302T223353Z
UID:10024076-1793772000-1793818800@goldranchrvcasino.com
SUMMARY:Wild Wednesdays
DESCRIPTION:Wild Wednesdays\, where points meet plates!\nEarn 500 points to receive a $20 Food Comp at the Sierra Cafe and Coffee Bar
URL:https://goldranchrvcasino.com/event/wild-wednesdays/2026-11-04/
CATEGORIES:Featured,Promotions
ATTACH;FMTTYPE=image/jpeg:https://goldranchrvcasino.com/wp-content/uploads/2026/03/2026-03-GRV-Wild-Weds-EAG-600x402-1.jpg
END:VEVENT
BEGIN:VEVENT
DTSTART;TZID=America/Los_Angeles:20261105T000000
DTEND;TZID=America/Los_Angeles:20261105T235900
DTSTAMP:20260425T154054
CREATED:20231130T182426Z
LAST-MODIFIED:20251210T170231Z
UID:10023013-1793836800-1793923140@goldranchrvcasino.com
SUMMARY:Daily Swipe and Win
DESCRIPTION:Monday through Thursdays\, NOW ALL DAY! Swipe your card and win prizes such as FreePlay\, Comps\, points\, food\, discounts and more. Earn 300 points the previous day and get a bonus swipe for guaranteed.
URL:https://goldranchrvcasino.com/event/weekly-swipe-and-win-2/2026-11-05/
CATEGORIES:Featured,Promotions
ATTACH;FMTTYPE=image/jpeg:https://goldranchrvcasino.com/wp-content/uploads/2020/09/2020-AUG-GRV-DAILY-SAW-WEB-600X402.jpg
END:VEVENT
BEGIN:VEVENT
DTSTART;VALUE=DATE:20261105
DTEND;VALUE=DATE:20261106
DTSTAMP:20260425T154054
CREATED:20260302T230412Z
LAST-MODIFIED:20260302T230412Z
UID:10024261-1793836800-1793923199@goldranchrvcasino.com
SUMMARY:Slam Dunk Special Earn & Get!
DESCRIPTION:Earn 500 points beginning Tuesday March 24th to get a Gold ranch stress relief basketball. Be one of the first 250 players to claim your prize. Print your voucher at the kiosk and present at Guest Services.
URL:https://goldranchrvcasino.com/event/slam-dunk-special-earn-get/2026-11-05/
CATEGORIES:Featured,Promotions
ATTACH;FMTTYPE=image/jpeg:https://goldranchrvcasino.com/wp-content/uploads/2026/03/2026-03-GRV-Slam-Dunk-Special-EAG-600x402-1.jpg
END:VEVENT
BEGIN:VEVENT
DTSTART;VALUE=DATE:20261106
DTEND;VALUE=DATE:20261107
DTSTAMP:20260425T154054
CREATED:20260302T230412Z
LAST-MODIFIED:20260302T230412Z
UID:10024262-1793923200-1794009599@goldranchrvcasino.com
SUMMARY:Slam Dunk Special Earn & Get!
DESCRIPTION:Earn 500 points beginning Tuesday March 24th to get a Gold ranch stress relief basketball. Be one of the first 250 players to claim your prize. Print your voucher at the kiosk and present at Guest Services.
URL:https://goldranchrvcasino.com/event/slam-dunk-special-earn-get/2026-11-06/
CATEGORIES:Featured,Promotions
ATTACH;FMTTYPE=image/jpeg:https://goldranchrvcasino.com/wp-content/uploads/2026/03/2026-03-GRV-Slam-Dunk-Special-EAG-600x402-1.jpg
END:VEVENT
BEGIN:VEVENT
DTSTART;TZID=America/Los_Angeles:20261106T180000
DTEND;TZID=America/Los_Angeles:20261106T200000
DTSTAMP:20260425T154054
CREATED:20260302T212849Z
LAST-MODIFIED:20260302T212849Z
UID:10023589-1793988000-1793995200@goldranchrvcasino.com
SUMMARY:March Mania
DESCRIPTION:Shoot some mad hoops to win up to $400!\nThe last winner of the night will win everything left on the court. Now that’s a slam dunk!\nColelct tickets all week long.\nCheck in at any promotional kiosk.\nSaturdays: 6:00pm – 8:00pm
URL:https://goldranchrvcasino.com/event/march-mania-2/2026-11-06/
CATEGORIES:Featured,Promotions
ATTACH;FMTTYPE=image/jpeg:https://goldranchrvcasino.com/wp-content/uploads/2026/03/2026-03-GRV-March-Mania-600x402-1.jpg
END:VEVENT
BEGIN:VEVENT
DTSTART;VALUE=DATE:20261107
DTEND;VALUE=DATE:20261108
DTSTAMP:20260425T154054
CREATED:20260302T230412Z
LAST-MODIFIED:20260302T230412Z
UID:10024263-1794009600-1794095999@goldranchrvcasino.com
SUMMARY:Slam Dunk Special Earn & Get!
DESCRIPTION:Earn 500 points beginning Tuesday March 24th to get a Gold ranch stress relief basketball. Be one of the first 250 players to claim your prize. Print your voucher at the kiosk and present at Guest Services.
URL:https://goldranchrvcasino.com/event/slam-dunk-special-earn-get/2026-11-07/
CATEGORIES:Featured,Promotions
ATTACH;FMTTYPE=image/jpeg:https://goldranchrvcasino.com/wp-content/uploads/2026/03/2026-03-GRV-Slam-Dunk-Special-EAG-600x402-1.jpg
END:VEVENT
BEGIN:VEVENT
DTSTART;TZID=America/Los_Angeles:20261107T180000
DTEND;TZID=America/Los_Angeles:20261107T200000
DTSTAMP:20260425T154054
CREATED:20260302T212849Z
LAST-MODIFIED:20260302T212849Z
UID:10023590-1794074400-1794081600@goldranchrvcasino.com
SUMMARY:March Mania
DESCRIPTION:Shoot some mad hoops to win up to $400!\nThe last winner of the night will win everything left on the court. Now that’s a slam dunk!\nColelct tickets all week long.\nCheck in at any promotional kiosk.\nSaturdays: 6:00pm – 8:00pm
URL:https://goldranchrvcasino.com/event/march-mania-2/2026-11-07/
CATEGORIES:Featured,Promotions
ATTACH;FMTTYPE=image/jpeg:https://goldranchrvcasino.com/wp-content/uploads/2026/03/2026-03-GRV-March-Mania-600x402-1.jpg
END:VEVENT
BEGIN:VEVENT
DTSTART;TZID=America/Los_Angeles:20261108T000000
DTEND;TZID=America/Los_Angeles:20261108T235900
DTSTAMP:20260425T154054
CREATED:20231130T182426Z
LAST-MODIFIED:20251210T170231Z
UID:10023014-1794096000-1794182340@goldranchrvcasino.com
SUMMARY:Daily Swipe and Win
DESCRIPTION:Monday through Thursdays\, NOW ALL DAY! Swipe your card and win prizes such as FreePlay\, Comps\, points\, food\, discounts and more. Earn 300 points the previous day and get a bonus swipe for guaranteed.
URL:https://goldranchrvcasino.com/event/weekly-swipe-and-win-2/2026-11-08/
CATEGORIES:Featured,Promotions
ATTACH;FMTTYPE=image/jpeg:https://goldranchrvcasino.com/wp-content/uploads/2020/09/2020-AUG-GRV-DAILY-SAW-WEB-600X402.jpg
END:VEVENT
BEGIN:VEVENT
DTSTART;TZID=America/Los_Angeles:20261108T000000
DTEND;TZID=America/Los_Angeles:20261108T235900
DTSTAMP:20260425T154054
CREATED:20240930T193112Z
LAST-MODIFIED:20260102T220041Z
UID:10023284-1794096000-1794182340@goldranchrvcasino.com
SUMMARY:VIP Swipe
DESCRIPTION:Sundays\, all day!\nDiamond and Gold members enjoy an exclusive extra game each week\, with guaranteed FreePlay!
URL:https://goldranchrvcasino.com/event/vip-swipe/2026-11-08/
CATEGORIES:Featured,Promotions
ATTACH;FMTTYPE=image/jpeg:https://goldranchrvcasino.com/wp-content/uploads/2024/09/2024-10-rtr-vip-swipe-600x402-1.jpg
END:VEVENT
BEGIN:VEVENT
DTSTART;TZID=America/Los_Angeles:20261109T000000
DTEND;TZID=America/Los_Angeles:20261109T235900
DTSTAMP:20260425T154054
CREATED:20231130T182426Z
LAST-MODIFIED:20251210T170231Z
UID:10023015-1794182400-1794268740@goldranchrvcasino.com
SUMMARY:Daily Swipe and Win
DESCRIPTION:Monday through Thursdays\, NOW ALL DAY! Swipe your card and win prizes such as FreePlay\, Comps\, points\, food\, discounts and more. Earn 300 points the previous day and get a bonus swipe for guaranteed.
URL:https://goldranchrvcasino.com/event/weekly-swipe-and-win-2/2026-11-09/
CATEGORIES:Featured,Promotions
ATTACH;FMTTYPE=image/jpeg:https://goldranchrvcasino.com/wp-content/uploads/2020/09/2020-AUG-GRV-DAILY-SAW-WEB-600X402.jpg
END:VEVENT
BEGIN:VEVENT
DTSTART;TZID=America/Los_Angeles:20261110T000000
DTEND;TZID=America/Los_Angeles:20261110T235900
DTSTAMP:20260425T154054
CREATED:20231130T182426Z
LAST-MODIFIED:20251210T170231Z
UID:10023016-1794268800-1794355140@goldranchrvcasino.com
SUMMARY:Daily Swipe and Win
DESCRIPTION:Monday through Thursdays\, NOW ALL DAY! Swipe your card and win prizes such as FreePlay\, Comps\, points\, food\, discounts and more. Earn 300 points the previous day and get a bonus swipe for guaranteed.
URL:https://goldranchrvcasino.com/event/weekly-swipe-and-win-2/2026-11-10/
CATEGORIES:Featured,Promotions
ATTACH;FMTTYPE=image/jpeg:https://goldranchrvcasino.com/wp-content/uploads/2020/09/2020-AUG-GRV-DAILY-SAW-WEB-600X402.jpg
END:VEVENT
BEGIN:VEVENT
DTSTART;VALUE=DATE:20261110
DTEND;VALUE=DATE:20261111
DTSTAMP:20260425T154054
CREATED:20260302T230412Z
LAST-MODIFIED:20260302T230412Z
UID:10024264-1794268800-1794355199@goldranchrvcasino.com
SUMMARY:Slam Dunk Special Earn & Get!
DESCRIPTION:Earn 500 points beginning Tuesday March 24th to get a Gold ranch stress relief basketball. Be one of the first 250 players to claim your prize. Print your voucher at the kiosk and present at Guest Services.
URL:https://goldranchrvcasino.com/event/slam-dunk-special-earn-get/2026-11-10/
CATEGORIES:Featured,Promotions
ATTACH;FMTTYPE=image/jpeg:https://goldranchrvcasino.com/wp-content/uploads/2026/03/2026-03-GRV-Slam-Dunk-Special-EAG-600x402-1.jpg
END:VEVENT
BEGIN:VEVENT
DTSTART;TZID=America/Los_Angeles:20261111T000000
DTEND;TZID=America/Los_Angeles:20261111T235900
DTSTAMP:20260425T154054
CREATED:20231130T182426Z
LAST-MODIFIED:20251210T170231Z
UID:10023017-1794355200-1794441540@goldranchrvcasino.com
SUMMARY:Daily Swipe and Win
DESCRIPTION:Monday through Thursdays\, NOW ALL DAY! Swipe your card and win prizes such as FreePlay\, Comps\, points\, food\, discounts and more. Earn 300 points the previous day and get a bonus swipe for guaranteed.
URL:https://goldranchrvcasino.com/event/weekly-swipe-and-win-2/2026-11-11/
CATEGORIES:Featured,Promotions
ATTACH;FMTTYPE=image/jpeg:https://goldranchrvcasino.com/wp-content/uploads/2020/09/2020-AUG-GRV-DAILY-SAW-WEB-600X402.jpg
END:VEVENT
BEGIN:VEVENT
DTSTART;VALUE=DATE:20261111
DTEND;VALUE=DATE:20261112
DTSTAMP:20260425T154054
CREATED:20260302T230412Z
LAST-MODIFIED:20260302T230412Z
UID:10024265-1794355200-1794441599@goldranchrvcasino.com
SUMMARY:Slam Dunk Special Earn & Get!
DESCRIPTION:Earn 500 points beginning Tuesday March 24th to get a Gold ranch stress relief basketball. Be one of the first 250 players to claim your prize. Print your voucher at the kiosk and present at Guest Services.
URL:https://goldranchrvcasino.com/event/slam-dunk-special-earn-get/2026-11-11/
CATEGORIES:Featured,Promotions
ATTACH;FMTTYPE=image/jpeg:https://goldranchrvcasino.com/wp-content/uploads/2026/03/2026-03-GRV-Slam-Dunk-Special-EAG-600x402-1.jpg
END:VEVENT
BEGIN:VEVENT
DTSTART;TZID=America/Los_Angeles:20261111T060000
DTEND;TZID=America/Los_Angeles:20261111T190000
DTSTAMP:20260425T154054
CREATED:20260302T223353Z
LAST-MODIFIED:20260302T223353Z
UID:10024077-1794376800-1794423600@goldranchrvcasino.com
SUMMARY:Wild Wednesdays
DESCRIPTION:Wild Wednesdays\, where points meet plates!\nEarn 500 points to receive a $20 Food Comp at the Sierra Cafe and Coffee Bar
URL:https://goldranchrvcasino.com/event/wild-wednesdays/2026-11-11/
CATEGORIES:Featured,Promotions
ATTACH;FMTTYPE=image/jpeg:https://goldranchrvcasino.com/wp-content/uploads/2026/03/2026-03-GRV-Wild-Weds-EAG-600x402-1.jpg
END:VEVENT
BEGIN:VEVENT
DTSTART;TZID=America/Los_Angeles:20261112T000000
DTEND;TZID=America/Los_Angeles:20261112T235900
DTSTAMP:20260425T154054
CREATED:20231130T182426Z
LAST-MODIFIED:20251210T170231Z
UID:10023018-1794441600-1794527940@goldranchrvcasino.com
SUMMARY:Daily Swipe and Win
DESCRIPTION:Monday through Thursdays\, NOW ALL DAY! Swipe your card and win prizes such as FreePlay\, Comps\, points\, food\, discounts and more. Earn 300 points the previous day and get a bonus swipe for guaranteed.
URL:https://goldranchrvcasino.com/event/weekly-swipe-and-win-2/2026-11-12/
CATEGORIES:Featured,Promotions
ATTACH;FMTTYPE=image/jpeg:https://goldranchrvcasino.com/wp-content/uploads/2020/09/2020-AUG-GRV-DAILY-SAW-WEB-600X402.jpg
END:VEVENT
BEGIN:VEVENT
DTSTART;VALUE=DATE:20261112
DTEND;VALUE=DATE:20261113
DTSTAMP:20260425T154054
CREATED:20260302T230412Z
LAST-MODIFIED:20260302T230412Z
UID:10024266-1794441600-1794527999@goldranchrvcasino.com
SUMMARY:Slam Dunk Special Earn & Get!
DESCRIPTION:Earn 500 points beginning Tuesday March 24th to get a Gold ranch stress relief basketball. Be one of the first 250 players to claim your prize. Print your voucher at the kiosk and present at Guest Services.
URL:https://goldranchrvcasino.com/event/slam-dunk-special-earn-get/2026-11-12/
CATEGORIES:Featured,Promotions
ATTACH;FMTTYPE=image/jpeg:https://goldranchrvcasino.com/wp-content/uploads/2026/03/2026-03-GRV-Slam-Dunk-Special-EAG-600x402-1.jpg
END:VEVENT
BEGIN:VEVENT
DTSTART;VALUE=DATE:20261113
DTEND;VALUE=DATE:20261114
DTSTAMP:20260425T154054
CREATED:20260302T230412Z
LAST-MODIFIED:20260302T230412Z
UID:10024267-1794528000-1794614399@goldranchrvcasino.com
SUMMARY:Slam Dunk Special Earn & Get!
DESCRIPTION:Earn 500 points beginning Tuesday March 24th to get a Gold ranch stress relief basketball. Be one of the first 250 players to claim your prize. Print your voucher at the kiosk and present at Guest Services.
URL:https://goldranchrvcasino.com/event/slam-dunk-special-earn-get/2026-11-13/
CATEGORIES:Featured,Promotions
ATTACH;FMTTYPE=image/jpeg:https://goldranchrvcasino.com/wp-content/uploads/2026/03/2026-03-GRV-Slam-Dunk-Special-EAG-600x402-1.jpg
END:VEVENT
BEGIN:VEVENT
DTSTART;TZID=America/Los_Angeles:20261113T180000
DTEND;TZID=America/Los_Angeles:20261113T200000
DTSTAMP:20260425T154054
CREATED:20260302T212849Z
LAST-MODIFIED:20260302T212849Z
UID:10023591-1794592800-1794600000@goldranchrvcasino.com
SUMMARY:March Mania
DESCRIPTION:Shoot some mad hoops to win up to $400!\nThe last winner of the night will win everything left on the court. Now that’s a slam dunk!\nColelct tickets all week long.\nCheck in at any promotional kiosk.\nSaturdays: 6:00pm – 8:00pm
URL:https://goldranchrvcasino.com/event/march-mania-2/2026-11-13/
CATEGORIES:Featured,Promotions
ATTACH;FMTTYPE=image/jpeg:https://goldranchrvcasino.com/wp-content/uploads/2026/03/2026-03-GRV-March-Mania-600x402-1.jpg
END:VEVENT
BEGIN:VEVENT
DTSTART;VALUE=DATE:20261114
DTEND;VALUE=DATE:20261115
DTSTAMP:20260425T154054
CREATED:20260302T230412Z
LAST-MODIFIED:20260302T230412Z
UID:10024268-1794614400-1794700799@goldranchrvcasino.com
SUMMARY:Slam Dunk Special Earn & Get!
DESCRIPTION:Earn 500 points beginning Tuesday March 24th to get a Gold ranch stress relief basketball. Be one of the first 250 players to claim your prize. Print your voucher at the kiosk and present at Guest Services.
URL:https://goldranchrvcasino.com/event/slam-dunk-special-earn-get/2026-11-14/
CATEGORIES:Featured,Promotions
ATTACH;FMTTYPE=image/jpeg:https://goldranchrvcasino.com/wp-content/uploads/2026/03/2026-03-GRV-Slam-Dunk-Special-EAG-600x402-1.jpg
END:VEVENT
BEGIN:VEVENT
DTSTART;TZID=America/Los_Angeles:20261114T180000
DTEND;TZID=America/Los_Angeles:20261114T200000
DTSTAMP:20260425T154054
CREATED:20260302T212849Z
LAST-MODIFIED:20260302T212849Z
UID:10023592-1794679200-1794686400@goldranchrvcasino.com
SUMMARY:March Mania
DESCRIPTION:Shoot some mad hoops to win up to $400!\nThe last winner of the night will win everything left on the court. Now that’s a slam dunk!\nColelct tickets all week long.\nCheck in at any promotional kiosk.\nSaturdays: 6:00pm – 8:00pm
URL:https://goldranchrvcasino.com/event/march-mania-2/2026-11-14/
CATEGORIES:Featured,Promotions
ATTACH;FMTTYPE=image/jpeg:https://goldranchrvcasino.com/wp-content/uploads/2026/03/2026-03-GRV-March-Mania-600x402-1.jpg
END:VEVENT
BEGIN:VEVENT
DTSTART;TZID=America/Los_Angeles:20261115T000000
DTEND;TZID=America/Los_Angeles:20261115T235900
DTSTAMP:20260425T154054
CREATED:20231130T182426Z
LAST-MODIFIED:20251210T170231Z
UID:10023019-1794700800-1794787140@goldranchrvcasino.com
SUMMARY:Daily Swipe and Win
DESCRIPTION:Monday through Thursdays\, NOW ALL DAY! Swipe your card and win prizes such as FreePlay\, Comps\, points\, food\, discounts and more. Earn 300 points the previous day and get a bonus swipe for guaranteed.
URL:https://goldranchrvcasino.com/event/weekly-swipe-and-win-2/2026-11-15/
CATEGORIES:Featured,Promotions
ATTACH;FMTTYPE=image/jpeg:https://goldranchrvcasino.com/wp-content/uploads/2020/09/2020-AUG-GRV-DAILY-SAW-WEB-600X402.jpg
END:VEVENT
BEGIN:VEVENT
DTSTART;TZID=America/Los_Angeles:20261115T000000
DTEND;TZID=America/Los_Angeles:20261115T235900
DTSTAMP:20260425T154054
CREATED:20240930T193112Z
LAST-MODIFIED:20260102T220041Z
UID:10023285-1794700800-1794787140@goldranchrvcasino.com
SUMMARY:VIP Swipe
DESCRIPTION:Sundays\, all day!\nDiamond and Gold members enjoy an exclusive extra game each week\, with guaranteed FreePlay!
URL:https://goldranchrvcasino.com/event/vip-swipe/2026-11-15/
CATEGORIES:Featured,Promotions
ATTACH;FMTTYPE=image/jpeg:https://goldranchrvcasino.com/wp-content/uploads/2024/09/2024-10-rtr-vip-swipe-600x402-1.jpg
END:VEVENT
END:VCALENDAR