BEGIN:VCALENDAR
VERSION:2.0
PRODID:-//Gold Ranch Casino &amp; RV Resort - ECPv6.15.13//NONSGML v1.0//EN
CALSCALE:GREGORIAN
METHOD:PUBLISH
X-ORIGINAL-URL:https://goldranchrvcasino.com
X-WR-CALDESC:Events for Gold Ranch Casino &amp; RV Resort
REFRESH-INTERVAL;VALUE=DURATION:PT1H
X-Robots-Tag:noindex
X-PUBLISHED-TTL:PT1H
BEGIN:VTIMEZONE
TZID:America/Los_Angeles
BEGIN:DAYLIGHT
TZOFFSETFROM:-0800
TZOFFSETTO:-0700
TZNAME:PDT
DTSTART:20250309T100000
END:DAYLIGHT
BEGIN:STANDARD
TZOFFSETFROM:-0700
TZOFFSETTO:-0800
TZNAME:PST
DTSTART:20251102T090000
END:STANDARD
BEGIN:DAYLIGHT
TZOFFSETFROM:-0800
TZOFFSETTO:-0700
TZNAME:PDT
DTSTART:20260308T100000
END:DAYLIGHT
BEGIN:STANDARD
TZOFFSETFROM:-0700
TZOFFSETTO:-0800
TZNAME:PST
DTSTART:20261101T090000
END:STANDARD
BEGIN:DAYLIGHT
TZOFFSETFROM:-0800
TZOFFSETTO:-0700
TZNAME:PDT
DTSTART:20270314T100000
END:DAYLIGHT
BEGIN:STANDARD
TZOFFSETFROM:-0700
TZOFFSETTO:-0800
TZNAME:PST
DTSTART:20271107T090000
END:STANDARD
END:VTIMEZONE
BEGIN:VEVENT
DTSTART;TZID=America/Los_Angeles:20261201T000000
DTEND;TZID=America/Los_Angeles:20261201T235900
DTSTAMP:20260425T173638
CREATED:20231130T182426Z
LAST-MODIFIED:20251210T170231Z
UID:10023031-1796083200-1796169540@goldranchrvcasino.com
SUMMARY:Daily Swipe and Win
DESCRIPTION:Monday through Thursdays\, NOW ALL DAY! Swipe your card and win prizes such as FreePlay\, Comps\, points\, food\, discounts and more. Earn 300 points the previous day and get a bonus swipe for guaranteed.
URL:https://goldranchrvcasino.com/event/weekly-swipe-and-win-2/2026-12-01/
CATEGORIES:Featured,Promotions
ATTACH;FMTTYPE=image/jpeg:https://goldranchrvcasino.com/wp-content/uploads/2020/09/2020-AUG-GRV-DAILY-SAW-WEB-600X402.jpg
END:VEVENT
BEGIN:VEVENT
DTSTART;VALUE=DATE:20261201
DTEND;VALUE=DATE:20261202
DTSTAMP:20260425T173638
CREATED:20260302T230412Z
LAST-MODIFIED:20260302T230412Z
UID:10024279-1796083200-1796169599@goldranchrvcasino.com
SUMMARY:Slam Dunk Special Earn & Get!
DESCRIPTION:Earn 500 points beginning Tuesday March 24th to get a Gold ranch stress relief basketball. Be one of the first 250 players to claim your prize. Print your voucher at the kiosk and present at Guest Services.
URL:https://goldranchrvcasino.com/event/slam-dunk-special-earn-get/2026-12-01/
CATEGORIES:Featured,Promotions
ATTACH;FMTTYPE=image/jpeg:https://goldranchrvcasino.com/wp-content/uploads/2026/03/2026-03-GRV-Slam-Dunk-Special-EAG-600x402-1.jpg
END:VEVENT
BEGIN:VEVENT
DTSTART;TZID=America/Los_Angeles:20261202T000000
DTEND;TZID=America/Los_Angeles:20261202T235900
DTSTAMP:20260425T173638
CREATED:20231130T182426Z
LAST-MODIFIED:20251210T170231Z
UID:10023032-1796169600-1796255940@goldranchrvcasino.com
SUMMARY:Daily Swipe and Win
DESCRIPTION:Monday through Thursdays\, NOW ALL DAY! Swipe your card and win prizes such as FreePlay\, Comps\, points\, food\, discounts and more. Earn 300 points the previous day and get a bonus swipe for guaranteed.
URL:https://goldranchrvcasino.com/event/weekly-swipe-and-win-2/2026-12-02/
CATEGORIES:Featured,Promotions
ATTACH;FMTTYPE=image/jpeg:https://goldranchrvcasino.com/wp-content/uploads/2020/09/2020-AUG-GRV-DAILY-SAW-WEB-600X402.jpg
END:VEVENT
BEGIN:VEVENT
DTSTART;VALUE=DATE:20261202
DTEND;VALUE=DATE:20261203
DTSTAMP:20260425T173638
CREATED:20260302T230412Z
LAST-MODIFIED:20260302T230412Z
UID:10024280-1796169600-1796255999@goldranchrvcasino.com
SUMMARY:Slam Dunk Special Earn & Get!
DESCRIPTION:Earn 500 points beginning Tuesday March 24th to get a Gold ranch stress relief basketball. Be one of the first 250 players to claim your prize. Print your voucher at the kiosk and present at Guest Services.
URL:https://goldranchrvcasino.com/event/slam-dunk-special-earn-get/2026-12-02/
CATEGORIES:Featured,Promotions
ATTACH;FMTTYPE=image/jpeg:https://goldranchrvcasino.com/wp-content/uploads/2026/03/2026-03-GRV-Slam-Dunk-Special-EAG-600x402-1.jpg
END:VEVENT
BEGIN:VEVENT
DTSTART;TZID=America/Los_Angeles:20261202T060000
DTEND;TZID=America/Los_Angeles:20261202T190000
DTSTAMP:20260425T173638
CREATED:20260302T223353Z
LAST-MODIFIED:20260302T223353Z
UID:10024080-1796191200-1796238000@goldranchrvcasino.com
SUMMARY:Wild Wednesdays
DESCRIPTION:Wild Wednesdays\, where points meet plates!\nEarn 500 points to receive a $20 Food Comp at the Sierra Cafe and Coffee Bar
URL:https://goldranchrvcasino.com/event/wild-wednesdays/2026-12-02/
CATEGORIES:Featured,Promotions
ATTACH;FMTTYPE=image/jpeg:https://goldranchrvcasino.com/wp-content/uploads/2026/03/2026-03-GRV-Wild-Weds-EAG-600x402-1.jpg
END:VEVENT
BEGIN:VEVENT
DTSTART;TZID=America/Los_Angeles:20261203T000000
DTEND;TZID=America/Los_Angeles:20261203T235900
DTSTAMP:20260425T173638
CREATED:20231130T182426Z
LAST-MODIFIED:20251210T170231Z
UID:10023033-1796256000-1796342340@goldranchrvcasino.com
SUMMARY:Daily Swipe and Win
DESCRIPTION:Monday through Thursdays\, NOW ALL DAY! Swipe your card and win prizes such as FreePlay\, Comps\, points\, food\, discounts and more. Earn 300 points the previous day and get a bonus swipe for guaranteed.
URL:https://goldranchrvcasino.com/event/weekly-swipe-and-win-2/2026-12-03/
CATEGORIES:Featured,Promotions
ATTACH;FMTTYPE=image/jpeg:https://goldranchrvcasino.com/wp-content/uploads/2020/09/2020-AUG-GRV-DAILY-SAW-WEB-600X402.jpg
END:VEVENT
BEGIN:VEVENT
DTSTART;VALUE=DATE:20261203
DTEND;VALUE=DATE:20261204
DTSTAMP:20260425T173638
CREATED:20260302T230412Z
LAST-MODIFIED:20260302T230412Z
UID:10024281-1796256000-1796342399@goldranchrvcasino.com
SUMMARY:Slam Dunk Special Earn & Get!
DESCRIPTION:Earn 500 points beginning Tuesday March 24th to get a Gold ranch stress relief basketball. Be one of the first 250 players to claim your prize. Print your voucher at the kiosk and present at Guest Services.
URL:https://goldranchrvcasino.com/event/slam-dunk-special-earn-get/2026-12-03/
CATEGORIES:Featured,Promotions
ATTACH;FMTTYPE=image/jpeg:https://goldranchrvcasino.com/wp-content/uploads/2026/03/2026-03-GRV-Slam-Dunk-Special-EAG-600x402-1.jpg
END:VEVENT
BEGIN:VEVENT
DTSTART;VALUE=DATE:20261204
DTEND;VALUE=DATE:20261205
DTSTAMP:20260425T173638
CREATED:20260302T230412Z
LAST-MODIFIED:20260302T230412Z
UID:10024282-1796342400-1796428799@goldranchrvcasino.com
SUMMARY:Slam Dunk Special Earn & Get!
DESCRIPTION:Earn 500 points beginning Tuesday March 24th to get a Gold ranch stress relief basketball. Be one of the first 250 players to claim your prize. Print your voucher at the kiosk and present at Guest Services.
URL:https://goldranchrvcasino.com/event/slam-dunk-special-earn-get/2026-12-04/
CATEGORIES:Featured,Promotions
ATTACH;FMTTYPE=image/jpeg:https://goldranchrvcasino.com/wp-content/uploads/2026/03/2026-03-GRV-Slam-Dunk-Special-EAG-600x402-1.jpg
END:VEVENT
BEGIN:VEVENT
DTSTART;TZID=America/Los_Angeles:20261204T180000
DTEND;TZID=America/Los_Angeles:20261204T200000
DTSTAMP:20260425T173638
CREATED:20260302T212849Z
LAST-MODIFIED:20260302T212849Z
UID:10023597-1796407200-1796414400@goldranchrvcasino.com
SUMMARY:March Mania
DESCRIPTION:Shoot some mad hoops to win up to $400!\nThe last winner of the night will win everything left on the court. Now that’s a slam dunk!\nColelct tickets all week long.\nCheck in at any promotional kiosk.\nSaturdays: 6:00pm – 8:00pm
URL:https://goldranchrvcasino.com/event/march-mania-2/2026-12-04/
CATEGORIES:Featured,Promotions
ATTACH;FMTTYPE=image/jpeg:https://goldranchrvcasino.com/wp-content/uploads/2026/03/2026-03-GRV-March-Mania-600x402-1.jpg
END:VEVENT
BEGIN:VEVENT
DTSTART;VALUE=DATE:20261205
DTEND;VALUE=DATE:20261206
DTSTAMP:20260425T173638
CREATED:20260302T230412Z
LAST-MODIFIED:20260302T230412Z
UID:10024283-1796428800-1796515199@goldranchrvcasino.com
SUMMARY:Slam Dunk Special Earn & Get!
DESCRIPTION:Earn 500 points beginning Tuesday March 24th to get a Gold ranch stress relief basketball. Be one of the first 250 players to claim your prize. Print your voucher at the kiosk and present at Guest Services.
URL:https://goldranchrvcasino.com/event/slam-dunk-special-earn-get/2026-12-05/
CATEGORIES:Featured,Promotions
ATTACH;FMTTYPE=image/jpeg:https://goldranchrvcasino.com/wp-content/uploads/2026/03/2026-03-GRV-Slam-Dunk-Special-EAG-600x402-1.jpg
END:VEVENT
BEGIN:VEVENT
DTSTART;TZID=America/Los_Angeles:20261205T180000
DTEND;TZID=America/Los_Angeles:20261205T200000
DTSTAMP:20260425T173638
CREATED:20260302T212849Z
LAST-MODIFIED:20260302T212849Z
UID:10023598-1796493600-1796500800@goldranchrvcasino.com
SUMMARY:March Mania
DESCRIPTION:Shoot some mad hoops to win up to $400!\nThe last winner of the night will win everything left on the court. Now that’s a slam dunk!\nColelct tickets all week long.\nCheck in at any promotional kiosk.\nSaturdays: 6:00pm – 8:00pm
URL:https://goldranchrvcasino.com/event/march-mania-2/2026-12-05/
CATEGORIES:Featured,Promotions
ATTACH;FMTTYPE=image/jpeg:https://goldranchrvcasino.com/wp-content/uploads/2026/03/2026-03-GRV-March-Mania-600x402-1.jpg
END:VEVENT
BEGIN:VEVENT
DTSTART;TZID=America/Los_Angeles:20261206T000000
DTEND;TZID=America/Los_Angeles:20261206T235900
DTSTAMP:20260425T173638
CREATED:20231130T182426Z
LAST-MODIFIED:20251210T170231Z
UID:10023034-1796515200-1796601540@goldranchrvcasino.com
SUMMARY:Daily Swipe and Win
DESCRIPTION:Monday through Thursdays\, NOW ALL DAY! Swipe your card and win prizes such as FreePlay\, Comps\, points\, food\, discounts and more. Earn 300 points the previous day and get a bonus swipe for guaranteed.
URL:https://goldranchrvcasino.com/event/weekly-swipe-and-win-2/2026-12-06/
CATEGORIES:Featured,Promotions
ATTACH;FMTTYPE=image/jpeg:https://goldranchrvcasino.com/wp-content/uploads/2020/09/2020-AUG-GRV-DAILY-SAW-WEB-600X402.jpg
END:VEVENT
BEGIN:VEVENT
DTSTART;TZID=America/Los_Angeles:20261206T000000
DTEND;TZID=America/Los_Angeles:20261206T235900
DTSTAMP:20260425T173638
CREATED:20240930T193112Z
LAST-MODIFIED:20260102T220041Z
UID:10023288-1796515200-1796601540@goldranchrvcasino.com
SUMMARY:VIP Swipe
DESCRIPTION:Sundays\, all day!\nDiamond and Gold members enjoy an exclusive extra game each week\, with guaranteed FreePlay!
URL:https://goldranchrvcasino.com/event/vip-swipe/2026-12-06/
CATEGORIES:Featured,Promotions
ATTACH;FMTTYPE=image/jpeg:https://goldranchrvcasino.com/wp-content/uploads/2024/09/2024-10-rtr-vip-swipe-600x402-1.jpg
END:VEVENT
BEGIN:VEVENT
DTSTART;TZID=America/Los_Angeles:20261207T000000
DTEND;TZID=America/Los_Angeles:20261207T235900
DTSTAMP:20260425T173638
CREATED:20231130T182426Z
LAST-MODIFIED:20251210T170231Z
UID:10023035-1796601600-1796687940@goldranchrvcasino.com
SUMMARY:Daily Swipe and Win
DESCRIPTION:Monday through Thursdays\, NOW ALL DAY! Swipe your card and win prizes such as FreePlay\, Comps\, points\, food\, discounts and more. Earn 300 points the previous day and get a bonus swipe for guaranteed.
URL:https://goldranchrvcasino.com/event/weekly-swipe-and-win-2/2026-12-07/
CATEGORIES:Featured,Promotions
ATTACH;FMTTYPE=image/jpeg:https://goldranchrvcasino.com/wp-content/uploads/2020/09/2020-AUG-GRV-DAILY-SAW-WEB-600X402.jpg
END:VEVENT
BEGIN:VEVENT
DTSTART;TZID=America/Los_Angeles:20261208T000000
DTEND;TZID=America/Los_Angeles:20261208T235900
DTSTAMP:20260425T173638
CREATED:20231130T182426Z
LAST-MODIFIED:20251210T170231Z
UID:10023036-1796688000-1796774340@goldranchrvcasino.com
SUMMARY:Daily Swipe and Win
DESCRIPTION:Monday through Thursdays\, NOW ALL DAY! Swipe your card and win prizes such as FreePlay\, Comps\, points\, food\, discounts and more. Earn 300 points the previous day and get a bonus swipe for guaranteed.
URL:https://goldranchrvcasino.com/event/weekly-swipe-and-win-2/2026-12-08/
CATEGORIES:Featured,Promotions
ATTACH;FMTTYPE=image/jpeg:https://goldranchrvcasino.com/wp-content/uploads/2020/09/2020-AUG-GRV-DAILY-SAW-WEB-600X402.jpg
END:VEVENT
BEGIN:VEVENT
DTSTART;VALUE=DATE:20261208
DTEND;VALUE=DATE:20261209
DTSTAMP:20260425T173638
CREATED:20260302T230412Z
LAST-MODIFIED:20260302T230412Z
UID:10024284-1796688000-1796774399@goldranchrvcasino.com
SUMMARY:Slam Dunk Special Earn & Get!
DESCRIPTION:Earn 500 points beginning Tuesday March 24th to get a Gold ranch stress relief basketball. Be one of the first 250 players to claim your prize. Print your voucher at the kiosk and present at Guest Services.
URL:https://goldranchrvcasino.com/event/slam-dunk-special-earn-get/2026-12-08/
CATEGORIES:Featured,Promotions
ATTACH;FMTTYPE=image/jpeg:https://goldranchrvcasino.com/wp-content/uploads/2026/03/2026-03-GRV-Slam-Dunk-Special-EAG-600x402-1.jpg
END:VEVENT
BEGIN:VEVENT
DTSTART;TZID=America/Los_Angeles:20261209T000000
DTEND;TZID=America/Los_Angeles:20261209T235900
DTSTAMP:20260425T173638
CREATED:20231130T182426Z
LAST-MODIFIED:20251210T170231Z
UID:10023037-1796774400-1796860740@goldranchrvcasino.com
SUMMARY:Daily Swipe and Win
DESCRIPTION:Monday through Thursdays\, NOW ALL DAY! Swipe your card and win prizes such as FreePlay\, Comps\, points\, food\, discounts and more. Earn 300 points the previous day and get a bonus swipe for guaranteed.
URL:https://goldranchrvcasino.com/event/weekly-swipe-and-win-2/2026-12-09/
CATEGORIES:Featured,Promotions
ATTACH;FMTTYPE=image/jpeg:https://goldranchrvcasino.com/wp-content/uploads/2020/09/2020-AUG-GRV-DAILY-SAW-WEB-600X402.jpg
END:VEVENT
BEGIN:VEVENT
DTSTART;VALUE=DATE:20261209
DTEND;VALUE=DATE:20261210
DTSTAMP:20260425T173638
CREATED:20260302T230412Z
LAST-MODIFIED:20260302T230412Z
UID:10024285-1796774400-1796860799@goldranchrvcasino.com
SUMMARY:Slam Dunk Special Earn & Get!
DESCRIPTION:Earn 500 points beginning Tuesday March 24th to get a Gold ranch stress relief basketball. Be one of the first 250 players to claim your prize. Print your voucher at the kiosk and present at Guest Services.
URL:https://goldranchrvcasino.com/event/slam-dunk-special-earn-get/2026-12-09/
CATEGORIES:Featured,Promotions
ATTACH;FMTTYPE=image/jpeg:https://goldranchrvcasino.com/wp-content/uploads/2026/03/2026-03-GRV-Slam-Dunk-Special-EAG-600x402-1.jpg
END:VEVENT
BEGIN:VEVENT
DTSTART;TZID=America/Los_Angeles:20261209T060000
DTEND;TZID=America/Los_Angeles:20261209T190000
DTSTAMP:20260425T173638
CREATED:20260302T223353Z
LAST-MODIFIED:20260302T223353Z
UID:10024081-1796796000-1796842800@goldranchrvcasino.com
SUMMARY:Wild Wednesdays
DESCRIPTION:Wild Wednesdays\, where points meet plates!\nEarn 500 points to receive a $20 Food Comp at the Sierra Cafe and Coffee Bar
URL:https://goldranchrvcasino.com/event/wild-wednesdays/2026-12-09/
CATEGORIES:Featured,Promotions
ATTACH;FMTTYPE=image/jpeg:https://goldranchrvcasino.com/wp-content/uploads/2026/03/2026-03-GRV-Wild-Weds-EAG-600x402-1.jpg
END:VEVENT
BEGIN:VEVENT
DTSTART;TZID=America/Los_Angeles:20261210T000000
DTEND;TZID=America/Los_Angeles:20261210T235900
DTSTAMP:20260425T173638
CREATED:20231130T182426Z
LAST-MODIFIED:20251210T170231Z
UID:10023038-1796860800-1796947140@goldranchrvcasino.com
SUMMARY:Daily Swipe and Win
DESCRIPTION:Monday through Thursdays\, NOW ALL DAY! Swipe your card and win prizes such as FreePlay\, Comps\, points\, food\, discounts and more. Earn 300 points the previous day and get a bonus swipe for guaranteed.
URL:https://goldranchrvcasino.com/event/weekly-swipe-and-win-2/2026-12-10/
CATEGORIES:Featured,Promotions
ATTACH;FMTTYPE=image/jpeg:https://goldranchrvcasino.com/wp-content/uploads/2020/09/2020-AUG-GRV-DAILY-SAW-WEB-600X402.jpg
END:VEVENT
BEGIN:VEVENT
DTSTART;VALUE=DATE:20261210
DTEND;VALUE=DATE:20261211
DTSTAMP:20260425T173638
CREATED:20260302T230412Z
LAST-MODIFIED:20260302T230412Z
UID:10024286-1796860800-1796947199@goldranchrvcasino.com
SUMMARY:Slam Dunk Special Earn & Get!
DESCRIPTION:Earn 500 points beginning Tuesday March 24th to get a Gold ranch stress relief basketball. Be one of the first 250 players to claim your prize. Print your voucher at the kiosk and present at Guest Services.
URL:https://goldranchrvcasino.com/event/slam-dunk-special-earn-get/2026-12-10/
CATEGORIES:Featured,Promotions
ATTACH;FMTTYPE=image/jpeg:https://goldranchrvcasino.com/wp-content/uploads/2026/03/2026-03-GRV-Slam-Dunk-Special-EAG-600x402-1.jpg
END:VEVENT
BEGIN:VEVENT
DTSTART;VALUE=DATE:20261211
DTEND;VALUE=DATE:20261212
DTSTAMP:20260425T173638
CREATED:20260302T230412Z
LAST-MODIFIED:20260302T230412Z
UID:10024287-1796947200-1797033599@goldranchrvcasino.com
SUMMARY:Slam Dunk Special Earn & Get!
DESCRIPTION:Earn 500 points beginning Tuesday March 24th to get a Gold ranch stress relief basketball. Be one of the first 250 players to claim your prize. Print your voucher at the kiosk and present at Guest Services.
URL:https://goldranchrvcasino.com/event/slam-dunk-special-earn-get/2026-12-11/
CATEGORIES:Featured,Promotions
ATTACH;FMTTYPE=image/jpeg:https://goldranchrvcasino.com/wp-content/uploads/2026/03/2026-03-GRV-Slam-Dunk-Special-EAG-600x402-1.jpg
END:VEVENT
BEGIN:VEVENT
DTSTART;TZID=America/Los_Angeles:20261211T180000
DTEND;TZID=America/Los_Angeles:20261211T200000
DTSTAMP:20260425T173638
CREATED:20260302T212849Z
LAST-MODIFIED:20260302T212849Z
UID:10023599-1797012000-1797019200@goldranchrvcasino.com
SUMMARY:March Mania
DESCRIPTION:Shoot some mad hoops to win up to $400!\nThe last winner of the night will win everything left on the court. Now that’s a slam dunk!\nColelct tickets all week long.\nCheck in at any promotional kiosk.\nSaturdays: 6:00pm – 8:00pm
URL:https://goldranchrvcasino.com/event/march-mania-2/2026-12-11/
CATEGORIES:Featured,Promotions
ATTACH;FMTTYPE=image/jpeg:https://goldranchrvcasino.com/wp-content/uploads/2026/03/2026-03-GRV-March-Mania-600x402-1.jpg
END:VEVENT
BEGIN:VEVENT
DTSTART;VALUE=DATE:20261212
DTEND;VALUE=DATE:20261213
DTSTAMP:20260425T173638
CREATED:20260302T230412Z
LAST-MODIFIED:20260302T230412Z
UID:10024288-1797033600-1797119999@goldranchrvcasino.com
SUMMARY:Slam Dunk Special Earn & Get!
DESCRIPTION:Earn 500 points beginning Tuesday March 24th to get a Gold ranch stress relief basketball. Be one of the first 250 players to claim your prize. Print your voucher at the kiosk and present at Guest Services.
URL:https://goldranchrvcasino.com/event/slam-dunk-special-earn-get/2026-12-12/
CATEGORIES:Featured,Promotions
ATTACH;FMTTYPE=image/jpeg:https://goldranchrvcasino.com/wp-content/uploads/2026/03/2026-03-GRV-Slam-Dunk-Special-EAG-600x402-1.jpg
END:VEVENT
BEGIN:VEVENT
DTSTART;TZID=America/Los_Angeles:20261212T180000
DTEND;TZID=America/Los_Angeles:20261212T200000
DTSTAMP:20260425T173638
CREATED:20260302T212849Z
LAST-MODIFIED:20260302T212849Z
UID:10023600-1797098400-1797105600@goldranchrvcasino.com
SUMMARY:March Mania
DESCRIPTION:Shoot some mad hoops to win up to $400!\nThe last winner of the night will win everything left on the court. Now that’s a slam dunk!\nColelct tickets all week long.\nCheck in at any promotional kiosk.\nSaturdays: 6:00pm – 8:00pm
URL:https://goldranchrvcasino.com/event/march-mania-2/2026-12-12/
CATEGORIES:Featured,Promotions
ATTACH;FMTTYPE=image/jpeg:https://goldranchrvcasino.com/wp-content/uploads/2026/03/2026-03-GRV-March-Mania-600x402-1.jpg
END:VEVENT
BEGIN:VEVENT
DTSTART;TZID=America/Los_Angeles:20261213T000000
DTEND;TZID=America/Los_Angeles:20261213T235900
DTSTAMP:20260425T173638
CREATED:20231130T182426Z
LAST-MODIFIED:20251210T170231Z
UID:10023039-1797120000-1797206340@goldranchrvcasino.com
SUMMARY:Daily Swipe and Win
DESCRIPTION:Monday through Thursdays\, NOW ALL DAY! Swipe your card and win prizes such as FreePlay\, Comps\, points\, food\, discounts and more. Earn 300 points the previous day and get a bonus swipe for guaranteed.
URL:https://goldranchrvcasino.com/event/weekly-swipe-and-win-2/2026-12-13/
CATEGORIES:Featured,Promotions
ATTACH;FMTTYPE=image/jpeg:https://goldranchrvcasino.com/wp-content/uploads/2020/09/2020-AUG-GRV-DAILY-SAW-WEB-600X402.jpg
END:VEVENT
BEGIN:VEVENT
DTSTART;TZID=America/Los_Angeles:20261213T000000
DTEND;TZID=America/Los_Angeles:20261213T235900
DTSTAMP:20260425T173638
CREATED:20240930T193112Z
LAST-MODIFIED:20260102T220041Z
UID:10023289-1797120000-1797206340@goldranchrvcasino.com
SUMMARY:VIP Swipe
DESCRIPTION:Sundays\, all day!\nDiamond and Gold members enjoy an exclusive extra game each week\, with guaranteed FreePlay!
URL:https://goldranchrvcasino.com/event/vip-swipe/2026-12-13/
CATEGORIES:Featured,Promotions
ATTACH;FMTTYPE=image/jpeg:https://goldranchrvcasino.com/wp-content/uploads/2024/09/2024-10-rtr-vip-swipe-600x402-1.jpg
END:VEVENT
BEGIN:VEVENT
DTSTART;TZID=America/Los_Angeles:20261214T000000
DTEND;TZID=America/Los_Angeles:20261214T235900
DTSTAMP:20260425T173638
CREATED:20231130T182426Z
LAST-MODIFIED:20251210T170231Z
UID:10023040-1797206400-1797292740@goldranchrvcasino.com
SUMMARY:Daily Swipe and Win
DESCRIPTION:Monday through Thursdays\, NOW ALL DAY! Swipe your card and win prizes such as FreePlay\, Comps\, points\, food\, discounts and more. Earn 300 points the previous day and get a bonus swipe for guaranteed.
URL:https://goldranchrvcasino.com/event/weekly-swipe-and-win-2/2026-12-14/
CATEGORIES:Featured,Promotions
ATTACH;FMTTYPE=image/jpeg:https://goldranchrvcasino.com/wp-content/uploads/2020/09/2020-AUG-GRV-DAILY-SAW-WEB-600X402.jpg
END:VEVENT
BEGIN:VEVENT
DTSTART;TZID=America/Los_Angeles:20261215T000000
DTEND;TZID=America/Los_Angeles:20261215T235900
DTSTAMP:20260425T173638
CREATED:20231130T182426Z
LAST-MODIFIED:20251210T170231Z
UID:10023041-1797292800-1797379140@goldranchrvcasino.com
SUMMARY:Daily Swipe and Win
DESCRIPTION:Monday through Thursdays\, NOW ALL DAY! Swipe your card and win prizes such as FreePlay\, Comps\, points\, food\, discounts and more. Earn 300 points the previous day and get a bonus swipe for guaranteed.
URL:https://goldranchrvcasino.com/event/weekly-swipe-and-win-2/2026-12-15/
CATEGORIES:Featured,Promotions
ATTACH;FMTTYPE=image/jpeg:https://goldranchrvcasino.com/wp-content/uploads/2020/09/2020-AUG-GRV-DAILY-SAW-WEB-600X402.jpg
END:VEVENT
BEGIN:VEVENT
DTSTART;VALUE=DATE:20261215
DTEND;VALUE=DATE:20261216
DTSTAMP:20260425T173638
CREATED:20260302T230412Z
LAST-MODIFIED:20260302T230412Z
UID:10024289-1797292800-1797379199@goldranchrvcasino.com
SUMMARY:Slam Dunk Special Earn & Get!
DESCRIPTION:Earn 500 points beginning Tuesday March 24th to get a Gold ranch stress relief basketball. Be one of the first 250 players to claim your prize. Print your voucher at the kiosk and present at Guest Services.
URL:https://goldranchrvcasino.com/event/slam-dunk-special-earn-get/2026-12-15/
CATEGORIES:Featured,Promotions
ATTACH;FMTTYPE=image/jpeg:https://goldranchrvcasino.com/wp-content/uploads/2026/03/2026-03-GRV-Slam-Dunk-Special-EAG-600x402-1.jpg
END:VEVENT
END:VCALENDAR