BEGIN:VCALENDAR
VERSION:2.0
PRODID:-//Gold Ranch Casino &amp; RV Resort - ECPv6.15.13//NONSGML v1.0//EN
CALSCALE:GREGORIAN
METHOD:PUBLISH
X-ORIGINAL-URL:https://goldranchrvcasino.com
X-WR-CALDESC:Events for Gold Ranch Casino &amp; RV Resort
REFRESH-INTERVAL;VALUE=DURATION:PT1H
X-Robots-Tag:noindex
X-PUBLISHED-TTL:PT1H
BEGIN:VTIMEZONE
TZID:America/Los_Angeles
BEGIN:DAYLIGHT
TZOFFSETFROM:-0800
TZOFFSETTO:-0700
TZNAME:PDT
DTSTART:20260308T100000
END:DAYLIGHT
BEGIN:STANDARD
TZOFFSETFROM:-0700
TZOFFSETTO:-0800
TZNAME:PST
DTSTART:20261101T090000
END:STANDARD
BEGIN:DAYLIGHT
TZOFFSETFROM:-0800
TZOFFSETTO:-0700
TZNAME:PDT
DTSTART:20270314T100000
END:DAYLIGHT
BEGIN:STANDARD
TZOFFSETFROM:-0700
TZOFFSETTO:-0800
TZNAME:PST
DTSTART:20271107T090000
END:STANDARD
BEGIN:DAYLIGHT
TZOFFSETFROM:-0800
TZOFFSETTO:-0700
TZNAME:PDT
DTSTART:20280312T100000
END:DAYLIGHT
BEGIN:STANDARD
TZOFFSETFROM:-0700
TZOFFSETTO:-0800
TZNAME:PST
DTSTART:20281105T090000
END:STANDARD
END:VTIMEZONE
BEGIN:VEVENT
DTSTART;TZID=America/Los_Angeles:20270201T000000
DTEND;TZID=America/Los_Angeles:20270201T235900
DTSTAMP:20260425T212439
CREATED:20231130T182426Z
LAST-MODIFIED:20251210T170231Z
UID:10023075-1801440000-1801526340@goldranchrvcasino.com
SUMMARY:Daily Swipe and Win
DESCRIPTION:Monday through Thursdays\, NOW ALL DAY! Swipe your card and win prizes such as FreePlay\, Comps\, points\, food\, discounts and more. Earn 300 points the previous day and get a bonus swipe for guaranteed.
URL:https://goldranchrvcasino.com/event/weekly-swipe-and-win-2/2027-02-01/
CATEGORIES:Featured,Promotions
ATTACH;FMTTYPE=image/jpeg:https://goldranchrvcasino.com/wp-content/uploads/2020/09/2020-AUG-GRV-DAILY-SAW-WEB-600X402.jpg
END:VEVENT
BEGIN:VEVENT
DTSTART;TZID=America/Los_Angeles:20270202T000000
DTEND;TZID=America/Los_Angeles:20270202T235900
DTSTAMP:20260425T212439
CREATED:20231130T182426Z
LAST-MODIFIED:20251210T170231Z
UID:10023076-1801526400-1801612740@goldranchrvcasino.com
SUMMARY:Daily Swipe and Win
DESCRIPTION:Monday through Thursdays\, NOW ALL DAY! Swipe your card and win prizes such as FreePlay\, Comps\, points\, food\, discounts and more. Earn 300 points the previous day and get a bonus swipe for guaranteed.
URL:https://goldranchrvcasino.com/event/weekly-swipe-and-win-2/2027-02-02/
CATEGORIES:Featured,Promotions
ATTACH;FMTTYPE=image/jpeg:https://goldranchrvcasino.com/wp-content/uploads/2020/09/2020-AUG-GRV-DAILY-SAW-WEB-600X402.jpg
END:VEVENT
BEGIN:VEVENT
DTSTART;VALUE=DATE:20270202
DTEND;VALUE=DATE:20270203
DTSTAMP:20260425T212439
CREATED:20260302T230412Z
LAST-MODIFIED:20260302T230412Z
UID:10024324-1801526400-1801612799@goldranchrvcasino.com
SUMMARY:Slam Dunk Special Earn & Get!
DESCRIPTION:Earn 500 points beginning Tuesday March 24th to get a Gold ranch stress relief basketball. Be one of the first 250 players to claim your prize. Print your voucher at the kiosk and present at Guest Services.
URL:https://goldranchrvcasino.com/event/slam-dunk-special-earn-get/2027-02-02/
CATEGORIES:Featured,Promotions
ATTACH;FMTTYPE=image/jpeg:https://goldranchrvcasino.com/wp-content/uploads/2026/03/2026-03-GRV-Slam-Dunk-Special-EAG-600x402-1.jpg
END:VEVENT
BEGIN:VEVENT
DTSTART;TZID=America/Los_Angeles:20270203T000000
DTEND;TZID=America/Los_Angeles:20270203T235900
DTSTAMP:20260425T212439
CREATED:20231130T182426Z
LAST-MODIFIED:20251210T170231Z
UID:10023077-1801612800-1801699140@goldranchrvcasino.com
SUMMARY:Daily Swipe and Win
DESCRIPTION:Monday through Thursdays\, NOW ALL DAY! Swipe your card and win prizes such as FreePlay\, Comps\, points\, food\, discounts and more. Earn 300 points the previous day and get a bonus swipe for guaranteed.
URL:https://goldranchrvcasino.com/event/weekly-swipe-and-win-2/2027-02-03/
CATEGORIES:Featured,Promotions
ATTACH;FMTTYPE=image/jpeg:https://goldranchrvcasino.com/wp-content/uploads/2020/09/2020-AUG-GRV-DAILY-SAW-WEB-600X402.jpg
END:VEVENT
BEGIN:VEVENT
DTSTART;VALUE=DATE:20270203
DTEND;VALUE=DATE:20270204
DTSTAMP:20260425T212439
CREATED:20260302T230412Z
LAST-MODIFIED:20260302T230412Z
UID:10024325-1801612800-1801699199@goldranchrvcasino.com
SUMMARY:Slam Dunk Special Earn & Get!
DESCRIPTION:Earn 500 points beginning Tuesday March 24th to get a Gold ranch stress relief basketball. Be one of the first 250 players to claim your prize. Print your voucher at the kiosk and present at Guest Services.
URL:https://goldranchrvcasino.com/event/slam-dunk-special-earn-get/2027-02-03/
CATEGORIES:Featured,Promotions
ATTACH;FMTTYPE=image/jpeg:https://goldranchrvcasino.com/wp-content/uploads/2026/03/2026-03-GRV-Slam-Dunk-Special-EAG-600x402-1.jpg
END:VEVENT
BEGIN:VEVENT
DTSTART;TZID=America/Los_Angeles:20270203T060000
DTEND;TZID=America/Los_Angeles:20270203T190000
DTSTAMP:20260425T212439
CREATED:20260302T223353Z
LAST-MODIFIED:20260302T223353Z
UID:10024089-1801634400-1801681200@goldranchrvcasino.com
SUMMARY:Wild Wednesdays
DESCRIPTION:Wild Wednesdays\, where points meet plates!\nEarn 500 points to receive a $20 Food Comp at the Sierra Cafe and Coffee Bar
URL:https://goldranchrvcasino.com/event/wild-wednesdays/2027-02-03/
CATEGORIES:Featured,Promotions
ATTACH;FMTTYPE=image/jpeg:https://goldranchrvcasino.com/wp-content/uploads/2026/03/2026-03-GRV-Wild-Weds-EAG-600x402-1.jpg
END:VEVENT
BEGIN:VEVENT
DTSTART;TZID=America/Los_Angeles:20270204T000000
DTEND;TZID=America/Los_Angeles:20270204T235900
DTSTAMP:20260425T212439
CREATED:20231130T182426Z
LAST-MODIFIED:20251210T170231Z
UID:10023078-1801699200-1801785540@goldranchrvcasino.com
SUMMARY:Daily Swipe and Win
DESCRIPTION:Monday through Thursdays\, NOW ALL DAY! Swipe your card and win prizes such as FreePlay\, Comps\, points\, food\, discounts and more. Earn 300 points the previous day and get a bonus swipe for guaranteed.
URL:https://goldranchrvcasino.com/event/weekly-swipe-and-win-2/2027-02-04/
CATEGORIES:Featured,Promotions
ATTACH;FMTTYPE=image/jpeg:https://goldranchrvcasino.com/wp-content/uploads/2020/09/2020-AUG-GRV-DAILY-SAW-WEB-600X402.jpg
END:VEVENT
BEGIN:VEVENT
DTSTART;VALUE=DATE:20270204
DTEND;VALUE=DATE:20270205
DTSTAMP:20260425T212439
CREATED:20260302T230412Z
LAST-MODIFIED:20260302T230412Z
UID:10024326-1801699200-1801785599@goldranchrvcasino.com
SUMMARY:Slam Dunk Special Earn & Get!
DESCRIPTION:Earn 500 points beginning Tuesday March 24th to get a Gold ranch stress relief basketball. Be one of the first 250 players to claim your prize. Print your voucher at the kiosk and present at Guest Services.
URL:https://goldranchrvcasino.com/event/slam-dunk-special-earn-get/2027-02-04/
CATEGORIES:Featured,Promotions
ATTACH;FMTTYPE=image/jpeg:https://goldranchrvcasino.com/wp-content/uploads/2026/03/2026-03-GRV-Slam-Dunk-Special-EAG-600x402-1.jpg
END:VEVENT
BEGIN:VEVENT
DTSTART;VALUE=DATE:20270205
DTEND;VALUE=DATE:20270206
DTSTAMP:20260425T212439
CREATED:20260302T230412Z
LAST-MODIFIED:20260302T230412Z
UID:10024327-1801785600-1801871999@goldranchrvcasino.com
SUMMARY:Slam Dunk Special Earn & Get!
DESCRIPTION:Earn 500 points beginning Tuesday March 24th to get a Gold ranch stress relief basketball. Be one of the first 250 players to claim your prize. Print your voucher at the kiosk and present at Guest Services.
URL:https://goldranchrvcasino.com/event/slam-dunk-special-earn-get/2027-02-05/
CATEGORIES:Featured,Promotions
ATTACH;FMTTYPE=image/jpeg:https://goldranchrvcasino.com/wp-content/uploads/2026/03/2026-03-GRV-Slam-Dunk-Special-EAG-600x402-1.jpg
END:VEVENT
BEGIN:VEVENT
DTSTART;TZID=America/Los_Angeles:20270205T180000
DTEND;TZID=America/Los_Angeles:20270205T200000
DTSTAMP:20260425T212439
CREATED:20260302T212849Z
LAST-MODIFIED:20260302T212849Z
UID:10023615-1801850400-1801857600@goldranchrvcasino.com
SUMMARY:March Mania
DESCRIPTION:Shoot some mad hoops to win up to $400!\nThe last winner of the night will win everything left on the court. Now that’s a slam dunk!\nColelct tickets all week long.\nCheck in at any promotional kiosk.\nSaturdays: 6:00pm – 8:00pm
URL:https://goldranchrvcasino.com/event/march-mania-2/2027-02-05/
CATEGORIES:Featured,Promotions
ATTACH;FMTTYPE=image/jpeg:https://goldranchrvcasino.com/wp-content/uploads/2026/03/2026-03-GRV-March-Mania-600x402-1.jpg
END:VEVENT
BEGIN:VEVENT
DTSTART;VALUE=DATE:20270206
DTEND;VALUE=DATE:20270207
DTSTAMP:20260425T212439
CREATED:20260302T230412Z
LAST-MODIFIED:20260302T230412Z
UID:10024328-1801872000-1801958399@goldranchrvcasino.com
SUMMARY:Slam Dunk Special Earn & Get!
DESCRIPTION:Earn 500 points beginning Tuesday March 24th to get a Gold ranch stress relief basketball. Be one of the first 250 players to claim your prize. Print your voucher at the kiosk and present at Guest Services.
URL:https://goldranchrvcasino.com/event/slam-dunk-special-earn-get/2027-02-06/
CATEGORIES:Featured,Promotions
ATTACH;FMTTYPE=image/jpeg:https://goldranchrvcasino.com/wp-content/uploads/2026/03/2026-03-GRV-Slam-Dunk-Special-EAG-600x402-1.jpg
END:VEVENT
BEGIN:VEVENT
DTSTART;TZID=America/Los_Angeles:20270206T180000
DTEND;TZID=America/Los_Angeles:20270206T200000
DTSTAMP:20260425T212439
CREATED:20260302T212849Z
LAST-MODIFIED:20260302T212849Z
UID:10023616-1801936800-1801944000@goldranchrvcasino.com
SUMMARY:March Mania
DESCRIPTION:Shoot some mad hoops to win up to $400!\nThe last winner of the night will win everything left on the court. Now that’s a slam dunk!\nColelct tickets all week long.\nCheck in at any promotional kiosk.\nSaturdays: 6:00pm – 8:00pm
URL:https://goldranchrvcasino.com/event/march-mania-2/2027-02-06/
CATEGORIES:Featured,Promotions
ATTACH;FMTTYPE=image/jpeg:https://goldranchrvcasino.com/wp-content/uploads/2026/03/2026-03-GRV-March-Mania-600x402-1.jpg
END:VEVENT
BEGIN:VEVENT
DTSTART;TZID=America/Los_Angeles:20270207T000000
DTEND;TZID=America/Los_Angeles:20270207T235900
DTSTAMP:20260425T212439
CREATED:20231130T182426Z
LAST-MODIFIED:20251210T170231Z
UID:10023079-1801958400-1802044740@goldranchrvcasino.com
SUMMARY:Daily Swipe and Win
DESCRIPTION:Monday through Thursdays\, NOW ALL DAY! Swipe your card and win prizes such as FreePlay\, Comps\, points\, food\, discounts and more. Earn 300 points the previous day and get a bonus swipe for guaranteed.
URL:https://goldranchrvcasino.com/event/weekly-swipe-and-win-2/2027-02-07/
CATEGORIES:Featured,Promotions
ATTACH;FMTTYPE=image/jpeg:https://goldranchrvcasino.com/wp-content/uploads/2020/09/2020-AUG-GRV-DAILY-SAW-WEB-600X402.jpg
END:VEVENT
BEGIN:VEVENT
DTSTART;TZID=America/Los_Angeles:20270208T000000
DTEND;TZID=America/Los_Angeles:20270208T235900
DTSTAMP:20260425T212439
CREATED:20231130T182426Z
LAST-MODIFIED:20251210T170231Z
UID:10023080-1802044800-1802131140@goldranchrvcasino.com
SUMMARY:Daily Swipe and Win
DESCRIPTION:Monday through Thursdays\, NOW ALL DAY! Swipe your card and win prizes such as FreePlay\, Comps\, points\, food\, discounts and more. Earn 300 points the previous day and get a bonus swipe for guaranteed.
URL:https://goldranchrvcasino.com/event/weekly-swipe-and-win-2/2027-02-08/
CATEGORIES:Featured,Promotions
ATTACH;FMTTYPE=image/jpeg:https://goldranchrvcasino.com/wp-content/uploads/2020/09/2020-AUG-GRV-DAILY-SAW-WEB-600X402.jpg
END:VEVENT
BEGIN:VEVENT
DTSTART;TZID=America/Los_Angeles:20270209T000000
DTEND;TZID=America/Los_Angeles:20270209T235900
DTSTAMP:20260425T212439
CREATED:20231130T182426Z
LAST-MODIFIED:20251210T170231Z
UID:10023081-1802131200-1802217540@goldranchrvcasino.com
SUMMARY:Daily Swipe and Win
DESCRIPTION:Monday through Thursdays\, NOW ALL DAY! Swipe your card and win prizes such as FreePlay\, Comps\, points\, food\, discounts and more. Earn 300 points the previous day and get a bonus swipe for guaranteed.
URL:https://goldranchrvcasino.com/event/weekly-swipe-and-win-2/2027-02-09/
CATEGORIES:Featured,Promotions
ATTACH;FMTTYPE=image/jpeg:https://goldranchrvcasino.com/wp-content/uploads/2020/09/2020-AUG-GRV-DAILY-SAW-WEB-600X402.jpg
END:VEVENT
BEGIN:VEVENT
DTSTART;VALUE=DATE:20270209
DTEND;VALUE=DATE:20270210
DTSTAMP:20260425T212439
CREATED:20260302T230412Z
LAST-MODIFIED:20260302T230412Z
UID:10024329-1802131200-1802217599@goldranchrvcasino.com
SUMMARY:Slam Dunk Special Earn & Get!
DESCRIPTION:Earn 500 points beginning Tuesday March 24th to get a Gold ranch stress relief basketball. Be one of the first 250 players to claim your prize. Print your voucher at the kiosk and present at Guest Services.
URL:https://goldranchrvcasino.com/event/slam-dunk-special-earn-get/2027-02-09/
CATEGORIES:Featured,Promotions
ATTACH;FMTTYPE=image/jpeg:https://goldranchrvcasino.com/wp-content/uploads/2026/03/2026-03-GRV-Slam-Dunk-Special-EAG-600x402-1.jpg
END:VEVENT
BEGIN:VEVENT
DTSTART;TZID=America/Los_Angeles:20270210T000000
DTEND;TZID=America/Los_Angeles:20270210T235900
DTSTAMP:20260425T212439
CREATED:20231130T182426Z
LAST-MODIFIED:20251210T170231Z
UID:10023082-1802217600-1802303940@goldranchrvcasino.com
SUMMARY:Daily Swipe and Win
DESCRIPTION:Monday through Thursdays\, NOW ALL DAY! Swipe your card and win prizes such as FreePlay\, Comps\, points\, food\, discounts and more. Earn 300 points the previous day and get a bonus swipe for guaranteed.
URL:https://goldranchrvcasino.com/event/weekly-swipe-and-win-2/2027-02-10/
CATEGORIES:Featured,Promotions
ATTACH;FMTTYPE=image/jpeg:https://goldranchrvcasino.com/wp-content/uploads/2020/09/2020-AUG-GRV-DAILY-SAW-WEB-600X402.jpg
END:VEVENT
BEGIN:VEVENT
DTSTART;VALUE=DATE:20270210
DTEND;VALUE=DATE:20270211
DTSTAMP:20260425T212439
CREATED:20260302T230412Z
LAST-MODIFIED:20260302T230412Z
UID:10024330-1802217600-1802303999@goldranchrvcasino.com
SUMMARY:Slam Dunk Special Earn & Get!
DESCRIPTION:Earn 500 points beginning Tuesday March 24th to get a Gold ranch stress relief basketball. Be one of the first 250 players to claim your prize. Print your voucher at the kiosk and present at Guest Services.
URL:https://goldranchrvcasino.com/event/slam-dunk-special-earn-get/2027-02-10/
CATEGORIES:Featured,Promotions
ATTACH;FMTTYPE=image/jpeg:https://goldranchrvcasino.com/wp-content/uploads/2026/03/2026-03-GRV-Slam-Dunk-Special-EAG-600x402-1.jpg
END:VEVENT
BEGIN:VEVENT
DTSTART;TZID=America/Los_Angeles:20270210T060000
DTEND;TZID=America/Los_Angeles:20270210T190000
DTSTAMP:20260425T212439
CREATED:20260302T223353Z
LAST-MODIFIED:20260302T223353Z
UID:10024090-1802239200-1802286000@goldranchrvcasino.com
SUMMARY:Wild Wednesdays
DESCRIPTION:Wild Wednesdays\, where points meet plates!\nEarn 500 points to receive a $20 Food Comp at the Sierra Cafe and Coffee Bar
URL:https://goldranchrvcasino.com/event/wild-wednesdays/2027-02-10/
CATEGORIES:Featured,Promotions
ATTACH;FMTTYPE=image/jpeg:https://goldranchrvcasino.com/wp-content/uploads/2026/03/2026-03-GRV-Wild-Weds-EAG-600x402-1.jpg
END:VEVENT
BEGIN:VEVENT
DTSTART;TZID=America/Los_Angeles:20270211T000000
DTEND;TZID=America/Los_Angeles:20270211T235900
DTSTAMP:20260425T212439
CREATED:20231130T182426Z
LAST-MODIFIED:20251210T170231Z
UID:10023083-1802304000-1802390340@goldranchrvcasino.com
SUMMARY:Daily Swipe and Win
DESCRIPTION:Monday through Thursdays\, NOW ALL DAY! Swipe your card and win prizes such as FreePlay\, Comps\, points\, food\, discounts and more. Earn 300 points the previous day and get a bonus swipe for guaranteed.
URL:https://goldranchrvcasino.com/event/weekly-swipe-and-win-2/2027-02-11/
CATEGORIES:Featured,Promotions
ATTACH;FMTTYPE=image/jpeg:https://goldranchrvcasino.com/wp-content/uploads/2020/09/2020-AUG-GRV-DAILY-SAW-WEB-600X402.jpg
END:VEVENT
BEGIN:VEVENT
DTSTART;VALUE=DATE:20270211
DTEND;VALUE=DATE:20270212
DTSTAMP:20260425T212439
CREATED:20260302T230412Z
LAST-MODIFIED:20260302T230412Z
UID:10024331-1802304000-1802390399@goldranchrvcasino.com
SUMMARY:Slam Dunk Special Earn & Get!
DESCRIPTION:Earn 500 points beginning Tuesday March 24th to get a Gold ranch stress relief basketball. Be one of the first 250 players to claim your prize. Print your voucher at the kiosk and present at Guest Services.
URL:https://goldranchrvcasino.com/event/slam-dunk-special-earn-get/2027-02-11/
CATEGORIES:Featured,Promotions
ATTACH;FMTTYPE=image/jpeg:https://goldranchrvcasino.com/wp-content/uploads/2026/03/2026-03-GRV-Slam-Dunk-Special-EAG-600x402-1.jpg
END:VEVENT
BEGIN:VEVENT
DTSTART;VALUE=DATE:20270212
DTEND;VALUE=DATE:20270213
DTSTAMP:20260425T212439
CREATED:20260302T230412Z
LAST-MODIFIED:20260302T230412Z
UID:10024332-1802390400-1802476799@goldranchrvcasino.com
SUMMARY:Slam Dunk Special Earn & Get!
DESCRIPTION:Earn 500 points beginning Tuesday March 24th to get a Gold ranch stress relief basketball. Be one of the first 250 players to claim your prize. Print your voucher at the kiosk and present at Guest Services.
URL:https://goldranchrvcasino.com/event/slam-dunk-special-earn-get/2027-02-12/
CATEGORIES:Featured,Promotions
ATTACH;FMTTYPE=image/jpeg:https://goldranchrvcasino.com/wp-content/uploads/2026/03/2026-03-GRV-Slam-Dunk-Special-EAG-600x402-1.jpg
END:VEVENT
BEGIN:VEVENT
DTSTART;TZID=America/Los_Angeles:20270212T180000
DTEND;TZID=America/Los_Angeles:20270212T200000
DTSTAMP:20260425T212439
CREATED:20260302T212849Z
LAST-MODIFIED:20260302T212849Z
UID:10023617-1802455200-1802462400@goldranchrvcasino.com
SUMMARY:March Mania
DESCRIPTION:Shoot some mad hoops to win up to $400!\nThe last winner of the night will win everything left on the court. Now that’s a slam dunk!\nColelct tickets all week long.\nCheck in at any promotional kiosk.\nSaturdays: 6:00pm – 8:00pm
URL:https://goldranchrvcasino.com/event/march-mania-2/2027-02-12/
CATEGORIES:Featured,Promotions
ATTACH;FMTTYPE=image/jpeg:https://goldranchrvcasino.com/wp-content/uploads/2026/03/2026-03-GRV-March-Mania-600x402-1.jpg
END:VEVENT
BEGIN:VEVENT
DTSTART;VALUE=DATE:20270213
DTEND;VALUE=DATE:20270214
DTSTAMP:20260425T212439
CREATED:20260302T230412Z
LAST-MODIFIED:20260302T230412Z
UID:10024333-1802476800-1802563199@goldranchrvcasino.com
SUMMARY:Slam Dunk Special Earn & Get!
DESCRIPTION:Earn 500 points beginning Tuesday March 24th to get a Gold ranch stress relief basketball. Be one of the first 250 players to claim your prize. Print your voucher at the kiosk and present at Guest Services.
URL:https://goldranchrvcasino.com/event/slam-dunk-special-earn-get/2027-02-13/
CATEGORIES:Featured,Promotions
ATTACH;FMTTYPE=image/jpeg:https://goldranchrvcasino.com/wp-content/uploads/2026/03/2026-03-GRV-Slam-Dunk-Special-EAG-600x402-1.jpg
END:VEVENT
BEGIN:VEVENT
DTSTART;TZID=America/Los_Angeles:20270213T180000
DTEND;TZID=America/Los_Angeles:20270213T200000
DTSTAMP:20260425T212439
CREATED:20260302T212849Z
LAST-MODIFIED:20260302T212849Z
UID:10023618-1802541600-1802548800@goldranchrvcasino.com
SUMMARY:March Mania
DESCRIPTION:Shoot some mad hoops to win up to $400!\nThe last winner of the night will win everything left on the court. Now that’s a slam dunk!\nColelct tickets all week long.\nCheck in at any promotional kiosk.\nSaturdays: 6:00pm – 8:00pm
URL:https://goldranchrvcasino.com/event/march-mania-2/2027-02-13/
CATEGORIES:Featured,Promotions
ATTACH;FMTTYPE=image/jpeg:https://goldranchrvcasino.com/wp-content/uploads/2026/03/2026-03-GRV-March-Mania-600x402-1.jpg
END:VEVENT
BEGIN:VEVENT
DTSTART;TZID=America/Los_Angeles:20270214T000000
DTEND;TZID=America/Los_Angeles:20270214T235900
DTSTAMP:20260425T212439
CREATED:20231130T182426Z
LAST-MODIFIED:20251210T170231Z
UID:10023084-1802563200-1802649540@goldranchrvcasino.com
SUMMARY:Daily Swipe and Win
DESCRIPTION:Monday through Thursdays\, NOW ALL DAY! Swipe your card and win prizes such as FreePlay\, Comps\, points\, food\, discounts and more. Earn 300 points the previous day and get a bonus swipe for guaranteed.
URL:https://goldranchrvcasino.com/event/weekly-swipe-and-win-2/2027-02-14/
CATEGORIES:Featured,Promotions
ATTACH;FMTTYPE=image/jpeg:https://goldranchrvcasino.com/wp-content/uploads/2020/09/2020-AUG-GRV-DAILY-SAW-WEB-600X402.jpg
END:VEVENT
BEGIN:VEVENT
DTSTART;TZID=America/Los_Angeles:20270215T000000
DTEND;TZID=America/Los_Angeles:20270215T235900
DTSTAMP:20260425T212439
CREATED:20231130T182426Z
LAST-MODIFIED:20251210T170231Z
UID:10023085-1802649600-1802735940@goldranchrvcasino.com
SUMMARY:Daily Swipe and Win
DESCRIPTION:Monday through Thursdays\, NOW ALL DAY! Swipe your card and win prizes such as FreePlay\, Comps\, points\, food\, discounts and more. Earn 300 points the previous day and get a bonus swipe for guaranteed.
URL:https://goldranchrvcasino.com/event/weekly-swipe-and-win-2/2027-02-15/
CATEGORIES:Featured,Promotions
ATTACH;FMTTYPE=image/jpeg:https://goldranchrvcasino.com/wp-content/uploads/2020/09/2020-AUG-GRV-DAILY-SAW-WEB-600X402.jpg
END:VEVENT
BEGIN:VEVENT
DTSTART;TZID=America/Los_Angeles:20270216T000000
DTEND;TZID=America/Los_Angeles:20270216T235900
DTSTAMP:20260425T212439
CREATED:20231130T182426Z
LAST-MODIFIED:20251210T170231Z
UID:10023086-1802736000-1802822340@goldranchrvcasino.com
SUMMARY:Daily Swipe and Win
DESCRIPTION:Monday through Thursdays\, NOW ALL DAY! Swipe your card and win prizes such as FreePlay\, Comps\, points\, food\, discounts and more. Earn 300 points the previous day and get a bonus swipe for guaranteed.
URL:https://goldranchrvcasino.com/event/weekly-swipe-and-win-2/2027-02-16/
CATEGORIES:Featured,Promotions
ATTACH;FMTTYPE=image/jpeg:https://goldranchrvcasino.com/wp-content/uploads/2020/09/2020-AUG-GRV-DAILY-SAW-WEB-600X402.jpg
END:VEVENT
BEGIN:VEVENT
DTSTART;VALUE=DATE:20270216
DTEND;VALUE=DATE:20270217
DTSTAMP:20260425T212439
CREATED:20260302T230412Z
LAST-MODIFIED:20260302T230412Z
UID:10024334-1802736000-1802822399@goldranchrvcasino.com
SUMMARY:Slam Dunk Special Earn & Get!
DESCRIPTION:Earn 500 points beginning Tuesday March 24th to get a Gold ranch stress relief basketball. Be one of the first 250 players to claim your prize. Print your voucher at the kiosk and present at Guest Services.
URL:https://goldranchrvcasino.com/event/slam-dunk-special-earn-get/2027-02-16/
CATEGORIES:Featured,Promotions
ATTACH;FMTTYPE=image/jpeg:https://goldranchrvcasino.com/wp-content/uploads/2026/03/2026-03-GRV-Slam-Dunk-Special-EAG-600x402-1.jpg
END:VEVENT
BEGIN:VEVENT
DTSTART;TZID=America/Los_Angeles:20270217T000000
DTEND;TZID=America/Los_Angeles:20270217T235900
DTSTAMP:20260425T212439
CREATED:20231130T182426Z
LAST-MODIFIED:20251210T170231Z
UID:10023087-1802822400-1802908740@goldranchrvcasino.com
SUMMARY:Daily Swipe and Win
DESCRIPTION:Monday through Thursdays\, NOW ALL DAY! Swipe your card and win prizes such as FreePlay\, Comps\, points\, food\, discounts and more. Earn 300 points the previous day and get a bonus swipe for guaranteed.
URL:https://goldranchrvcasino.com/event/weekly-swipe-and-win-2/2027-02-17/
CATEGORIES:Featured,Promotions
ATTACH;FMTTYPE=image/jpeg:https://goldranchrvcasino.com/wp-content/uploads/2020/09/2020-AUG-GRV-DAILY-SAW-WEB-600X402.jpg
END:VEVENT
END:VCALENDAR