BEGIN:VCALENDAR
VERSION:2.0
PRODID:-//Gold Ranch Casino &amp; RV Resort - ECPv6.15.13//NONSGML v1.0//EN
CALSCALE:GREGORIAN
METHOD:PUBLISH
X-WR-CALNAME:Gold Ranch Casino &amp; RV Resort
X-ORIGINAL-URL:https://goldranchrvcasino.com
X-WR-CALDESC:Events for Gold Ranch Casino &amp; RV Resort
REFRESH-INTERVAL;VALUE=DURATION:PT1H
X-Robots-Tag:noindex
X-PUBLISHED-TTL:PT1H
BEGIN:VTIMEZONE
TZID:America/Los_Angeles
BEGIN:DAYLIGHT
TZOFFSETFROM:-0800
TZOFFSETTO:-0700
TZNAME:PDT
DTSTART:20250309T100000
END:DAYLIGHT
BEGIN:STANDARD
TZOFFSETFROM:-0700
TZOFFSETTO:-0800
TZNAME:PST
DTSTART:20251102T090000
END:STANDARD
BEGIN:DAYLIGHT
TZOFFSETFROM:-0800
TZOFFSETTO:-0700
TZNAME:PDT
DTSTART:20260308T100000
END:DAYLIGHT
BEGIN:STANDARD
TZOFFSETFROM:-0700
TZOFFSETTO:-0800
TZNAME:PST
DTSTART:20261101T090000
END:STANDARD
BEGIN:DAYLIGHT
TZOFFSETFROM:-0800
TZOFFSETTO:-0700
TZNAME:PDT
DTSTART:20270314T100000
END:DAYLIGHT
BEGIN:STANDARD
TZOFFSETFROM:-0700
TZOFFSETTO:-0800
TZNAME:PST
DTSTART:20271107T090000
END:STANDARD
END:VTIMEZONE
BEGIN:VEVENT
DTSTART;TZID=America/Los_Angeles:20260421T000000
DTEND;TZID=America/Los_Angeles:20260421T235900
DTSTAMP:20260421T043202
CREATED:20241029T222902Z
LAST-MODIFIED:20260302T230506Z
UID:10024373-1776729600-1776815940@goldranchrvcasino.com
SUMMARY:5X Point Multiplier
DESCRIPTION:Every Tuesday!\nAll day\, all machines! \nSwipe at the kiosk to activate.
URL:https://goldranchrvcasino.com/event/5x-point-multiplier/2026-04-21/
CATEGORIES:Featured,Promotions
ATTACH;FMTTYPE=image/jpeg:https://goldranchrvcasino.com/wp-content/uploads/2024/10/2024-11-GRV-5X-PTS-MULTI-600x402-1.jpg
END:VEVENT
BEGIN:VEVENT
DTSTART;TZID=America/Los_Angeles:20260428T000000
DTEND;TZID=America/Los_Angeles:20260428T235900
DTSTAMP:20260421T043202
CREATED:20241029T222902Z
LAST-MODIFIED:20260302T230506Z
UID:10024374-1777334400-1777420740@goldranchrvcasino.com
SUMMARY:5X Point Multiplier
DESCRIPTION:Every Tuesday!\nAll day\, all machines! \nSwipe at the kiosk to activate.
URL:https://goldranchrvcasino.com/event/5x-point-multiplier/2026-04-28/
CATEGORIES:Featured,Promotions
ATTACH;FMTTYPE=image/jpeg:https://goldranchrvcasino.com/wp-content/uploads/2024/10/2024-11-GRV-5X-PTS-MULTI-600x402-1.jpg
END:VEVENT
END:VCALENDAR